BEGIN:VCALENDAR
VERSION:2.0
PRODID:-//Mandarin Moose Lodge #42 - ECPv6.15.18//NONSGML v1.0//EN
CALSCALE:GREGORIAN
METHOD:PUBLISH
X-ORIGINAL-URL:https://www.mandarinmoose42.com
X-WR-CALDESC:Events for Mandarin Moose Lodge #42
REFRESH-INTERVAL;VALUE=DURATION:PT1H
X-Robots-Tag:noindex
X-PUBLISHED-TTL:PT1H
BEGIN:VTIMEZONE
TZID:America/New_York
BEGIN:DAYLIGHT
TZOFFSETFROM:-0500
TZOFFSETTO:-0400
TZNAME:EDT
DTSTART:20250309T070000
END:DAYLIGHT
BEGIN:STANDARD
TZOFFSETFROM:-0400
TZOFFSETTO:-0500
TZNAME:EST
DTSTART:20251102T060000
END:STANDARD
BEGIN:DAYLIGHT
TZOFFSETFROM:-0500
TZOFFSETTO:-0400
TZNAME:EDT
DTSTART:20260308T070000
END:DAYLIGHT
BEGIN:STANDARD
TZOFFSETFROM:-0400
TZOFFSETTO:-0500
TZNAME:EST
DTSTART:20261101T060000
END:STANDARD
BEGIN:DAYLIGHT
TZOFFSETFROM:-0500
TZOFFSETTO:-0400
TZNAME:EDT
DTSTART:20270314T070000
END:DAYLIGHT
BEGIN:STANDARD
TZOFFSETFROM:-0400
TZOFFSETTO:-0500
TZNAME:EST
DTSTART:20271107T060000
END:STANDARD
BEGIN:DAYLIGHT
TZOFFSETFROM:-0500
TZOFFSETTO:-0400
TZNAME:EDT
DTSTART:20280312T070000
END:DAYLIGHT
BEGIN:STANDARD
TZOFFSETFROM:-0400
TZOFFSETTO:-0500
TZNAME:EST
DTSTART:20281105T060000
END:STANDARD
END:VTIMEZONE
BEGIN:VEVENT
DTSTART;TZID=America/New_York:20260921T190000
DTEND;TZID=America/New_York:20260921T210000
DTSTAMP:20260420T183356
CREATED:20250505T151020Z
LAST-MODIFIED:20250505T151058Z
UID:10000073-1790017200-1790024400@www.mandarinmoose42.com
SUMMARY:Monday Night Pool League
DESCRIPTION:
URL:https://www.mandarinmoose42.com/event/monday-night-pool-league/2026-09-21/
LOCATION:Mandarin Moose Lodge #42\, 4450 Losco Road\, Jacksonville\, FL\, 32257\, United States
ATTACH;FMTTYPE=image/jpeg:https://www.mandarinmoose42.com/wp-content/uploads/iStock-509796074.jpg
ORGANIZER;CN="Mandarin Moose Lodge #42":MAILTO:Lodge42@mooseunits.org
END:VEVENT
BEGIN:VEVENT
DTSTART;TZID=America/New_York:20260928T190000
DTEND;TZID=America/New_York:20260928T210000
DTSTAMP:20260420T183356
CREATED:20250505T151020Z
LAST-MODIFIED:20250505T151058Z
UID:10000074-1790622000-1790629200@www.mandarinmoose42.com
SUMMARY:Monday Night Pool League
DESCRIPTION:
URL:https://www.mandarinmoose42.com/event/monday-night-pool-league/2026-09-28/
LOCATION:Mandarin Moose Lodge #42\, 4450 Losco Road\, Jacksonville\, FL\, 32257\, United States
ATTACH;FMTTYPE=image/jpeg:https://www.mandarinmoose42.com/wp-content/uploads/iStock-509796074.jpg
ORGANIZER;CN="Mandarin Moose Lodge #42":MAILTO:Lodge42@mooseunits.org
END:VEVENT
BEGIN:VEVENT
DTSTART;TZID=America/New_York:20261005T190000
DTEND;TZID=America/New_York:20261005T210000
DTSTAMP:20260420T183356
CREATED:20250505T151020Z
LAST-MODIFIED:20250505T151058Z
UID:10000075-1791226800-1791234000@www.mandarinmoose42.com
SUMMARY:Monday Night Pool League
DESCRIPTION:
URL:https://www.mandarinmoose42.com/event/monday-night-pool-league/2026-10-05/
LOCATION:Mandarin Moose Lodge #42\, 4450 Losco Road\, Jacksonville\, FL\, 32257\, United States
ATTACH;FMTTYPE=image/jpeg:https://www.mandarinmoose42.com/wp-content/uploads/iStock-509796074.jpg
ORGANIZER;CN="Mandarin Moose Lodge #42":MAILTO:Lodge42@mooseunits.org
END:VEVENT
BEGIN:VEVENT
DTSTART;TZID=America/New_York:20261012T190000
DTEND;TZID=America/New_York:20261012T210000
DTSTAMP:20260420T183356
CREATED:20250505T151020Z
LAST-MODIFIED:20250505T151058Z
UID:10000076-1791831600-1791838800@www.mandarinmoose42.com
SUMMARY:Monday Night Pool League
DESCRIPTION:
URL:https://www.mandarinmoose42.com/event/monday-night-pool-league/2026-10-12/
LOCATION:Mandarin Moose Lodge #42\, 4450 Losco Road\, Jacksonville\, FL\, 32257\, United States
ATTACH;FMTTYPE=image/jpeg:https://www.mandarinmoose42.com/wp-content/uploads/iStock-509796074.jpg
ORGANIZER;CN="Mandarin Moose Lodge #42":MAILTO:Lodge42@mooseunits.org
END:VEVENT
BEGIN:VEVENT
DTSTART;TZID=America/New_York:20261019T190000
DTEND;TZID=America/New_York:20261019T210000
DTSTAMP:20260420T183356
CREATED:20250505T151020Z
LAST-MODIFIED:20250505T151058Z
UID:10000077-1792436400-1792443600@www.mandarinmoose42.com
SUMMARY:Monday Night Pool League
DESCRIPTION:
URL:https://www.mandarinmoose42.com/event/monday-night-pool-league/2026-10-19/
LOCATION:Mandarin Moose Lodge #42\, 4450 Losco Road\, Jacksonville\, FL\, 32257\, United States
ATTACH;FMTTYPE=image/jpeg:https://www.mandarinmoose42.com/wp-content/uploads/iStock-509796074.jpg
ORGANIZER;CN="Mandarin Moose Lodge #42":MAILTO:Lodge42@mooseunits.org
END:VEVENT
BEGIN:VEVENT
DTSTART;TZID=America/New_York:20261026T190000
DTEND;TZID=America/New_York:20261026T210000
DTSTAMP:20260420T183356
CREATED:20250505T151020Z
LAST-MODIFIED:20250505T151058Z
UID:10000078-1793041200-1793048400@www.mandarinmoose42.com
SUMMARY:Monday Night Pool League
DESCRIPTION:
URL:https://www.mandarinmoose42.com/event/monday-night-pool-league/2026-10-26/
LOCATION:Mandarin Moose Lodge #42\, 4450 Losco Road\, Jacksonville\, FL\, 32257\, United States
ATTACH;FMTTYPE=image/jpeg:https://www.mandarinmoose42.com/wp-content/uploads/iStock-509796074.jpg
ORGANIZER;CN="Mandarin Moose Lodge #42":MAILTO:Lodge42@mooseunits.org
END:VEVENT
BEGIN:VEVENT
DTSTART;TZID=America/New_York:20261102T190000
DTEND;TZID=America/New_York:20261102T210000
DTSTAMP:20260420T183356
CREATED:20250505T151020Z
LAST-MODIFIED:20250505T151058Z
UID:10000079-1793646000-1793653200@www.mandarinmoose42.com
SUMMARY:Monday Night Pool League
DESCRIPTION:
URL:https://www.mandarinmoose42.com/event/monday-night-pool-league/2026-11-02/
LOCATION:Mandarin Moose Lodge #42\, 4450 Losco Road\, Jacksonville\, FL\, 32257\, United States
ATTACH;FMTTYPE=image/jpeg:https://www.mandarinmoose42.com/wp-content/uploads/iStock-509796074.jpg
ORGANIZER;CN="Mandarin Moose Lodge #42":MAILTO:Lodge42@mooseunits.org
END:VEVENT
BEGIN:VEVENT
DTSTART;TZID=America/New_York:20261109T190000
DTEND;TZID=America/New_York:20261109T210000
DTSTAMP:20260420T183356
CREATED:20250505T151020Z
LAST-MODIFIED:20250505T151058Z
UID:10000080-1794250800-1794258000@www.mandarinmoose42.com
SUMMARY:Monday Night Pool League
DESCRIPTION:
URL:https://www.mandarinmoose42.com/event/monday-night-pool-league/2026-11-09/
LOCATION:Mandarin Moose Lodge #42\, 4450 Losco Road\, Jacksonville\, FL\, 32257\, United States
ATTACH;FMTTYPE=image/jpeg:https://www.mandarinmoose42.com/wp-content/uploads/iStock-509796074.jpg
ORGANIZER;CN="Mandarin Moose Lodge #42":MAILTO:Lodge42@mooseunits.org
END:VEVENT
BEGIN:VEVENT
DTSTART;TZID=America/New_York:20261116T190000
DTEND;TZID=America/New_York:20261116T210000
DTSTAMP:20260420T183356
CREATED:20250505T151020Z
LAST-MODIFIED:20250505T151058Z
UID:10000081-1794855600-1794862800@www.mandarinmoose42.com
SUMMARY:Monday Night Pool League
DESCRIPTION:
URL:https://www.mandarinmoose42.com/event/monday-night-pool-league/2026-11-16/
LOCATION:Mandarin Moose Lodge #42\, 4450 Losco Road\, Jacksonville\, FL\, 32257\, United States
ATTACH;FMTTYPE=image/jpeg:https://www.mandarinmoose42.com/wp-content/uploads/iStock-509796074.jpg
ORGANIZER;CN="Mandarin Moose Lodge #42":MAILTO:Lodge42@mooseunits.org
END:VEVENT
BEGIN:VEVENT
DTSTART;TZID=America/New_York:20261123T190000
DTEND;TZID=America/New_York:20261123T210000
DTSTAMP:20260420T183356
CREATED:20250505T151020Z
LAST-MODIFIED:20250505T151058Z
UID:10000082-1795460400-1795467600@www.mandarinmoose42.com
SUMMARY:Monday Night Pool League
DESCRIPTION:
URL:https://www.mandarinmoose42.com/event/monday-night-pool-league/2026-11-23/
LOCATION:Mandarin Moose Lodge #42\, 4450 Losco Road\, Jacksonville\, FL\, 32257\, United States
ATTACH;FMTTYPE=image/jpeg:https://www.mandarinmoose42.com/wp-content/uploads/iStock-509796074.jpg
ORGANIZER;CN="Mandarin Moose Lodge #42":MAILTO:Lodge42@mooseunits.org
END:VEVENT
BEGIN:VEVENT
DTSTART;TZID=America/New_York:20261130T190000
DTEND;TZID=America/New_York:20261130T210000
DTSTAMP:20260420T183356
CREATED:20250505T151020Z
LAST-MODIFIED:20250505T151058Z
UID:10000083-1796065200-1796072400@www.mandarinmoose42.com
SUMMARY:Monday Night Pool League
DESCRIPTION:
URL:https://www.mandarinmoose42.com/event/monday-night-pool-league/2026-11-30/
LOCATION:Mandarin Moose Lodge #42\, 4450 Losco Road\, Jacksonville\, FL\, 32257\, United States
ATTACH;FMTTYPE=image/jpeg:https://www.mandarinmoose42.com/wp-content/uploads/iStock-509796074.jpg
ORGANIZER;CN="Mandarin Moose Lodge #42":MAILTO:Lodge42@mooseunits.org
END:VEVENT
BEGIN:VEVENT
DTSTART;TZID=America/New_York:20261207T190000
DTEND;TZID=America/New_York:20261207T210000
DTSTAMP:20260420T183356
CREATED:20250505T151020Z
LAST-MODIFIED:20250505T151058Z
UID:10000084-1796670000-1796677200@www.mandarinmoose42.com
SUMMARY:Monday Night Pool League
DESCRIPTION:
URL:https://www.mandarinmoose42.com/event/monday-night-pool-league/2026-12-07/
LOCATION:Mandarin Moose Lodge #42\, 4450 Losco Road\, Jacksonville\, FL\, 32257\, United States
ATTACH;FMTTYPE=image/jpeg:https://www.mandarinmoose42.com/wp-content/uploads/iStock-509796074.jpg
ORGANIZER;CN="Mandarin Moose Lodge #42":MAILTO:Lodge42@mooseunits.org
END:VEVENT
BEGIN:VEVENT
DTSTART;TZID=America/New_York:20261214T190000
DTEND;TZID=America/New_York:20261214T210000
DTSTAMP:20260420T183356
CREATED:20250505T151020Z
LAST-MODIFIED:20250505T151058Z
UID:10000085-1797274800-1797282000@www.mandarinmoose42.com
SUMMARY:Monday Night Pool League
DESCRIPTION:
URL:https://www.mandarinmoose42.com/event/monday-night-pool-league/2026-12-14/
LOCATION:Mandarin Moose Lodge #42\, 4450 Losco Road\, Jacksonville\, FL\, 32257\, United States
ATTACH;FMTTYPE=image/jpeg:https://www.mandarinmoose42.com/wp-content/uploads/iStock-509796074.jpg
ORGANIZER;CN="Mandarin Moose Lodge #42":MAILTO:Lodge42@mooseunits.org
END:VEVENT
BEGIN:VEVENT
DTSTART;TZID=America/New_York:20261221T190000
DTEND;TZID=America/New_York:20261221T210000
DTSTAMP:20260420T183356
CREATED:20250505T151020Z
LAST-MODIFIED:20250505T151058Z
UID:10000086-1797879600-1797886800@www.mandarinmoose42.com
SUMMARY:Monday Night Pool League
DESCRIPTION:
URL:https://www.mandarinmoose42.com/event/monday-night-pool-league/2026-12-21/
LOCATION:Mandarin Moose Lodge #42\, 4450 Losco Road\, Jacksonville\, FL\, 32257\, United States
ATTACH;FMTTYPE=image/jpeg:https://www.mandarinmoose42.com/wp-content/uploads/iStock-509796074.jpg
ORGANIZER;CN="Mandarin Moose Lodge #42":MAILTO:Lodge42@mooseunits.org
END:VEVENT
BEGIN:VEVENT
DTSTART;TZID=America/New_York:20261228T190000
DTEND;TZID=America/New_York:20261228T210000
DTSTAMP:20260420T183356
CREATED:20250505T151020Z
LAST-MODIFIED:20250505T151058Z
UID:10000087-1798484400-1798491600@www.mandarinmoose42.com
SUMMARY:Monday Night Pool League
DESCRIPTION:
URL:https://www.mandarinmoose42.com/event/monday-night-pool-league/2026-12-28/
LOCATION:Mandarin Moose Lodge #42\, 4450 Losco Road\, Jacksonville\, FL\, 32257\, United States
ATTACH;FMTTYPE=image/jpeg:https://www.mandarinmoose42.com/wp-content/uploads/iStock-509796074.jpg
ORGANIZER;CN="Mandarin Moose Lodge #42":MAILTO:Lodge42@mooseunits.org
END:VEVENT
BEGIN:VEVENT
DTSTART;TZID=America/New_York:20270104T190000
DTEND;TZID=America/New_York:20270104T210000
DTSTAMP:20260420T183356
CREATED:20250505T151020Z
LAST-MODIFIED:20250505T151058Z
UID:10000088-1799089200-1799096400@www.mandarinmoose42.com
SUMMARY:Monday Night Pool League
DESCRIPTION:
URL:https://www.mandarinmoose42.com/event/monday-night-pool-league/2027-01-04/
LOCATION:Mandarin Moose Lodge #42\, 4450 Losco Road\, Jacksonville\, FL\, 32257\, United States
ATTACH;FMTTYPE=image/jpeg:https://www.mandarinmoose42.com/wp-content/uploads/iStock-509796074.jpg
ORGANIZER;CN="Mandarin Moose Lodge #42":MAILTO:Lodge42@mooseunits.org
END:VEVENT
BEGIN:VEVENT
DTSTART;TZID=America/New_York:20270111T190000
DTEND;TZID=America/New_York:20270111T210000
DTSTAMP:20260420T183356
CREATED:20250505T151020Z
LAST-MODIFIED:20250505T151058Z
UID:10000089-1799694000-1799701200@www.mandarinmoose42.com
SUMMARY:Monday Night Pool League
DESCRIPTION:
URL:https://www.mandarinmoose42.com/event/monday-night-pool-league/2027-01-11/
LOCATION:Mandarin Moose Lodge #42\, 4450 Losco Road\, Jacksonville\, FL\, 32257\, United States
ATTACH;FMTTYPE=image/jpeg:https://www.mandarinmoose42.com/wp-content/uploads/iStock-509796074.jpg
ORGANIZER;CN="Mandarin Moose Lodge #42":MAILTO:Lodge42@mooseunits.org
END:VEVENT
BEGIN:VEVENT
DTSTART;TZID=America/New_York:20270118T190000
DTEND;TZID=America/New_York:20270118T210000
DTSTAMP:20260420T183356
CREATED:20250505T151020Z
LAST-MODIFIED:20250505T151058Z
UID:10000090-1800298800-1800306000@www.mandarinmoose42.com
SUMMARY:Monday Night Pool League
DESCRIPTION:
URL:https://www.mandarinmoose42.com/event/monday-night-pool-league/2027-01-18/
LOCATION:Mandarin Moose Lodge #42\, 4450 Losco Road\, Jacksonville\, FL\, 32257\, United States
ATTACH;FMTTYPE=image/jpeg:https://www.mandarinmoose42.com/wp-content/uploads/iStock-509796074.jpg
ORGANIZER;CN="Mandarin Moose Lodge #42":MAILTO:Lodge42@mooseunits.org
END:VEVENT
BEGIN:VEVENT
DTSTART;TZID=America/New_York:20270125T190000
DTEND;TZID=America/New_York:20270125T210000
DTSTAMP:20260420T183356
CREATED:20250505T151020Z
LAST-MODIFIED:20250505T151058Z
UID:10000091-1800903600-1800910800@www.mandarinmoose42.com
SUMMARY:Monday Night Pool League
DESCRIPTION:
URL:https://www.mandarinmoose42.com/event/monday-night-pool-league/2027-01-25/
LOCATION:Mandarin Moose Lodge #42\, 4450 Losco Road\, Jacksonville\, FL\, 32257\, United States
ATTACH;FMTTYPE=image/jpeg:https://www.mandarinmoose42.com/wp-content/uploads/iStock-509796074.jpg
ORGANIZER;CN="Mandarin Moose Lodge #42":MAILTO:Lodge42@mooseunits.org
END:VEVENT
BEGIN:VEVENT
DTSTART;TZID=America/New_York:20270201T190000
DTEND;TZID=America/New_York:20270201T210000
DTSTAMP:20260420T183356
CREATED:20250505T151020Z
LAST-MODIFIED:20250505T151058Z
UID:10000092-1801508400-1801515600@www.mandarinmoose42.com
SUMMARY:Monday Night Pool League
DESCRIPTION:
URL:https://www.mandarinmoose42.com/event/monday-night-pool-league/2027-02-01/
LOCATION:Mandarin Moose Lodge #42\, 4450 Losco Road\, Jacksonville\, FL\, 32257\, United States
ATTACH;FMTTYPE=image/jpeg:https://www.mandarinmoose42.com/wp-content/uploads/iStock-509796074.jpg
ORGANIZER;CN="Mandarin Moose Lodge #42":MAILTO:Lodge42@mooseunits.org
END:VEVENT
BEGIN:VEVENT
DTSTART;TZID=America/New_York:20270208T190000
DTEND;TZID=America/New_York:20270208T210000
DTSTAMP:20260420T183356
CREATED:20250505T151020Z
LAST-MODIFIED:20250505T151058Z
UID:10000093-1802113200-1802120400@www.mandarinmoose42.com
SUMMARY:Monday Night Pool League
DESCRIPTION:
URL:https://www.mandarinmoose42.com/event/monday-night-pool-league/2027-02-08/
LOCATION:Mandarin Moose Lodge #42\, 4450 Losco Road\, Jacksonville\, FL\, 32257\, United States
ATTACH;FMTTYPE=image/jpeg:https://www.mandarinmoose42.com/wp-content/uploads/iStock-509796074.jpg
ORGANIZER;CN="Mandarin Moose Lodge #42":MAILTO:Lodge42@mooseunits.org
END:VEVENT
BEGIN:VEVENT
DTSTART;TZID=America/New_York:20270215T190000
DTEND;TZID=America/New_York:20270215T210000
DTSTAMP:20260420T183356
CREATED:20250505T151020Z
LAST-MODIFIED:20250505T151058Z
UID:10000094-1802718000-1802725200@www.mandarinmoose42.com
SUMMARY:Monday Night Pool League
DESCRIPTION:
URL:https://www.mandarinmoose42.com/event/monday-night-pool-league/2027-02-15/
LOCATION:Mandarin Moose Lodge #42\, 4450 Losco Road\, Jacksonville\, FL\, 32257\, United States
ATTACH;FMTTYPE=image/jpeg:https://www.mandarinmoose42.com/wp-content/uploads/iStock-509796074.jpg
ORGANIZER;CN="Mandarin Moose Lodge #42":MAILTO:Lodge42@mooseunits.org
END:VEVENT
BEGIN:VEVENT
DTSTART;TZID=America/New_York:20270222T190000
DTEND;TZID=America/New_York:20270222T210000
DTSTAMP:20260420T183356
CREATED:20250505T151020Z
LAST-MODIFIED:20250505T151058Z
UID:10000095-1803322800-1803330000@www.mandarinmoose42.com
SUMMARY:Monday Night Pool League
DESCRIPTION:
URL:https://www.mandarinmoose42.com/event/monday-night-pool-league/2027-02-22/
LOCATION:Mandarin Moose Lodge #42\, 4450 Losco Road\, Jacksonville\, FL\, 32257\, United States
ATTACH;FMTTYPE=image/jpeg:https://www.mandarinmoose42.com/wp-content/uploads/iStock-509796074.jpg
ORGANIZER;CN="Mandarin Moose Lodge #42":MAILTO:Lodge42@mooseunits.org
END:VEVENT
BEGIN:VEVENT
DTSTART;TZID=America/New_York:20270301T190000
DTEND;TZID=America/New_York:20270301T210000
DTSTAMP:20260420T183356
CREATED:20250505T151020Z
LAST-MODIFIED:20250505T151058Z
UID:10000096-1803927600-1803934800@www.mandarinmoose42.com
SUMMARY:Monday Night Pool League
DESCRIPTION:
URL:https://www.mandarinmoose42.com/event/monday-night-pool-league/2027-03-01/
LOCATION:Mandarin Moose Lodge #42\, 4450 Losco Road\, Jacksonville\, FL\, 32257\, United States
ATTACH;FMTTYPE=image/jpeg:https://www.mandarinmoose42.com/wp-content/uploads/iStock-509796074.jpg
ORGANIZER;CN="Mandarin Moose Lodge #42":MAILTO:Lodge42@mooseunits.org
END:VEVENT
BEGIN:VEVENT
DTSTART;TZID=America/New_York:20270308T190000
DTEND;TZID=America/New_York:20270308T210000
DTSTAMP:20260420T183356
CREATED:20250505T151020Z
LAST-MODIFIED:20250505T151058Z
UID:10000097-1804532400-1804539600@www.mandarinmoose42.com
SUMMARY:Monday Night Pool League
DESCRIPTION:
URL:https://www.mandarinmoose42.com/event/monday-night-pool-league/2027-03-08/
LOCATION:Mandarin Moose Lodge #42\, 4450 Losco Road\, Jacksonville\, FL\, 32257\, United States
ATTACH;FMTTYPE=image/jpeg:https://www.mandarinmoose42.com/wp-content/uploads/iStock-509796074.jpg
ORGANIZER;CN="Mandarin Moose Lodge #42":MAILTO:Lodge42@mooseunits.org
END:VEVENT
BEGIN:VEVENT
DTSTART;TZID=America/New_York:20270315T190000
DTEND;TZID=America/New_York:20270315T210000
DTSTAMP:20260420T183356
CREATED:20250505T151020Z
LAST-MODIFIED:20250505T151058Z
UID:10000098-1805137200-1805144400@www.mandarinmoose42.com
SUMMARY:Monday Night Pool League
DESCRIPTION:
URL:https://www.mandarinmoose42.com/event/monday-night-pool-league/2027-03-15/
LOCATION:Mandarin Moose Lodge #42\, 4450 Losco Road\, Jacksonville\, FL\, 32257\, United States
ATTACH;FMTTYPE=image/jpeg:https://www.mandarinmoose42.com/wp-content/uploads/iStock-509796074.jpg
ORGANIZER;CN="Mandarin Moose Lodge #42":MAILTO:Lodge42@mooseunits.org
END:VEVENT
BEGIN:VEVENT
DTSTART;TZID=America/New_York:20270322T190000
DTEND;TZID=America/New_York:20270322T210000
DTSTAMP:20260420T183356
CREATED:20250505T151020Z
LAST-MODIFIED:20250505T151058Z
UID:10000099-1805742000-1805749200@www.mandarinmoose42.com
SUMMARY:Monday Night Pool League
DESCRIPTION:
URL:https://www.mandarinmoose42.com/event/monday-night-pool-league/2027-03-22/
LOCATION:Mandarin Moose Lodge #42\, 4450 Losco Road\, Jacksonville\, FL\, 32257\, United States
ATTACH;FMTTYPE=image/jpeg:https://www.mandarinmoose42.com/wp-content/uploads/iStock-509796074.jpg
ORGANIZER;CN="Mandarin Moose Lodge #42":MAILTO:Lodge42@mooseunits.org
END:VEVENT
BEGIN:VEVENT
DTSTART;TZID=America/New_York:20270329T190000
DTEND;TZID=America/New_York:20270329T210000
DTSTAMP:20260420T183356
CREATED:20250505T151020Z
LAST-MODIFIED:20250505T151058Z
UID:10000100-1806346800-1806354000@www.mandarinmoose42.com
SUMMARY:Monday Night Pool League
DESCRIPTION:
URL:https://www.mandarinmoose42.com/event/monday-night-pool-league/2027-03-29/
LOCATION:Mandarin Moose Lodge #42\, 4450 Losco Road\, Jacksonville\, FL\, 32257\, United States
ATTACH;FMTTYPE=image/jpeg:https://www.mandarinmoose42.com/wp-content/uploads/iStock-509796074.jpg
ORGANIZER;CN="Mandarin Moose Lodge #42":MAILTO:Lodge42@mooseunits.org
END:VEVENT
BEGIN:VEVENT
DTSTART;TZID=America/New_York:20270405T190000
DTEND;TZID=America/New_York:20270405T210000
DTSTAMP:20260420T183356
CREATED:20250505T151020Z
LAST-MODIFIED:20250505T151058Z
UID:10000101-1806951600-1806958800@www.mandarinmoose42.com
SUMMARY:Monday Night Pool League
DESCRIPTION:
URL:https://www.mandarinmoose42.com/event/monday-night-pool-league/2027-04-05/
LOCATION:Mandarin Moose Lodge #42\, 4450 Losco Road\, Jacksonville\, FL\, 32257\, United States
ATTACH;FMTTYPE=image/jpeg:https://www.mandarinmoose42.com/wp-content/uploads/iStock-509796074.jpg
ORGANIZER;CN="Mandarin Moose Lodge #42":MAILTO:Lodge42@mooseunits.org
END:VEVENT
BEGIN:VEVENT
DTSTART;TZID=America/New_York:20270412T190000
DTEND;TZID=America/New_York:20270412T210000
DTSTAMP:20260420T183356
CREATED:20250505T151020Z
LAST-MODIFIED:20250505T151058Z
UID:10000102-1807556400-1807563600@www.mandarinmoose42.com
SUMMARY:Monday Night Pool League
DESCRIPTION:
URL:https://www.mandarinmoose42.com/event/monday-night-pool-league/2027-04-12/
LOCATION:Mandarin Moose Lodge #42\, 4450 Losco Road\, Jacksonville\, FL\, 32257\, United States
ATTACH;FMTTYPE=image/jpeg:https://www.mandarinmoose42.com/wp-content/uploads/iStock-509796074.jpg
ORGANIZER;CN="Mandarin Moose Lodge #42":MAILTO:Lodge42@mooseunits.org
END:VEVENT
END:VCALENDAR