BEGIN:VCALENDAR
VERSION:2.0
PRODID:-//Mandarin Moose Lodge #42 - ECPv6.15.18//NONSGML v1.0//EN
CALSCALE:GREGORIAN
METHOD:PUBLISH
X-WR-CALNAME:Mandarin Moose Lodge #42
X-ORIGINAL-URL:https://www.mandarinmoose42.com
X-WR-CALDESC:Events for Mandarin Moose Lodge #42
REFRESH-INTERVAL;VALUE=DURATION:PT1H
X-Robots-Tag:noindex
X-PUBLISHED-TTL:PT1H
BEGIN:VTIMEZONE
TZID:America/New_York
BEGIN:DAYLIGHT
TZOFFSETFROM:-0500
TZOFFSETTO:-0400
TZNAME:EDT
DTSTART:20240310T070000
END:DAYLIGHT
BEGIN:STANDARD
TZOFFSETFROM:-0400
TZOFFSETTO:-0500
TZNAME:EST
DTSTART:20241103T060000
END:STANDARD
BEGIN:DAYLIGHT
TZOFFSETFROM:-0500
TZOFFSETTO:-0400
TZNAME:EDT
DTSTART:20250309T070000
END:DAYLIGHT
BEGIN:STANDARD
TZOFFSETFROM:-0400
TZOFFSETTO:-0500
TZNAME:EST
DTSTART:20251102T060000
END:STANDARD
BEGIN:DAYLIGHT
TZOFFSETFROM:-0500
TZOFFSETTO:-0400
TZNAME:EDT
DTSTART:20260308T070000
END:DAYLIGHT
BEGIN:STANDARD
TZOFFSETFROM:-0400
TZOFFSETTO:-0500
TZNAME:EST
DTSTART:20261101T060000
END:STANDARD
END:VTIMEZONE
BEGIN:VEVENT
DTSTART;TZID=America/New_York:20251101T190000
DTEND;TZID=America/New_York:20251101T230000
DTSTAMP:20260422T185727
CREATED:20251024T164138Z
LAST-MODIFIED:20251024T164138Z
UID:10004155-1762023600-1762038000@www.mandarinmoose42.com
SUMMARY:Last Stand Band
DESCRIPTION:Last Stand – a JAX\, FL band that believes music can inspire your soul! Rock\, Blues\, Southern\, Classic
URL:https://www.mandarinmoose42.com/event/last-stand-band-3/
LOCATION:Mandarin Moose Lodge #42\, 4450 Losco Road\, Jacksonville\, FL\, 32257\, United States
CATEGORIES:Live Music
ATTACH;FMTTYPE=image/jpeg:https://www.mandarinmoose42.com/wp-content/uploads/Last-Stand.jpg
END:VEVENT
BEGIN:VEVENT
DTSTART;TZID=America/New_York:20251102T170000
DTEND;TZID=America/New_York:20251102T220000
DTSTAMP:20260422T185727
CREATED:20250610T142707Z
LAST-MODIFIED:20250610T142707Z
UID:10002066-1762102800-1762120800@www.mandarinmoose42.com
SUMMARY:Pitcher & Pizza Special
DESCRIPTION:12″ Pepperoni or Cheese Pizza \n$15 Soda \n$20 Domestic \n$30 Craft
URL:https://www.mandarinmoose42.com/event/pitcher-pizza-special/2025-11-02/
CATEGORIES:Social Quarters Specials
ATTACH;FMTTYPE=image/jpeg:https://www.mandarinmoose42.com/wp-content/uploads/Pitcher-and-Pizza.jpg
END:VEVENT
BEGIN:VEVENT
DTSTART;TZID=America/New_York:20251103T190000
DTEND;TZID=America/New_York:20251103T210000
DTSTAMP:20260422T185727
CREATED:20250505T151020Z
LAST-MODIFIED:20250505T151058Z
UID:10000027-1762196400-1762203600@www.mandarinmoose42.com
SUMMARY:Monday Night Pool League
DESCRIPTION:
URL:https://www.mandarinmoose42.com/event/monday-night-pool-league/2025-11-03/
LOCATION:Mandarin Moose Lodge #42\, 4450 Losco Road\, Jacksonville\, FL\, 32257\, United States
ATTACH;FMTTYPE=image/jpeg:https://www.mandarinmoose42.com/wp-content/uploads/iStock-509796074.jpg
ORGANIZER;CN="Mandarin Moose Lodge #42":MAILTO:Lodge42@mooseunits.org
END:VEVENT
BEGIN:VEVENT
DTSTART;TZID=America/New_York:20251104T190000
DTEND;TZID=America/New_York:20251104T200000
DTSTAMP:20260422T185727
CREATED:20250904T204821Z
LAST-MODIFIED:20250904T204922Z
UID:10003724-1762282800-1762286400@www.mandarinmoose42.com
SUMMARY:General Membership Meeting
DESCRIPTION:Join us on the first and third Tuesday of the month for the General Membership Meeting in the Hall.
URL:https://www.mandarinmoose42.com/event/general-membership-meeting-2-2-2/2025-11-04/
LOCATION:Mandarin Moose Lodge #42\, 4450 Losco Road\, Jacksonville\, FL\, 32257\, United States
CATEGORIES:Meeting
ATTACH;FMTTYPE=image/jpeg:https://www.mandarinmoose42.com/wp-content/uploads/Meeting.jpg
ORGANIZER;CN="Mandarin Moose Lodge #42":MAILTO:Lodge42@mooseunits.org
END:VEVENT
BEGIN:VEVENT
DTSTART;TZID=America/New_York:20251104T193000
DTEND;TZID=America/New_York:20251104T200000
DTSTAMP:20260422T185727
CREATED:20250610T135445Z
LAST-MODIFIED:20250610T135445Z
UID:10001671-1762284600-1762286400@www.mandarinmoose42.com
SUMMARY:Queen of Hearts Drawing
DESCRIPTION:
URL:https://www.mandarinmoose42.com/event/queen-of-hearts-drawing/2025-11-04/
CATEGORIES:Fundraiser
ATTACH;FMTTYPE=image/jpeg:https://www.mandarinmoose42.com/wp-content/uploads/Queen-of-Hearts.jpg
END:VEVENT
BEGIN:VEVENT
DTSTART;TZID=America/New_York:20251105T190000
DTEND;TZID=America/New_York:20251105T210000
DTSTAMP:20260422T185727
CREATED:20251024T135257Z
LAST-MODIFIED:20251024T135349Z
UID:10000681-1762369200-1762376400@www.mandarinmoose42.com
SUMMARY:Bingo CANCELLED
DESCRIPTION:Join us for Bingo in the Hall for fun and great prizes!
URL:https://www.mandarinmoose42.com/event/bingo-4/2025-11-05/
ATTACH;FMTTYPE=image/jpeg:https://www.mandarinmoose42.com/wp-content/uploads/Bingo.jpg
END:VEVENT
BEGIN:VEVENT
DTSTART;TZID=America/New_York:20251106T190000
DTEND;TZID=America/New_York:20251106T210000
DTSTAMP:20260422T185727
CREATED:20250505T163800Z
LAST-MODIFIED:20250505T163904Z
UID:10000942-1762455600-1762462800@www.mandarinmoose42.com
SUMMARY:Trivia in the Social Quarters
DESCRIPTION:
URL:https://www.mandarinmoose42.com/event/trivia-in-the-social-quarters/2025-11-06/
ATTACH;FMTTYPE=image/jpeg:https://www.mandarinmoose42.com/wp-content/uploads/Trivia.jpg
END:VEVENT
BEGIN:VEVENT
DTSTART;TZID=America/New_York:20251107T200000
DTEND;TZID=America/New_York:20251108T000000
DTSTAMP:20260422T185727
CREATED:20251024T140657Z
LAST-MODIFIED:20251024T140657Z
UID:10004154-1762545600-1762560000@www.mandarinmoose42.com
SUMMARY:Karaoke with Bobby Bubbles
DESCRIPTION:
URL:https://www.mandarinmoose42.com/event/karaoke-with-bobby-bubbles-3/
CATEGORIES:Live Music
ATTACH;FMTTYPE=image/jpeg:https://www.mandarinmoose42.com/wp-content/uploads/Karaoke-scaled.jpg
END:VEVENT
BEGIN:VEVENT
DTSTART;TZID=America/New_York:20251108T120000
DTEND;TZID=America/New_York:20251108T150000
DTSTAMP:20260422T185727
CREATED:20251024T184521Z
LAST-MODIFIED:20251024T184521Z
UID:10004166-1762603200-1762614000@www.mandarinmoose42.com
SUMMARY:Veterans Appreciation Day
DESCRIPTION:Mandarin Moose #42 Members Only \nFree lunch and beverage for all Mandarin Moose 42 Valued Veterans
URL:https://www.mandarinmoose42.com/event/veterans-appreciation-day-6/
LOCATION:Mandarin Moose Lodge #42\, 4450 Losco Road\, Jacksonville\, FL\, 32257\, United States
CATEGORIES:Veterans
ATTACH;FMTTYPE=image/jpeg:https://www.mandarinmoose42.com/wp-content/uploads/Veterans-appreciation.jpg
END:VEVENT
BEGIN:VEVENT
DTSTART;TZID=America/New_York:20251108T190000
DTEND;TZID=America/New_York:20251108T230000
DTSTAMP:20260422T185727
CREATED:20251024T164212Z
LAST-MODIFIED:20251024T164212Z
UID:10004156-1762628400-1762642800@www.mandarinmoose42.com
SUMMARY:Double Shot Band
DESCRIPTION:
URL:https://www.mandarinmoose42.com/event/double-shot-band-3/
CATEGORIES:Live Music
ATTACH;FMTTYPE=image/png:https://www.mandarinmoose42.com/wp-content/uploads/Double-Shot-Band.png
END:VEVENT
BEGIN:VEVENT
DTSTART;TZID=America/New_York:20251109T170000
DTEND;TZID=America/New_York:20251109T220000
DTSTAMP:20260422T185727
CREATED:20250610T142707Z
LAST-MODIFIED:20250610T142707Z
UID:10002067-1762707600-1762725600@www.mandarinmoose42.com
SUMMARY:Pitcher & Pizza Special
DESCRIPTION:12″ Pepperoni or Cheese Pizza \n$15 Soda \n$20 Domestic \n$30 Craft
URL:https://www.mandarinmoose42.com/event/pitcher-pizza-special/2025-11-09/
CATEGORIES:Social Quarters Specials
ATTACH;FMTTYPE=image/jpeg:https://www.mandarinmoose42.com/wp-content/uploads/Pitcher-and-Pizza.jpg
END:VEVENT
BEGIN:VEVENT
DTSTART;TZID=America/New_York:20251110T190000
DTEND;TZID=America/New_York:20251110T210000
DTSTAMP:20260422T185727
CREATED:20250505T151020Z
LAST-MODIFIED:20250505T151058Z
UID:10000028-1762801200-1762808400@www.mandarinmoose42.com
SUMMARY:Monday Night Pool League
DESCRIPTION:
URL:https://www.mandarinmoose42.com/event/monday-night-pool-league/2025-11-10/
LOCATION:Mandarin Moose Lodge #42\, 4450 Losco Road\, Jacksonville\, FL\, 32257\, United States
ATTACH;FMTTYPE=image/jpeg:https://www.mandarinmoose42.com/wp-content/uploads/iStock-509796074.jpg
ORGANIZER;CN="Mandarin Moose Lodge #42":MAILTO:Lodge42@mooseunits.org
END:VEVENT
BEGIN:VEVENT
DTSTART;TZID=America/New_York:20251111T183000
DTEND;TZID=America/New_York:20251111T193000
DTSTAMP:20260422T185727
CREATED:20251024T134833Z
LAST-MODIFIED:20251024T134833Z
UID:10004144-1762885800-1762889400@www.mandarinmoose42.com
SUMMARY:Moose Legion Meeting
DESCRIPTION:
URL:https://www.mandarinmoose42.com/event/moose-legion-meeting-4/
LOCATION:Mandarin Moose Lodge #42\, 4450 Losco Road\, Jacksonville\, FL\, 32257\, United States
CATEGORIES:Meeting,Moose Legion
ATTACH;FMTTYPE=image/webp:https://www.mandarinmoose42.com/wp-content/uploads/moose-legion-service-logo.webp
END:VEVENT
BEGIN:VEVENT
DTSTART;TZID=America/New_York:20251111T193000
DTEND;TZID=America/New_York:20251111T200000
DTSTAMP:20260422T185727
CREATED:20250610T135445Z
LAST-MODIFIED:20250610T135445Z
UID:10001672-1762889400-1762891200@www.mandarinmoose42.com
SUMMARY:Queen of Hearts Drawing
DESCRIPTION:
URL:https://www.mandarinmoose42.com/event/queen-of-hearts-drawing/2025-11-11/
CATEGORIES:Fundraiser
ATTACH;FMTTYPE=image/jpeg:https://www.mandarinmoose42.com/wp-content/uploads/Queen-of-Hearts.jpg
END:VEVENT
BEGIN:VEVENT
DTSTART;TZID=America/New_York:20251112T190000
DTEND;TZID=America/New_York:20251112T210000
DTSTAMP:20260422T185727
CREATED:20251024T135257Z
LAST-MODIFIED:20251024T135349Z
UID:10000682-1762974000-1762981200@www.mandarinmoose42.com
SUMMARY:Bingo CANCELLED
DESCRIPTION:Join us for Bingo in the Hall for fun and great prizes!
URL:https://www.mandarinmoose42.com/event/bingo-4/2025-11-12/
ATTACH;FMTTYPE=image/jpeg:https://www.mandarinmoose42.com/wp-content/uploads/Bingo.jpg
END:VEVENT
BEGIN:VEVENT
DTSTART;TZID=America/New_York:20251113T183000
DTEND;TZID=America/New_York:20251113T193000
DTSTAMP:20260422T185727
CREATED:20251024T134504Z
LAST-MODIFIED:20251024T134541Z
UID:10003985-1763058600-1763062200@www.mandarinmoose42.com
SUMMARY:WOTM Meeting in the Hall
DESCRIPTION:
URL:https://www.mandarinmoose42.com/event/wotm-meeting-in-the-hall-2-2-2/
CATEGORIES:WOTM
ATTACH;FMTTYPE=image/jpeg:https://www.mandarinmoose42.com/wp-content/uploads/WOTM-Loop-Heart-Logo.jpg
END:VEVENT
BEGIN:VEVENT
DTSTART;TZID=America/New_York:20251113T190000
DTEND;TZID=America/New_York:20251113T210000
DTSTAMP:20260422T185727
CREATED:20250505T163800Z
LAST-MODIFIED:20250505T163904Z
UID:10000943-1763060400-1763067600@www.mandarinmoose42.com
SUMMARY:Trivia in the Social Quarters
DESCRIPTION:
URL:https://www.mandarinmoose42.com/event/trivia-in-the-social-quarters/2025-11-13/
ATTACH;FMTTYPE=image/jpeg:https://www.mandarinmoose42.com/wp-content/uploads/Trivia.jpg
END:VEVENT
BEGIN:VEVENT
DTSTART;TZID=America/New_York:20251114T180000
DTEND;TZID=America/New_York:20251114T210000
DTSTAMP:20260422T185727
CREATED:20251024T164343Z
LAST-MODIFIED:20251024T164343Z
UID:10004158-1763143200-1763154000@www.mandarinmoose42.com
SUMMARY:Moosehaven Dinner
DESCRIPTION:
URL:https://www.mandarinmoose42.com/event/moosehaven-dinner-6/
CATEGORIES:Moosehaven
ATTACH;FMTTYPE=image/webp:https://www.mandarinmoose42.com/wp-content/uploads/moosehaven-logo.webp
END:VEVENT
BEGIN:VEVENT
DTSTART;TZID=America/New_York:20251114T200000
DTEND;TZID=America/New_York:20251114T230000
DTSTAMP:20260422T185727
CREATED:20251024T164254Z
LAST-MODIFIED:20251024T164254Z
UID:10004157-1763150400-1763161200@www.mandarinmoose42.com
SUMMARY:George Aspinall Band
DESCRIPTION:
URL:https://www.mandarinmoose42.com/event/george-aspinall-band-3/
LOCATION:Mandarin Moose Lodge #42\, 4450 Losco Road\, Jacksonville\, FL\, 32257\, United States
CATEGORIES:Live Music
ATTACH;FMTTYPE=image/jpeg:https://www.mandarinmoose42.com/wp-content/uploads/George-Aspinall.jpg
END:VEVENT
BEGIN:VEVENT
DTSTART;TZID=America/New_York:20251115T190000
DTEND;TZID=America/New_York:20251115T230000
DTSTAMP:20260422T185727
CREATED:20251024T164411Z
LAST-MODIFIED:20251024T164411Z
UID:10004159-1763233200-1763247600@www.mandarinmoose42.com
SUMMARY:Bigg Jeff
DESCRIPTION:Join Bigg Jeff in the social quarters
URL:https://www.mandarinmoose42.com/event/bigg-jeff-2/
CATEGORIES:Live Music
ATTACH;FMTTYPE=image/jpeg:https://www.mandarinmoose42.com/wp-content/uploads/Live-Music.jpg
END:VEVENT
BEGIN:VEVENT
DTSTART;TZID=America/New_York:20251116T170000
DTEND;TZID=America/New_York:20251116T220000
DTSTAMP:20260422T185727
CREATED:20250610T142707Z
LAST-MODIFIED:20250610T142707Z
UID:10002068-1763312400-1763330400@www.mandarinmoose42.com
SUMMARY:Pitcher & Pizza Special
DESCRIPTION:12″ Pepperoni or Cheese Pizza \n$15 Soda \n$20 Domestic \n$30 Craft
URL:https://www.mandarinmoose42.com/event/pitcher-pizza-special/2025-11-16/
CATEGORIES:Social Quarters Specials
ATTACH;FMTTYPE=image/jpeg:https://www.mandarinmoose42.com/wp-content/uploads/Pitcher-and-Pizza.jpg
END:VEVENT
BEGIN:VEVENT
DTSTART;TZID=America/New_York:20251117T190000
DTEND;TZID=America/New_York:20251117T210000
DTSTAMP:20260422T185727
CREATED:20250505T151020Z
LAST-MODIFIED:20250505T151058Z
UID:10000029-1763406000-1763413200@www.mandarinmoose42.com
SUMMARY:Monday Night Pool League
DESCRIPTION:
URL:https://www.mandarinmoose42.com/event/monday-night-pool-league/2025-11-17/
LOCATION:Mandarin Moose Lodge #42\, 4450 Losco Road\, Jacksonville\, FL\, 32257\, United States
ATTACH;FMTTYPE=image/jpeg:https://www.mandarinmoose42.com/wp-content/uploads/iStock-509796074.jpg
ORGANIZER;CN="Mandarin Moose Lodge #42":MAILTO:Lodge42@mooseunits.org
END:VEVENT
BEGIN:VEVENT
DTSTART;TZID=America/New_York:20251118T190000
DTEND;TZID=America/New_York:20251118T200000
DTSTAMP:20260422T185727
CREATED:20250904T204821Z
LAST-MODIFIED:20250904T204922Z
UID:10003725-1763492400-1763496000@www.mandarinmoose42.com
SUMMARY:General Membership Meeting
DESCRIPTION:Join us on the first and third Tuesday of the month for the General Membership Meeting in the Hall.
URL:https://www.mandarinmoose42.com/event/general-membership-meeting-2-2-2/2025-11-18/
LOCATION:Mandarin Moose Lodge #42\, 4450 Losco Road\, Jacksonville\, FL\, 32257\, United States
CATEGORIES:Meeting
ATTACH;FMTTYPE=image/jpeg:https://www.mandarinmoose42.com/wp-content/uploads/Meeting.jpg
ORGANIZER;CN="Mandarin Moose Lodge #42":MAILTO:Lodge42@mooseunits.org
END:VEVENT
BEGIN:VEVENT
DTSTART;TZID=America/New_York:20251118T193000
DTEND;TZID=America/New_York:20251118T200000
DTSTAMP:20260422T185727
CREATED:20250610T135445Z
LAST-MODIFIED:20250610T135445Z
UID:10001673-1763494200-1763496000@www.mandarinmoose42.com
SUMMARY:Queen of Hearts Drawing
DESCRIPTION:
URL:https://www.mandarinmoose42.com/event/queen-of-hearts-drawing/2025-11-18/
CATEGORIES:Fundraiser
ATTACH;FMTTYPE=image/jpeg:https://www.mandarinmoose42.com/wp-content/uploads/Queen-of-Hearts.jpg
END:VEVENT
BEGIN:VEVENT
DTSTART;TZID=America/New_York:20251119T190000
DTEND;TZID=America/New_York:20251119T210000
DTSTAMP:20260422T185727
CREATED:20251024T135257Z
LAST-MODIFIED:20251024T135349Z
UID:10000683-1763578800-1763586000@www.mandarinmoose42.com
SUMMARY:Bingo CANCELLED
DESCRIPTION:Join us for Bingo in the Hall for fun and great prizes!
URL:https://www.mandarinmoose42.com/event/bingo-4/2025-11-19/
ATTACH;FMTTYPE=image/jpeg:https://www.mandarinmoose42.com/wp-content/uploads/Bingo.jpg
END:VEVENT
BEGIN:VEVENT
DTSTART;TZID=America/New_York:20251120T190000
DTEND;TZID=America/New_York:20251120T210000
DTSTAMP:20260422T185727
CREATED:20250505T163800Z
LAST-MODIFIED:20250505T163904Z
UID:10000944-1763665200-1763672400@www.mandarinmoose42.com
SUMMARY:Trivia in the Social Quarters
DESCRIPTION:
URL:https://www.mandarinmoose42.com/event/trivia-in-the-social-quarters/2025-11-20/
ATTACH;FMTTYPE=image/jpeg:https://www.mandarinmoose42.com/wp-content/uploads/Trivia.jpg
END:VEVENT
BEGIN:VEVENT
DTSTART;TZID=America/New_York:20251121T190000
DTEND;TZID=America/New_York:20251121T230000
DTSTAMP:20260422T185727
CREATED:20251024T164456Z
LAST-MODIFIED:20251024T164456Z
UID:10004160-1763751600-1763766000@www.mandarinmoose42.com
SUMMARY:StrangeR ThingS Band
DESCRIPTION:StrangeR ThingS is a 4 piece Metal Country / Rock Cover Band. Voted Most Original Cover Band in FL!
URL:https://www.mandarinmoose42.com/event/stranger-things-band-3/
CATEGORIES:Live Music
ATTACH;FMTTYPE=image/jpeg:https://www.mandarinmoose42.com/wp-content/uploads/Stranger-Things-Band.jpg
END:VEVENT
BEGIN:VEVENT
DTSTART;TZID=America/New_York:20251122T180000
DTEND;TZID=America/New_York:20251122T200000
DTSTAMP:20260422T185727
CREATED:20251024T185632Z
LAST-MODIFIED:20251024T185632Z
UID:10004168-1763834400-1763841600@www.mandarinmoose42.com
SUMMARY:Valued Veterans Honor Dinner
DESCRIPTION:Free to Mandarin Moose #42 Veterans \nPlease email the Lodge Administrator to reserve your spot. \nLodge42@mooseunits.org
URL:https://www.mandarinmoose42.com/event/valued-veterans-honor-dinner/
CATEGORIES:Veterans
ATTACH;FMTTYPE=image/png:https://www.mandarinmoose42.com/wp-content/uploads/2025-VV-Honor-Dinner-Flyer.png
END:VEVENT
BEGIN:VEVENT
DTSTART;TZID=America/New_York:20251122T190000
DTEND;TZID=America/New_York:20251122T230000
DTSTAMP:20260422T185727
CREATED:20251024T164532Z
LAST-MODIFIED:20251024T164532Z
UID:10004161-1763838000-1763852400@www.mandarinmoose42.com
SUMMARY:Double Oaked
DESCRIPTION:Skynyrd\, Aldean\, Petty\, Chilis\, Wallen\, and so much more! We perform all around the Jax/St Augustine area (bars and parties) …come check us out!
URL:https://www.mandarinmoose42.com/event/double-oaked-2/
CATEGORIES:Live Music
ATTACH;FMTTYPE=image/jpeg:https://www.mandarinmoose42.com/wp-content/uploads/Double-Oaked.jpg
END:VEVENT
BEGIN:VEVENT
DTSTART;TZID=America/New_York:20251123T170000
DTEND;TZID=America/New_York:20251123T220000
DTSTAMP:20260422T185727
CREATED:20250610T142707Z
LAST-MODIFIED:20250610T142707Z
UID:10002069-1763917200-1763935200@www.mandarinmoose42.com
SUMMARY:Pitcher & Pizza Special
DESCRIPTION:12″ Pepperoni or Cheese Pizza \n$15 Soda \n$20 Domestic \n$30 Craft
URL:https://www.mandarinmoose42.com/event/pitcher-pizza-special/2025-11-23/
CATEGORIES:Social Quarters Specials
ATTACH;FMTTYPE=image/jpeg:https://www.mandarinmoose42.com/wp-content/uploads/Pitcher-and-Pizza.jpg
END:VEVENT
END:VCALENDAR