BEGIN:VCALENDAR
VERSION:2.0
PRODID:-//Mandarin Moose Lodge #42 - ECPv6.15.18//NONSGML v1.0//EN
CALSCALE:GREGORIAN
METHOD:PUBLISH
X-ORIGINAL-URL:https://www.mandarinmoose42.com
X-WR-CALDESC:Events for Mandarin Moose Lodge #42
REFRESH-INTERVAL;VALUE=DURATION:PT1H
X-Robots-Tag:noindex
X-PUBLISHED-TTL:PT1H
BEGIN:VTIMEZONE
TZID:America/New_York
BEGIN:DAYLIGHT
TZOFFSETFROM:-0500
TZOFFSETTO:-0400
TZNAME:EDT
DTSTART:20250309T070000
END:DAYLIGHT
BEGIN:STANDARD
TZOFFSETFROM:-0400
TZOFFSETTO:-0500
TZNAME:EST
DTSTART:20251102T060000
END:STANDARD
BEGIN:DAYLIGHT
TZOFFSETFROM:-0500
TZOFFSETTO:-0400
TZNAME:EDT
DTSTART:20260308T070000
END:DAYLIGHT
BEGIN:STANDARD
TZOFFSETFROM:-0400
TZOFFSETTO:-0500
TZNAME:EST
DTSTART:20261101T060000
END:STANDARD
BEGIN:DAYLIGHT
TZOFFSETFROM:-0500
TZOFFSETTO:-0400
TZNAME:EDT
DTSTART:20270314T070000
END:DAYLIGHT
BEGIN:STANDARD
TZOFFSETFROM:-0400
TZOFFSETTO:-0500
TZNAME:EST
DTSTART:20271107T060000
END:STANDARD
END:VTIMEZONE
BEGIN:VEVENT
DTSTART;TZID=America/New_York:20260526T193000
DTEND;TZID=America/New_York:20260526T200000
DTSTAMP:20260421T014356
CREATED:20250610T135445Z
LAST-MODIFIED:20250610T135445Z
UID:10001700-1779823800-1779825600@www.mandarinmoose42.com
SUMMARY:Queen of Hearts Drawing
DESCRIPTION:
URL:https://www.mandarinmoose42.com/event/queen-of-hearts-drawing/2026-05-26/
CATEGORIES:Fundraiser
ATTACH;FMTTYPE=image/jpeg:https://www.mandarinmoose42.com/wp-content/uploads/Queen-of-Hearts.jpg
END:VEVENT
BEGIN:VEVENT
DTSTART;TZID=America/New_York:20260527T190000
DTEND;TZID=America/New_York:20260527T210000
DTSTAMP:20260421T014356
CREATED:20251024T135633Z
LAST-MODIFIED:20251024T135644Z
UID:10000710-1779908400-1779915600@www.mandarinmoose42.com
SUMMARY:Bingo is BACK!!!
DESCRIPTION:Join us for Bingo in the Hall for fun and great prizes!
URL:https://www.mandarinmoose42.com/event/bingo-5/2026-05-27/
ATTACH;FMTTYPE=image/jpeg:https://www.mandarinmoose42.com/wp-content/uploads/Bingo.jpg
END:VEVENT
BEGIN:VEVENT
DTSTART;TZID=America/New_York:20260528T120000
DTEND;TZID=America/New_York:20260528T150000
DTSTAMP:20260421T014356
CREATED:20260416T131708Z
LAST-MODIFIED:20260416T131745Z
UID:10005093-1779969600-1779980400@www.mandarinmoose42.com
SUMMARY:Moosehaven Lunch and Bingo
DESCRIPTION:
URL:https://www.mandarinmoose42.com/event/moosehaven-lunch-and-bingo-5/
CATEGORIES:Moosehaven
ATTACH;FMTTYPE=image/webp:https://www.mandarinmoose42.com/wp-content/uploads/moosehaven-logo.webp
END:VEVENT
BEGIN:VEVENT
DTSTART;TZID=America/New_York:20260528T190000
DTEND;TZID=America/New_York:20260528T210000
DTSTAMP:20260421T014356
CREATED:20250505T163800Z
LAST-MODIFIED:20250505T163904Z
UID:10000971-1779994800-1780002000@www.mandarinmoose42.com
SUMMARY:Trivia in the Social Quarters
DESCRIPTION:
URL:https://www.mandarinmoose42.com/event/trivia-in-the-social-quarters/2026-05-28/
ATTACH;FMTTYPE=image/jpeg:https://www.mandarinmoose42.com/wp-content/uploads/Trivia.jpg
END:VEVENT
BEGIN:VEVENT
DTSTART;TZID=America/New_York:20260529T190000
DTEND;TZID=America/New_York:20260529T230000
DTSTAMP:20260421T014356
CREATED:20260416T132438Z
LAST-MODIFIED:20260416T132438Z
UID:10005097-1780081200-1780095600@www.mandarinmoose42.com
SUMMARY:Mad Hatter Band
DESCRIPTION:Rock n’ roll cover band
URL:https://www.mandarinmoose42.com/event/mad-hatter-band/
CATEGORIES:Live Music
ATTACH;FMTTYPE=image/jpeg:https://www.mandarinmoose42.com/wp-content/uploads/Mad-Hatter.jpg
END:VEVENT
BEGIN:VEVENT
DTSTART;TZID=America/New_York:20260530T110000
DTEND;TZID=America/New_York:20260530T170000
DTSTAMP:20260421T014356
CREATED:20260416T125947Z
LAST-MODIFIED:20260416T125947Z
UID:10005062-1780138800-1780160400@www.mandarinmoose42.com
SUMMARY:Tiki Bar Open
DESCRIPTION:
URL:https://www.mandarinmoose42.com/event/tiki-bar-open-4/2026-05-30/
CATEGORIES:Tiki Bar
ATTACH;FMTTYPE=image/jpeg:https://www.mandarinmoose42.com/wp-content/uploads/tiki.jpg
END:VEVENT
BEGIN:VEVENT
DTSTART;TZID=America/New_York:20260530T120000
DTEND;TZID=America/New_York:20260530T130000
DTSTAMP:20260421T014356
CREATED:20260416T132601Z
LAST-MODIFIED:20260416T132601Z
UID:10005098-1780142400-1780146000@www.mandarinmoose42.com
SUMMARY:New Member Orientation
DESCRIPTION:
URL:https://www.mandarinmoose42.com/event/new-member-orientation-9/
CATEGORIES:Orientation
ATTACH;FMTTYPE=image/jpeg:https://www.mandarinmoose42.com/wp-content/uploads/New-Member.jpg
END:VEVENT
BEGIN:VEVENT
DTSTART;TZID=America/New_York:20260530T190000
DTEND;TZID=America/New_York:20260530T230000
DTSTAMP:20260421T014356
CREATED:20260416T132651Z
LAST-MODIFIED:20260416T132651Z
UID:10005099-1780167600-1780182000@www.mandarinmoose42.com
SUMMARY:Once Again Band
DESCRIPTION:A Local Power Trio performing Rock\, Country\, & More! Vic\, Duke\, & Bonn bring something for everyone!
URL:https://www.mandarinmoose42.com/event/once-again-band-6/
CATEGORIES:Live Music
ATTACH;FMTTYPE=image/jpeg:https://www.mandarinmoose42.com/wp-content/uploads/Once-Again.jpg
END:VEVENT
BEGIN:VEVENT
DTSTART;TZID=America/New_York:20260531T110000
DTEND;TZID=America/New_York:20260531T170000
DTSTAMP:20260421T014356
CREATED:20260416T125947Z
LAST-MODIFIED:20260416T125947Z
UID:10005063-1780225200-1780246800@www.mandarinmoose42.com
SUMMARY:Tiki Bar Open
DESCRIPTION:
URL:https://www.mandarinmoose42.com/event/tiki-bar-open-4/2026-05-31/
CATEGORIES:Tiki Bar
ATTACH;FMTTYPE=image/jpeg:https://www.mandarinmoose42.com/wp-content/uploads/tiki.jpg
END:VEVENT
BEGIN:VEVENT
DTSTART;TZID=America/New_York:20260601T190000
DTEND;TZID=America/New_York:20260601T210000
DTSTAMP:20260421T014356
CREATED:20250505T151020Z
LAST-MODIFIED:20250505T151058Z
UID:10000057-1780340400-1780347600@www.mandarinmoose42.com
SUMMARY:Monday Night Pool League
DESCRIPTION:
URL:https://www.mandarinmoose42.com/event/monday-night-pool-league/2026-06-01/
LOCATION:Mandarin Moose Lodge #42\, 4450 Losco Road\, Jacksonville\, FL\, 32257\, United States
ATTACH;FMTTYPE=image/jpeg:https://www.mandarinmoose42.com/wp-content/uploads/iStock-509796074.jpg
ORGANIZER;CN="Mandarin Moose Lodge #42":MAILTO:Lodge42@mooseunits.org
END:VEVENT
BEGIN:VEVENT
DTSTART;TZID=America/New_York:20260602T193000
DTEND;TZID=America/New_York:20260602T200000
DTSTAMP:20260421T014356
CREATED:20250610T135445Z
LAST-MODIFIED:20250610T135445Z
UID:10001701-1780428600-1780430400@www.mandarinmoose42.com
SUMMARY:Queen of Hearts Drawing
DESCRIPTION:
URL:https://www.mandarinmoose42.com/event/queen-of-hearts-drawing/2026-06-02/
CATEGORIES:Fundraiser
ATTACH;FMTTYPE=image/jpeg:https://www.mandarinmoose42.com/wp-content/uploads/Queen-of-Hearts.jpg
END:VEVENT
BEGIN:VEVENT
DTSTART;TZID=America/New_York:20260603T190000
DTEND;TZID=America/New_York:20260603T210000
DTSTAMP:20260421T014356
CREATED:20251024T135633Z
LAST-MODIFIED:20251024T135644Z
UID:10000711-1780513200-1780520400@www.mandarinmoose42.com
SUMMARY:Bingo is BACK!!!
DESCRIPTION:Join us for Bingo in the Hall for fun and great prizes!
URL:https://www.mandarinmoose42.com/event/bingo-5/2026-06-03/
ATTACH;FMTTYPE=image/jpeg:https://www.mandarinmoose42.com/wp-content/uploads/Bingo.jpg
END:VEVENT
BEGIN:VEVENT
DTSTART;TZID=America/New_York:20260604T190000
DTEND;TZID=America/New_York:20260604T210000
DTSTAMP:20260421T014356
CREATED:20250505T163800Z
LAST-MODIFIED:20250505T163904Z
UID:10000972-1780599600-1780606800@www.mandarinmoose42.com
SUMMARY:Trivia in the Social Quarters
DESCRIPTION:
URL:https://www.mandarinmoose42.com/event/trivia-in-the-social-quarters/2026-06-04/
ATTACH;FMTTYPE=image/jpeg:https://www.mandarinmoose42.com/wp-content/uploads/Trivia.jpg
END:VEVENT
BEGIN:VEVENT
DTSTART;TZID=America/New_York:20260606T110000
DTEND;TZID=America/New_York:20260606T170000
DTSTAMP:20260421T014356
CREATED:20260416T125947Z
LAST-MODIFIED:20260416T125947Z
UID:10005064-1780743600-1780765200@www.mandarinmoose42.com
SUMMARY:Tiki Bar Open
DESCRIPTION:
URL:https://www.mandarinmoose42.com/event/tiki-bar-open-4/2026-06-06/
CATEGORIES:Tiki Bar
ATTACH;FMTTYPE=image/jpeg:https://www.mandarinmoose42.com/wp-content/uploads/tiki.jpg
END:VEVENT
BEGIN:VEVENT
DTSTART;TZID=America/New_York:20260607T110000
DTEND;TZID=America/New_York:20260607T170000
DTSTAMP:20260421T014356
CREATED:20260416T125947Z
LAST-MODIFIED:20260416T125947Z
UID:10005065-1780830000-1780851600@www.mandarinmoose42.com
SUMMARY:Tiki Bar Open
DESCRIPTION:
URL:https://www.mandarinmoose42.com/event/tiki-bar-open-4/2026-06-07/
CATEGORIES:Tiki Bar
ATTACH;FMTTYPE=image/jpeg:https://www.mandarinmoose42.com/wp-content/uploads/tiki.jpg
END:VEVENT
BEGIN:VEVENT
DTSTART;TZID=America/New_York:20260608T190000
DTEND;TZID=America/New_York:20260608T210000
DTSTAMP:20260421T014356
CREATED:20250505T151020Z
LAST-MODIFIED:20250505T151058Z
UID:10000058-1780945200-1780952400@www.mandarinmoose42.com
SUMMARY:Monday Night Pool League
DESCRIPTION:
URL:https://www.mandarinmoose42.com/event/monday-night-pool-league/2026-06-08/
LOCATION:Mandarin Moose Lodge #42\, 4450 Losco Road\, Jacksonville\, FL\, 32257\, United States
ATTACH;FMTTYPE=image/jpeg:https://www.mandarinmoose42.com/wp-content/uploads/iStock-509796074.jpg
ORGANIZER;CN="Mandarin Moose Lodge #42":MAILTO:Lodge42@mooseunits.org
END:VEVENT
BEGIN:VEVENT
DTSTART;TZID=America/New_York:20260609T190000
DTEND;TZID=America/New_York:20260609T200000
DTSTAMP:20260421T014356
CREATED:20260204T133755Z
LAST-MODIFIED:20260204T133756Z
UID:10004522-1781031600-1781035200@www.mandarinmoose42.com
SUMMARY:General Membership Meeting
DESCRIPTION:Join us on the first and third Tuesday of the month for the General Membership Meeting in the Hall.
URL:https://www.mandarinmoose42.com/event/general-membership-meeting-2-2-2-2/2026-06-09/
LOCATION:Mandarin Moose Lodge #42\, 4450 Losco Road\, Jacksonville\, FL\, 32257\, United States
CATEGORIES:Meeting
ATTACH;FMTTYPE=image/jpeg:https://www.mandarinmoose42.com/wp-content/uploads/Meeting.jpg
ORGANIZER;CN="Mandarin Moose Lodge #42":MAILTO:Lodge42@mooseunits.org
END:VEVENT
BEGIN:VEVENT
DTSTART;TZID=America/New_York:20260609T193000
DTEND;TZID=America/New_York:20260609T200000
DTSTAMP:20260421T014356
CREATED:20250610T135445Z
LAST-MODIFIED:20250610T135445Z
UID:10001702-1781033400-1781035200@www.mandarinmoose42.com
SUMMARY:Queen of Hearts Drawing
DESCRIPTION:
URL:https://www.mandarinmoose42.com/event/queen-of-hearts-drawing/2026-06-09/
CATEGORIES:Fundraiser
ATTACH;FMTTYPE=image/jpeg:https://www.mandarinmoose42.com/wp-content/uploads/Queen-of-Hearts.jpg
END:VEVENT
BEGIN:VEVENT
DTSTART;TZID=America/New_York:20260610T190000
DTEND;TZID=America/New_York:20260610T210000
DTSTAMP:20260421T014356
CREATED:20251024T135633Z
LAST-MODIFIED:20251024T135644Z
UID:10000712-1781118000-1781125200@www.mandarinmoose42.com
SUMMARY:Bingo is BACK!!!
DESCRIPTION:Join us for Bingo in the Hall for fun and great prizes!
URL:https://www.mandarinmoose42.com/event/bingo-5/2026-06-10/
ATTACH;FMTTYPE=image/jpeg:https://www.mandarinmoose42.com/wp-content/uploads/Bingo.jpg
END:VEVENT
BEGIN:VEVENT
DTSTART;TZID=America/New_York:20260611T183000
DTEND;TZID=America/New_York:20260611T193000
DTSTAMP:20260421T014356
CREATED:20260218T135121Z
LAST-MODIFIED:20260218T135121Z
UID:10004862-1781202600-1781206200@www.mandarinmoose42.com
SUMMARY:WOTM Meeting in the Hall
DESCRIPTION:
URL:https://www.mandarinmoose42.com/event/wotm-meeting-in-the-hall-3/2026-06-11/
CATEGORIES:WOTM
ATTACH;FMTTYPE=image/jpeg:https://www.mandarinmoose42.com/wp-content/uploads/WOTM-Loop-Heart-Logo.jpg
END:VEVENT
BEGIN:VEVENT
DTSTART;TZID=America/New_York:20260611T190000
DTEND;TZID=America/New_York:20260611T210000
DTSTAMP:20260421T014356
CREATED:20250505T163800Z
LAST-MODIFIED:20250505T163904Z
UID:10000973-1781204400-1781211600@www.mandarinmoose42.com
SUMMARY:Trivia in the Social Quarters
DESCRIPTION:
URL:https://www.mandarinmoose42.com/event/trivia-in-the-social-quarters/2026-06-11/
ATTACH;FMTTYPE=image/jpeg:https://www.mandarinmoose42.com/wp-content/uploads/Trivia.jpg
END:VEVENT
BEGIN:VEVENT
DTSTART;TZID=America/New_York:20260613T110000
DTEND;TZID=America/New_York:20260613T170000
DTSTAMP:20260421T014356
CREATED:20260416T125947Z
LAST-MODIFIED:20260416T125947Z
UID:10005066-1781348400-1781370000@www.mandarinmoose42.com
SUMMARY:Tiki Bar Open
DESCRIPTION:
URL:https://www.mandarinmoose42.com/event/tiki-bar-open-4/2026-06-13/
CATEGORIES:Tiki Bar
ATTACH;FMTTYPE=image/jpeg:https://www.mandarinmoose42.com/wp-content/uploads/tiki.jpg
END:VEVENT
BEGIN:VEVENT
DTSTART;TZID=America/New_York:20260614T110000
DTEND;TZID=America/New_York:20260614T170000
DTSTAMP:20260421T014356
CREATED:20260416T125947Z
LAST-MODIFIED:20260416T125947Z
UID:10005067-1781434800-1781456400@www.mandarinmoose42.com
SUMMARY:Tiki Bar Open
DESCRIPTION:
URL:https://www.mandarinmoose42.com/event/tiki-bar-open-4/2026-06-14/
CATEGORIES:Tiki Bar
ATTACH;FMTTYPE=image/jpeg:https://www.mandarinmoose42.com/wp-content/uploads/tiki.jpg
END:VEVENT
BEGIN:VEVENT
DTSTART;TZID=America/New_York:20260615T190000
DTEND;TZID=America/New_York:20260615T210000
DTSTAMP:20260421T014356
CREATED:20250505T151020Z
LAST-MODIFIED:20250505T151058Z
UID:10000059-1781550000-1781557200@www.mandarinmoose42.com
SUMMARY:Monday Night Pool League
DESCRIPTION:
URL:https://www.mandarinmoose42.com/event/monday-night-pool-league/2026-06-15/
LOCATION:Mandarin Moose Lodge #42\, 4450 Losco Road\, Jacksonville\, FL\, 32257\, United States
ATTACH;FMTTYPE=image/jpeg:https://www.mandarinmoose42.com/wp-content/uploads/iStock-509796074.jpg
ORGANIZER;CN="Mandarin Moose Lodge #42":MAILTO:Lodge42@mooseunits.org
END:VEVENT
BEGIN:VEVENT
DTSTART;TZID=America/New_York:20260616T193000
DTEND;TZID=America/New_York:20260616T200000
DTSTAMP:20260421T014356
CREATED:20250610T135445Z
LAST-MODIFIED:20250610T135445Z
UID:10001703-1781638200-1781640000@www.mandarinmoose42.com
SUMMARY:Queen of Hearts Drawing
DESCRIPTION:
URL:https://www.mandarinmoose42.com/event/queen-of-hearts-drawing/2026-06-16/
CATEGORIES:Fundraiser
ATTACH;FMTTYPE=image/jpeg:https://www.mandarinmoose42.com/wp-content/uploads/Queen-of-Hearts.jpg
END:VEVENT
BEGIN:VEVENT
DTSTART;TZID=America/New_York:20260617T190000
DTEND;TZID=America/New_York:20260617T210000
DTSTAMP:20260421T014356
CREATED:20251024T135633Z
LAST-MODIFIED:20251024T135644Z
UID:10000713-1781722800-1781730000@www.mandarinmoose42.com
SUMMARY:Bingo is BACK!!!
DESCRIPTION:Join us for Bingo in the Hall for fun and great prizes!
URL:https://www.mandarinmoose42.com/event/bingo-5/2026-06-17/
ATTACH;FMTTYPE=image/jpeg:https://www.mandarinmoose42.com/wp-content/uploads/Bingo.jpg
END:VEVENT
BEGIN:VEVENT
DTSTART;TZID=America/New_York:20260618T190000
DTEND;TZID=America/New_York:20260618T210000
DTSTAMP:20260421T014356
CREATED:20250505T163800Z
LAST-MODIFIED:20250505T163904Z
UID:10000974-1781809200-1781816400@www.mandarinmoose42.com
SUMMARY:Trivia in the Social Quarters
DESCRIPTION:
URL:https://www.mandarinmoose42.com/event/trivia-in-the-social-quarters/2026-06-18/
ATTACH;FMTTYPE=image/jpeg:https://www.mandarinmoose42.com/wp-content/uploads/Trivia.jpg
END:VEVENT
BEGIN:VEVENT
DTSTART;TZID=America/New_York:20260620T110000
DTEND;TZID=America/New_York:20260620T170000
DTSTAMP:20260421T014356
CREATED:20260416T125947Z
LAST-MODIFIED:20260416T125947Z
UID:10005068-1781953200-1781974800@www.mandarinmoose42.com
SUMMARY:Tiki Bar Open
DESCRIPTION:
URL:https://www.mandarinmoose42.com/event/tiki-bar-open-4/2026-06-20/
CATEGORIES:Tiki Bar
ATTACH;FMTTYPE=image/jpeg:https://www.mandarinmoose42.com/wp-content/uploads/tiki.jpg
END:VEVENT
BEGIN:VEVENT
DTSTART;TZID=America/New_York:20260621T110000
DTEND;TZID=America/New_York:20260621T170000
DTSTAMP:20260421T014356
CREATED:20260416T125947Z
LAST-MODIFIED:20260416T125947Z
UID:10005069-1782039600-1782061200@www.mandarinmoose42.com
SUMMARY:Tiki Bar Open
DESCRIPTION:
URL:https://www.mandarinmoose42.com/event/tiki-bar-open-4/2026-06-21/
CATEGORIES:Tiki Bar
ATTACH;FMTTYPE=image/jpeg:https://www.mandarinmoose42.com/wp-content/uploads/tiki.jpg
END:VEVENT
BEGIN:VEVENT
DTSTART;TZID=America/New_York:20260622T190000
DTEND;TZID=America/New_York:20260622T210000
DTSTAMP:20260421T014356
CREATED:20250505T151020Z
LAST-MODIFIED:20250505T151058Z
UID:10000060-1782154800-1782162000@www.mandarinmoose42.com
SUMMARY:Monday Night Pool League
DESCRIPTION:
URL:https://www.mandarinmoose42.com/event/monday-night-pool-league/2026-06-22/
LOCATION:Mandarin Moose Lodge #42\, 4450 Losco Road\, Jacksonville\, FL\, 32257\, United States
ATTACH;FMTTYPE=image/jpeg:https://www.mandarinmoose42.com/wp-content/uploads/iStock-509796074.jpg
ORGANIZER;CN="Mandarin Moose Lodge #42":MAILTO:Lodge42@mooseunits.org
END:VEVENT
END:VCALENDAR