BEGIN:VCALENDAR
VERSION:2.0
PRODID:-//Mandarin Moose Lodge #42 - ECPv6.15.18//NONSGML v1.0//EN
CALSCALE:GREGORIAN
METHOD:PUBLISH
X-WR-CALNAME:Mandarin Moose Lodge #42
X-ORIGINAL-URL:https://www.mandarinmoose42.com
X-WR-CALDESC:Events for Mandarin Moose Lodge #42
REFRESH-INTERVAL;VALUE=DURATION:PT1H
X-Robots-Tag:noindex
X-PUBLISHED-TTL:PT1H
BEGIN:VTIMEZONE
TZID:America/New_York
BEGIN:DAYLIGHT
TZOFFSETFROM:-0500
TZOFFSETTO:-0400
TZNAME:EDT
DTSTART:20240310T070000
END:DAYLIGHT
BEGIN:STANDARD
TZOFFSETFROM:-0400
TZOFFSETTO:-0500
TZNAME:EST
DTSTART:20241103T060000
END:STANDARD
BEGIN:DAYLIGHT
TZOFFSETFROM:-0500
TZOFFSETTO:-0400
TZNAME:EDT
DTSTART:20250309T070000
END:DAYLIGHT
BEGIN:STANDARD
TZOFFSETFROM:-0400
TZOFFSETTO:-0500
TZNAME:EST
DTSTART:20251102T060000
END:STANDARD
BEGIN:DAYLIGHT
TZOFFSETFROM:-0500
TZOFFSETTO:-0400
TZNAME:EDT
DTSTART:20260308T070000
END:DAYLIGHT
BEGIN:STANDARD
TZOFFSETFROM:-0400
TZOFFSETTO:-0500
TZNAME:EST
DTSTART:20261101T060000
END:STANDARD
END:VTIMEZONE
BEGIN:VEVENT
DTSTART;TZID=America/New_York:20251109T170000
DTEND;TZID=America/New_York:20251109T220000
DTSTAMP:20260424T104433
CREATED:20250610T142707Z
LAST-MODIFIED:20250610T142707Z
UID:10002067-1762707600-1762725600@www.mandarinmoose42.com
SUMMARY:Pitcher & Pizza Special
DESCRIPTION:12″ Pepperoni or Cheese Pizza \n$15 Soda \n$20 Domestic \n$30 Craft
URL:https://www.mandarinmoose42.com/event/pitcher-pizza-special/2025-11-09/
CATEGORIES:Social Quarters Specials
ATTACH;FMTTYPE=image/jpeg:https://www.mandarinmoose42.com/wp-content/uploads/Pitcher-and-Pizza.jpg
END:VEVENT
BEGIN:VEVENT
DTSTART;TZID=America/New_York:20251108T190000
DTEND;TZID=America/New_York:20251108T230000
DTSTAMP:20260424T104433
CREATED:20251024T164212Z
LAST-MODIFIED:20251024T164212Z
UID:10004156-1762628400-1762642800@www.mandarinmoose42.com
SUMMARY:Double Shot Band
DESCRIPTION:
URL:https://www.mandarinmoose42.com/event/double-shot-band-3/
CATEGORIES:Live Music
ATTACH;FMTTYPE=image/png:https://www.mandarinmoose42.com/wp-content/uploads/Double-Shot-Band.png
END:VEVENT
BEGIN:VEVENT
DTSTART;TZID=America/New_York:20251108T120000
DTEND;TZID=America/New_York:20251108T150000
DTSTAMP:20260424T104433
CREATED:20251024T184521Z
LAST-MODIFIED:20251024T184521Z
UID:10004166-1762603200-1762614000@www.mandarinmoose42.com
SUMMARY:Veterans Appreciation Day
DESCRIPTION:Mandarin Moose #42 Members Only \nFree lunch and beverage for all Mandarin Moose 42 Valued Veterans
URL:https://www.mandarinmoose42.com/event/veterans-appreciation-day-6/
LOCATION:Mandarin Moose Lodge #42\, 4450 Losco Road\, Jacksonville\, FL\, 32257\, United States
CATEGORIES:Veterans
ATTACH;FMTTYPE=image/jpeg:https://www.mandarinmoose42.com/wp-content/uploads/Veterans-appreciation.jpg
END:VEVENT
BEGIN:VEVENT
DTSTART;TZID=America/New_York:20251107T200000
DTEND;TZID=America/New_York:20251108T000000
DTSTAMP:20260424T104433
CREATED:20251024T140657Z
LAST-MODIFIED:20251024T140657Z
UID:10004154-1762545600-1762560000@www.mandarinmoose42.com
SUMMARY:Karaoke with Bobby Bubbles
DESCRIPTION:
URL:https://www.mandarinmoose42.com/event/karaoke-with-bobby-bubbles-3/
CATEGORIES:Live Music
ATTACH;FMTTYPE=image/jpeg:https://www.mandarinmoose42.com/wp-content/uploads/Karaoke-scaled.jpg
END:VEVENT
BEGIN:VEVENT
DTSTART;TZID=America/New_York:20251106T190000
DTEND;TZID=America/New_York:20251106T210000
DTSTAMP:20260424T104433
CREATED:20250505T163800Z
LAST-MODIFIED:20250505T163904Z
UID:10000942-1762455600-1762462800@www.mandarinmoose42.com
SUMMARY:Trivia in the Social Quarters
DESCRIPTION:
URL:https://www.mandarinmoose42.com/event/trivia-in-the-social-quarters/2025-11-06/
ATTACH;FMTTYPE=image/jpeg:https://www.mandarinmoose42.com/wp-content/uploads/Trivia.jpg
END:VEVENT
BEGIN:VEVENT
DTSTART;TZID=America/New_York:20251105T190000
DTEND;TZID=America/New_York:20251105T210000
DTSTAMP:20260424T104433
CREATED:20251024T135257Z
LAST-MODIFIED:20251024T135349Z
UID:10000681-1762369200-1762376400@www.mandarinmoose42.com
SUMMARY:Bingo CANCELLED
DESCRIPTION:Join us for Bingo in the Hall for fun and great prizes!
URL:https://www.mandarinmoose42.com/event/bingo-4/2025-11-05/
ATTACH;FMTTYPE=image/jpeg:https://www.mandarinmoose42.com/wp-content/uploads/Bingo.jpg
END:VEVENT
BEGIN:VEVENT
DTSTART;TZID=America/New_York:20251104T193000
DTEND;TZID=America/New_York:20251104T200000
DTSTAMP:20260424T104433
CREATED:20250610T135445Z
LAST-MODIFIED:20250610T135445Z
UID:10001671-1762284600-1762286400@www.mandarinmoose42.com
SUMMARY:Queen of Hearts Drawing
DESCRIPTION:
URL:https://www.mandarinmoose42.com/event/queen-of-hearts-drawing/2025-11-04/
CATEGORIES:Fundraiser
ATTACH;FMTTYPE=image/jpeg:https://www.mandarinmoose42.com/wp-content/uploads/Queen-of-Hearts.jpg
END:VEVENT
BEGIN:VEVENT
DTSTART;TZID=America/New_York:20251104T190000
DTEND;TZID=America/New_York:20251104T200000
DTSTAMP:20260424T104433
CREATED:20250904T204821Z
LAST-MODIFIED:20250904T204922Z
UID:10003724-1762282800-1762286400@www.mandarinmoose42.com
SUMMARY:General Membership Meeting
DESCRIPTION:Join us on the first and third Tuesday of the month for the General Membership Meeting in the Hall.
URL:https://www.mandarinmoose42.com/event/general-membership-meeting-2-2-2/2025-11-04/
LOCATION:Mandarin Moose Lodge #42\, 4450 Losco Road\, Jacksonville\, FL\, 32257\, United States
CATEGORIES:Meeting
ATTACH;FMTTYPE=image/jpeg:https://www.mandarinmoose42.com/wp-content/uploads/Meeting.jpg
ORGANIZER;CN="Mandarin Moose Lodge #42":MAILTO:Lodge42@mooseunits.org
END:VEVENT
BEGIN:VEVENT
DTSTART;TZID=America/New_York:20251103T190000
DTEND;TZID=America/New_York:20251103T210000
DTSTAMP:20260424T104433
CREATED:20250505T151020Z
LAST-MODIFIED:20250505T151058Z
UID:10000027-1762196400-1762203600@www.mandarinmoose42.com
SUMMARY:Monday Night Pool League
DESCRIPTION:
URL:https://www.mandarinmoose42.com/event/monday-night-pool-league/2025-11-03/
LOCATION:Mandarin Moose Lodge #42\, 4450 Losco Road\, Jacksonville\, FL\, 32257\, United States
ATTACH;FMTTYPE=image/jpeg:https://www.mandarinmoose42.com/wp-content/uploads/iStock-509796074.jpg
ORGANIZER;CN="Mandarin Moose Lodge #42":MAILTO:Lodge42@mooseunits.org
END:VEVENT
BEGIN:VEVENT
DTSTART;TZID=America/New_York:20251102T170000
DTEND;TZID=America/New_York:20251102T220000
DTSTAMP:20260424T104433
CREATED:20250610T142707Z
LAST-MODIFIED:20250610T142707Z
UID:10002066-1762102800-1762120800@www.mandarinmoose42.com
SUMMARY:Pitcher & Pizza Special
DESCRIPTION:12″ Pepperoni or Cheese Pizza \n$15 Soda \n$20 Domestic \n$30 Craft
URL:https://www.mandarinmoose42.com/event/pitcher-pizza-special/2025-11-02/
CATEGORIES:Social Quarters Specials
ATTACH;FMTTYPE=image/jpeg:https://www.mandarinmoose42.com/wp-content/uploads/Pitcher-and-Pizza.jpg
END:VEVENT
BEGIN:VEVENT
DTSTART;TZID=America/New_York:20251101T190000
DTEND;TZID=America/New_York:20251101T230000
DTSTAMP:20260424T104433
CREATED:20251024T164138Z
LAST-MODIFIED:20251024T164138Z
UID:10004155-1762023600-1762038000@www.mandarinmoose42.com
SUMMARY:Last Stand Band
DESCRIPTION:Last Stand – a JAX\, FL band that believes music can inspire your soul! Rock\, Blues\, Southern\, Classic
URL:https://www.mandarinmoose42.com/event/last-stand-band-3/
LOCATION:Mandarin Moose Lodge #42\, 4450 Losco Road\, Jacksonville\, FL\, 32257\, United States
CATEGORIES:Live Music
ATTACH;FMTTYPE=image/jpeg:https://www.mandarinmoose42.com/wp-content/uploads/Last-Stand.jpg
END:VEVENT
BEGIN:VEVENT
DTSTART;TZID=America/New_York:20251031T190000
DTEND;TZID=America/New_York:20251031T230000
DTSTAMP:20260424T104433
CREATED:20251024T132058Z
LAST-MODIFIED:20251024T132058Z
UID:10003855-1761937200-1761951600@www.mandarinmoose42.com
SUMMARY:Halloween Party at Moose 42
DESCRIPTION:Come on out to Mandarin Moose 42’s Halloween Party for a spooky night of fun and entertainment. \nMake sure to wear your best costume to win incredible prizes! \nThere will be live music\, a 50/50 raffle\, and themed drinks to keep the evil spirits away! \nSee you all on Friday\, October 31\, from 7:00 to 11:00.
URL:https://www.mandarinmoose42.com/event/halloween-party-at-moose-42/
CATEGORIES:Live Music,Social Quarters Specials
ATTACH;FMTTYPE=image/png:https://www.mandarinmoose42.com/wp-content/uploads/Halloween-Flyer-FInal.png
END:VEVENT
BEGIN:VEVENT
DTSTART;TZID=America/New_York:20251030T190000
DTEND;TZID=America/New_York:20251030T210000
DTSTAMP:20260424T104433
CREATED:20250505T163800Z
LAST-MODIFIED:20250505T163904Z
UID:10000941-1761850800-1761858000@www.mandarinmoose42.com
SUMMARY:Trivia in the Social Quarters
DESCRIPTION:
URL:https://www.mandarinmoose42.com/event/trivia-in-the-social-quarters/2025-10-30/
ATTACH;FMTTYPE=image/jpeg:https://www.mandarinmoose42.com/wp-content/uploads/Trivia.jpg
END:VEVENT
BEGIN:VEVENT
DTSTART;TZID=America/New_York:20251029T190000
DTEND;TZID=America/New_York:20251029T210000
DTSTAMP:20260424T104433
CREATED:20250505T163439Z
LAST-MODIFIED:20250505T163608Z
UID:10000680-1761764400-1761771600@www.mandarinmoose42.com
SUMMARY:Bingo
DESCRIPTION:Join us for Bingo in the Hall for fun and great prizes!
URL:https://www.mandarinmoose42.com/event/bingo/2025-10-29/
ATTACH;FMTTYPE=image/jpeg:https://www.mandarinmoose42.com/wp-content/uploads/Bingo.jpg
END:VEVENT
BEGIN:VEVENT
DTSTART;TZID=America/New_York:20251028T193000
DTEND;TZID=America/New_York:20251028T200000
DTSTAMP:20260424T104433
CREATED:20250610T135445Z
LAST-MODIFIED:20250610T135445Z
UID:10001670-1761679800-1761681600@www.mandarinmoose42.com
SUMMARY:Queen of Hearts Drawing
DESCRIPTION:
URL:https://www.mandarinmoose42.com/event/queen-of-hearts-drawing/2025-10-28/
CATEGORIES:Fundraiser
ATTACH;FMTTYPE=image/jpeg:https://www.mandarinmoose42.com/wp-content/uploads/Queen-of-Hearts.jpg
END:VEVENT
BEGIN:VEVENT
DTSTART;TZID=America/New_York:20251028T170000
DTEND;TZID=America/New_York:20251028T190000
DTSTAMP:20260424T104433
CREATED:20250814T210311Z
LAST-MODIFIED:20250814T210311Z
UID:10003127-1761670800-1761678000@www.mandarinmoose42.com
SUMMARY:Hart Felt Ministries Goody Bag Stuffing
DESCRIPTION:Calling all members!! \nWe need help stuffing goody bags for our Hart Felt Ministries Community Fundraiser!
URL:https://www.mandarinmoose42.com/event/hart-felt-ministries-goody-bag-stuffing/
CATEGORIES:Fundraiser
ATTACH;FMTTYPE=application/pdf:https://www.mandarinmoose42.com/wp-content/uploads/Hart-Felt-Flyer.pdf
END:VEVENT
BEGIN:VEVENT
DTSTART;TZID=America/New_York:20251027T190000
DTEND;TZID=America/New_York:20251027T210000
DTSTAMP:20260424T104433
CREATED:20250505T151020Z
LAST-MODIFIED:20250505T151058Z
UID:10000026-1761591600-1761598800@www.mandarinmoose42.com
SUMMARY:Monday Night Pool League
DESCRIPTION:
URL:https://www.mandarinmoose42.com/event/monday-night-pool-league/2025-10-27/
LOCATION:Mandarin Moose Lodge #42\, 4450 Losco Road\, Jacksonville\, FL\, 32257\, United States
ATTACH;FMTTYPE=image/jpeg:https://www.mandarinmoose42.com/wp-content/uploads/iStock-509796074.jpg
ORGANIZER;CN="Mandarin Moose Lodge #42":MAILTO:Lodge42@mooseunits.org
END:VEVENT
BEGIN:VEVENT
DTSTART;TZID=America/New_York:20251026T170000
DTEND;TZID=America/New_York:20251026T220000
DTSTAMP:20260424T104433
CREATED:20250610T142707Z
LAST-MODIFIED:20250610T142707Z
UID:10002065-1761498000-1761516000@www.mandarinmoose42.com
SUMMARY:Pitcher & Pizza Special
DESCRIPTION:12″ Pepperoni or Cheese Pizza \n$15 Soda \n$20 Domestic \n$30 Craft
URL:https://www.mandarinmoose42.com/event/pitcher-pizza-special/2025-10-26/
CATEGORIES:Social Quarters Specials
ATTACH;FMTTYPE=image/jpeg:https://www.mandarinmoose42.com/wp-content/uploads/Pitcher-and-Pizza.jpg
END:VEVENT
BEGIN:VEVENT
DTSTART;TZID=America/New_York:20251026T120000
DTEND;TZID=America/New_York:20251026T200000
DTSTAMP:20260424T104433
CREATED:20250610T143254Z
LAST-MODIFIED:20250610T143254Z
UID:10002327-1761480000-1761508800@www.mandarinmoose42.com
SUMMARY:Family Game Day
DESCRIPTION:
URL:https://www.mandarinmoose42.com/event/family-game-day/2025-10-26/
CATEGORIES:Family Fun
ATTACH;FMTTYPE=image/jpeg:https://www.mandarinmoose42.com/wp-content/uploads/Game-Day.jpg
END:VEVENT
BEGIN:VEVENT
DTSTART;TZID=America/New_York:20251025T190000
DTEND;TZID=America/New_York:20251025T220000
DTSTAMP:20260424T104433
CREATED:20250505T174237Z
LAST-MODIFIED:20250507T123351Z
UID:10001326-1761418800-1761429600@www.mandarinmoose42.com
SUMMARY:Kill the Keg Bash
DESCRIPTION:$3 Domestic Drafts til we run out!
URL:https://www.mandarinmoose42.com/event/kill-the-keg-bash/2025-10-25/
LOCATION:Mandarin Moose Lodge #42\, 4450 Losco Road\, Jacksonville\, FL\, 32257\, United States
CATEGORIES:Social Quarters Specials
ATTACH;FMTTYPE=image/jpeg:https://www.mandarinmoose42.com/wp-content/uploads/Kill-the-Keg.jpg
END:VEVENT
BEGIN:VEVENT
DTSTART;TZID=America/New_York:20251023T190000
DTEND;TZID=America/New_York:20251023T210000
DTSTAMP:20260424T104433
CREATED:20250505T163800Z
LAST-MODIFIED:20250505T163904Z
UID:10000940-1761246000-1761253200@www.mandarinmoose42.com
SUMMARY:Trivia in the Social Quarters
DESCRIPTION:
URL:https://www.mandarinmoose42.com/event/trivia-in-the-social-quarters/2025-10-23/
ATTACH;FMTTYPE=image/jpeg:https://www.mandarinmoose42.com/wp-content/uploads/Trivia.jpg
END:VEVENT
BEGIN:VEVENT
DTSTART;TZID=America/New_York:20251023T183000
DTEND;TZID=America/New_York:20251023T193000
DTSTAMP:20260424T104433
CREATED:20250904T200458Z
LAST-MODIFIED:20250904T200459Z
UID:10003277-1761244200-1761247800@www.mandarinmoose42.com
SUMMARY:WOTM Meeting in the Hall
DESCRIPTION:
URL:https://www.mandarinmoose42.com/event/wotm-meeting-in-the-hall-2-2/2025-10-23/
CATEGORIES:WOTM
ATTACH;FMTTYPE=image/jpeg:https://www.mandarinmoose42.com/wp-content/uploads/WOTM-Loop-Heart-Logo.jpg
END:VEVENT
BEGIN:VEVENT
DTSTART;TZID=America/New_York:20251022T190000
DTEND;TZID=America/New_York:20251022T210000
DTSTAMP:20260424T104433
CREATED:20250505T163439Z
LAST-MODIFIED:20250505T163608Z
UID:10000679-1761159600-1761166800@www.mandarinmoose42.com
SUMMARY:Bingo
DESCRIPTION:Join us for Bingo in the Hall for fun and great prizes!
URL:https://www.mandarinmoose42.com/event/bingo/2025-10-22/
ATTACH;FMTTYPE=image/jpeg:https://www.mandarinmoose42.com/wp-content/uploads/Bingo.jpg
END:VEVENT
BEGIN:VEVENT
DTSTART;TZID=America/New_York:20251021T193000
DTEND;TZID=America/New_York:20251021T200000
DTSTAMP:20260424T104433
CREATED:20250610T135445Z
LAST-MODIFIED:20250610T135445Z
UID:10001669-1761075000-1761076800@www.mandarinmoose42.com
SUMMARY:Queen of Hearts Drawing
DESCRIPTION:
URL:https://www.mandarinmoose42.com/event/queen-of-hearts-drawing/2025-10-21/
CATEGORIES:Fundraiser
ATTACH;FMTTYPE=image/jpeg:https://www.mandarinmoose42.com/wp-content/uploads/Queen-of-Hearts.jpg
END:VEVENT
BEGIN:VEVENT
DTSTART;TZID=America/New_York:20251021T190000
DTEND;TZID=America/New_York:20251021T200000
DTSTAMP:20260424T104433
CREATED:20250904T204821Z
LAST-MODIFIED:20250904T204922Z
UID:10003723-1761073200-1761076800@www.mandarinmoose42.com
SUMMARY:General Membership Meeting
DESCRIPTION:Join us on the first and third Tuesday of the month for the General Membership Meeting in the Hall.
URL:https://www.mandarinmoose42.com/event/general-membership-meeting-2-2-2/2025-10-21/
LOCATION:Mandarin Moose Lodge #42\, 4450 Losco Road\, Jacksonville\, FL\, 32257\, United States
CATEGORIES:Meeting
ATTACH;FMTTYPE=image/jpeg:https://www.mandarinmoose42.com/wp-content/uploads/Meeting.jpg
ORGANIZER;CN="Mandarin Moose Lodge #42":MAILTO:Lodge42@mooseunits.org
END:VEVENT
BEGIN:VEVENT
DTSTART;TZID=America/New_York:20251020T190000
DTEND;TZID=America/New_York:20251020T210000
DTSTAMP:20260424T104433
CREATED:20250505T151020Z
LAST-MODIFIED:20250505T151058Z
UID:10000025-1760986800-1760994000@www.mandarinmoose42.com
SUMMARY:Monday Night Pool League
DESCRIPTION:
URL:https://www.mandarinmoose42.com/event/monday-night-pool-league/2025-10-20/
LOCATION:Mandarin Moose Lodge #42\, 4450 Losco Road\, Jacksonville\, FL\, 32257\, United States
ATTACH;FMTTYPE=image/jpeg:https://www.mandarinmoose42.com/wp-content/uploads/iStock-509796074.jpg
ORGANIZER;CN="Mandarin Moose Lodge #42":MAILTO:Lodge42@mooseunits.org
END:VEVENT
BEGIN:VEVENT
DTSTART;TZID=America/New_York:20251019T170000
DTEND;TZID=America/New_York:20251019T220000
DTSTAMP:20260424T104433
CREATED:20250610T142707Z
LAST-MODIFIED:20250610T142707Z
UID:10002064-1760893200-1760911200@www.mandarinmoose42.com
SUMMARY:Pitcher & Pizza Special
DESCRIPTION:12″ Pepperoni or Cheese Pizza \n$15 Soda \n$20 Domestic \n$30 Craft
URL:https://www.mandarinmoose42.com/event/pitcher-pizza-special/2025-10-19/
CATEGORIES:Social Quarters Specials
ATTACH;FMTTYPE=image/jpeg:https://www.mandarinmoose42.com/wp-content/uploads/Pitcher-and-Pizza.jpg
END:VEVENT
BEGIN:VEVENT
DTSTART;TZID=America/New_York:20251019T120000
DTEND;TZID=America/New_York:20251019T200000
DTSTAMP:20260424T104433
CREATED:20250610T143254Z
LAST-MODIFIED:20250610T143254Z
UID:10002326-1760875200-1760904000@www.mandarinmoose42.com
SUMMARY:Family Game Day
DESCRIPTION:
URL:https://www.mandarinmoose42.com/event/family-game-day/2025-10-19/
CATEGORIES:Family Fun
ATTACH;FMTTYPE=image/jpeg:https://www.mandarinmoose42.com/wp-content/uploads/Game-Day.jpg
END:VEVENT
BEGIN:VEVENT
DTSTART;TZID=America/New_York:20251016T190000
DTEND;TZID=America/New_York:20251016T210000
DTSTAMP:20260424T104433
CREATED:20250505T163800Z
LAST-MODIFIED:20250505T163904Z
UID:10000939-1760641200-1760648400@www.mandarinmoose42.com
SUMMARY:Trivia in the Social Quarters
DESCRIPTION:
URL:https://www.mandarinmoose42.com/event/trivia-in-the-social-quarters/2025-10-16/
ATTACH;FMTTYPE=image/jpeg:https://www.mandarinmoose42.com/wp-content/uploads/Trivia.jpg
END:VEVENT
BEGIN:VEVENT
DTSTART;TZID=America/New_York:20251015T190000
DTEND;TZID=America/New_York:20251015T210000
DTSTAMP:20260424T104433
CREATED:20250505T163439Z
LAST-MODIFIED:20250505T163608Z
UID:10000678-1760554800-1760562000@www.mandarinmoose42.com
SUMMARY:Bingo
DESCRIPTION:Join us for Bingo in the Hall for fun and great prizes!
URL:https://www.mandarinmoose42.com/event/bingo/2025-10-15/
ATTACH;FMTTYPE=image/jpeg:https://www.mandarinmoose42.com/wp-content/uploads/Bingo.jpg
END:VEVENT
END:VCALENDAR