BEGIN:VCALENDAR
VERSION:2.0
PRODID:-//Mandarin Moose Lodge #42 - ECPv6.15.18//NONSGML v1.0//EN
CALSCALE:GREGORIAN
METHOD:PUBLISH
X-ORIGINAL-URL:https://www.mandarinmoose42.com
X-WR-CALDESC:Events for Mandarin Moose Lodge #42
REFRESH-INTERVAL;VALUE=DURATION:PT1H
X-Robots-Tag:noindex
X-PUBLISHED-TTL:PT1H
BEGIN:VTIMEZONE
TZID:America/New_York
BEGIN:DAYLIGHT
TZOFFSETFROM:-0500
TZOFFSETTO:-0400
TZNAME:EDT
DTSTART:20250309T070000
END:DAYLIGHT
BEGIN:STANDARD
TZOFFSETFROM:-0400
TZOFFSETTO:-0500
TZNAME:EST
DTSTART:20251102T060000
END:STANDARD
BEGIN:DAYLIGHT
TZOFFSETFROM:-0500
TZOFFSETTO:-0400
TZNAME:EDT
DTSTART:20260308T070000
END:DAYLIGHT
BEGIN:STANDARD
TZOFFSETFROM:-0400
TZOFFSETTO:-0500
TZNAME:EST
DTSTART:20261101T060000
END:STANDARD
BEGIN:DAYLIGHT
TZOFFSETFROM:-0500
TZOFFSETTO:-0400
TZNAME:EDT
DTSTART:20270314T070000
END:DAYLIGHT
BEGIN:STANDARD
TZOFFSETFROM:-0400
TZOFFSETTO:-0500
TZNAME:EST
DTSTART:20271107T060000
END:STANDARD
END:VTIMEZONE
BEGIN:VEVENT
DTSTART;TZID=America/New_York:20260509T120000
DTEND;TZID=America/New_York:20260509T150000
DTSTAMP:20260420T182755
CREATED:20260416T124440Z
LAST-MODIFIED:20260416T124440Z
UID:10005004-1778328000-1778338800@www.mandarinmoose42.com
SUMMARY:Veterans Appreciation Lunch
DESCRIPTION:Mandarin Moose #42 Members Only \nFree lunch and beverage for all Mandarin Moose 42 Valued Veterans
URL:https://www.mandarinmoose42.com/event/veterans-appreciation-lunch-2/
LOCATION:Mandarin Moose Lodge #42\, 4450 Losco Road\, Jacksonville\, FL\, 32257\, United States
CATEGORIES:Veterans
ATTACH;FMTTYPE=image/jpeg:https://www.mandarinmoose42.com/wp-content/uploads/Veterans-appreciation.jpg
END:VEVENT
BEGIN:VEVENT
DTSTART;TZID=America/New_York:20260509T190000
DTEND;TZID=America/New_York:20260509T210000
DTSTAMP:20260420T182755
CREATED:20260416T124917Z
LAST-MODIFIED:20260416T124917Z
UID:10005006-1778353200-1778360400@www.mandarinmoose42.com
SUMMARY:Music Bingo
DESCRIPTION:
URL:https://www.mandarinmoose42.com/event/music-bingo-3/
ATTACH;FMTTYPE=image/jpeg:https://www.mandarinmoose42.com/wp-content/uploads/Bingo.jpg
END:VEVENT
BEGIN:VEVENT
DTSTART;TZID=America/New_York:20260511T190000
DTEND;TZID=America/New_York:20260511T210000
DTSTAMP:20260420T182755
CREATED:20250505T151020Z
LAST-MODIFIED:20250505T151058Z
UID:10000054-1778526000-1778533200@www.mandarinmoose42.com
SUMMARY:Monday Night Pool League
DESCRIPTION:
URL:https://www.mandarinmoose42.com/event/monday-night-pool-league/2026-05-11/
LOCATION:Mandarin Moose Lodge #42\, 4450 Losco Road\, Jacksonville\, FL\, 32257\, United States
ATTACH;FMTTYPE=image/jpeg:https://www.mandarinmoose42.com/wp-content/uploads/iStock-509796074.jpg
ORGANIZER;CN="Mandarin Moose Lodge #42":MAILTO:Lodge42@mooseunits.org
END:VEVENT
BEGIN:VEVENT
DTSTART;TZID=America/New_York:20260512T190000
DTEND;TZID=America/New_York:20260512T200000
DTSTAMP:20260420T182755
CREATED:20260204T133755Z
LAST-MODIFIED:20260204T133756Z
UID:10004520-1778612400-1778616000@www.mandarinmoose42.com
SUMMARY:General Membership Meeting
DESCRIPTION:Join us on the first and third Tuesday of the month for the General Membership Meeting in the Hall.
URL:https://www.mandarinmoose42.com/event/general-membership-meeting-2-2-2-2/2026-05-12/
LOCATION:Mandarin Moose Lodge #42\, 4450 Losco Road\, Jacksonville\, FL\, 32257\, United States
CATEGORIES:Meeting
ATTACH;FMTTYPE=image/jpeg:https://www.mandarinmoose42.com/wp-content/uploads/Meeting.jpg
ORGANIZER;CN="Mandarin Moose Lodge #42":MAILTO:Lodge42@mooseunits.org
END:VEVENT
BEGIN:VEVENT
DTSTART;TZID=America/New_York:20260512T193000
DTEND;TZID=America/New_York:20260512T200000
DTSTAMP:20260420T182755
CREATED:20250610T135445Z
LAST-MODIFIED:20250610T135445Z
UID:10001698-1778614200-1778616000@www.mandarinmoose42.com
SUMMARY:Queen of Hearts Drawing
DESCRIPTION:
URL:https://www.mandarinmoose42.com/event/queen-of-hearts-drawing/2026-05-12/
CATEGORIES:Fundraiser
ATTACH;FMTTYPE=image/jpeg:https://www.mandarinmoose42.com/wp-content/uploads/Queen-of-Hearts.jpg
END:VEVENT
BEGIN:VEVENT
DTSTART;TZID=America/New_York:20260513T190000
DTEND;TZID=America/New_York:20260513T210000
DTSTAMP:20260420T182755
CREATED:20251024T135633Z
LAST-MODIFIED:20251024T135644Z
UID:10000708-1778698800-1778706000@www.mandarinmoose42.com
SUMMARY:Bingo is BACK!!!
DESCRIPTION:Join us for Bingo in the Hall for fun and great prizes!
URL:https://www.mandarinmoose42.com/event/bingo-5/2026-05-13/
ATTACH;FMTTYPE=image/jpeg:https://www.mandarinmoose42.com/wp-content/uploads/Bingo.jpg
END:VEVENT
BEGIN:VEVENT
DTSTART;TZID=America/New_York:20260514T183000
DTEND;TZID=America/New_York:20260514T193000
DTSTAMP:20260420T182755
CREATED:20260218T135121Z
LAST-MODIFIED:20260218T135121Z
UID:10004861-1778783400-1778787000@www.mandarinmoose42.com
SUMMARY:WOTM Meeting in the Hall
DESCRIPTION:
URL:https://www.mandarinmoose42.com/event/wotm-meeting-in-the-hall-3/2026-05-14/
CATEGORIES:WOTM
ATTACH;FMTTYPE=image/jpeg:https://www.mandarinmoose42.com/wp-content/uploads/WOTM-Loop-Heart-Logo.jpg
END:VEVENT
BEGIN:VEVENT
DTSTART;TZID=America/New_York:20260514T190000
DTEND;TZID=America/New_York:20260514T210000
DTSTAMP:20260420T182755
CREATED:20250505T163800Z
LAST-MODIFIED:20250505T163904Z
UID:10000969-1778785200-1778792400@www.mandarinmoose42.com
SUMMARY:Trivia in the Social Quarters
DESCRIPTION:
URL:https://www.mandarinmoose42.com/event/trivia-in-the-social-quarters/2026-05-14/
ATTACH;FMTTYPE=image/jpeg:https://www.mandarinmoose42.com/wp-content/uploads/Trivia.jpg
END:VEVENT
BEGIN:VEVENT
DTSTART;TZID=America/New_York:20260515T190000
DTEND;TZID=America/New_York:20260515T230000
DTSTAMP:20260420T182755
CREATED:20260416T124009Z
LAST-MODIFIED:20260416T124054Z
UID:10005002-1778871600-1778886000@www.mandarinmoose42.com
SUMMARY:The Road Runners Band
DESCRIPTION:Rock-Southern Rock-Modern Country-Classic Rock-Dance Music
URL:https://www.mandarinmoose42.com/event/the-road-runners-band-6/
CATEGORIES:Live Music
ATTACH;FMTTYPE=image/jpeg:https://www.mandarinmoose42.com/wp-content/uploads/Road-Runners.jpg
END:VEVENT
BEGIN:VEVENT
DTSTART;TZID=America/New_York:20260516T110000
DTEND;TZID=America/New_York:20260516T170000
DTSTAMP:20260420T182755
CREATED:20260416T125507Z
LAST-MODIFIED:20260416T125507Z
UID:10005008-1778929200-1778950800@www.mandarinmoose42.com
SUMMARY:Tiki Bar Soft Opening
DESCRIPTION:
URL:https://www.mandarinmoose42.com/event/tiki-bar-soft-opening-2/
CATEGORIES:Tiki Bar
ATTACH;FMTTYPE=image/jpeg:https://www.mandarinmoose42.com/wp-content/uploads/tiki.jpg
END:VEVENT
BEGIN:VEVENT
DTSTART;TZID=America/New_York:20260516T180000
DTEND;TZID=America/New_York:20260516T220000
DTSTAMP:20260420T182755
CREATED:20260416T125322Z
LAST-MODIFIED:20260416T125322Z
UID:10005007-1778954400-1778968800@www.mandarinmoose42.com
SUMMARY:Poker Tournament
DESCRIPTION:MEMBERS ONLY \nTexas Hold-Em \n$20 buy in
URL:https://www.mandarinmoose42.com/event/poker-tournament-2/
END:VEVENT
BEGIN:VEVENT
DTSTART;TZID=America/New_York:20260517T110000
DTEND;TZID=America/New_York:20260517T170000
DTSTAMP:20260420T182755
CREATED:20260416T125530Z
LAST-MODIFIED:20260416T125530Z
UID:10005009-1779015600-1779037200@www.mandarinmoose42.com
SUMMARY:Tiki Bar Soft Opening
DESCRIPTION:
URL:https://www.mandarinmoose42.com/event/tiki-bar-soft-opening-3/
CATEGORIES:Tiki Bar
ATTACH;FMTTYPE=image/jpeg:https://www.mandarinmoose42.com/wp-content/uploads/tiki.jpg
END:VEVENT
BEGIN:VEVENT
DTSTART;TZID=America/New_York:20260518T190000
DTEND;TZID=America/New_York:20260518T210000
DTSTAMP:20260420T182755
CREATED:20250505T151020Z
LAST-MODIFIED:20250505T151058Z
UID:10000055-1779130800-1779138000@www.mandarinmoose42.com
SUMMARY:Monday Night Pool League
DESCRIPTION:
URL:https://www.mandarinmoose42.com/event/monday-night-pool-league/2026-05-18/
LOCATION:Mandarin Moose Lodge #42\, 4450 Losco Road\, Jacksonville\, FL\, 32257\, United States
ATTACH;FMTTYPE=image/jpeg:https://www.mandarinmoose42.com/wp-content/uploads/iStock-509796074.jpg
ORGANIZER;CN="Mandarin Moose Lodge #42":MAILTO:Lodge42@mooseunits.org
END:VEVENT
BEGIN:VEVENT
DTSTART;TZID=America/New_York:20260519T193000
DTEND;TZID=America/New_York:20260519T200000
DTSTAMP:20260420T182755
CREATED:20250610T135445Z
LAST-MODIFIED:20250610T135445Z
UID:10001699-1779219000-1779220800@www.mandarinmoose42.com
SUMMARY:Queen of Hearts Drawing
DESCRIPTION:
URL:https://www.mandarinmoose42.com/event/queen-of-hearts-drawing/2026-05-19/
CATEGORIES:Fundraiser
ATTACH;FMTTYPE=image/jpeg:https://www.mandarinmoose42.com/wp-content/uploads/Queen-of-Hearts.jpg
END:VEVENT
BEGIN:VEVENT
DTSTART;TZID=America/New_York:20260520T190000
DTEND;TZID=America/New_York:20260520T210000
DTSTAMP:20260420T182755
CREATED:20251024T135633Z
LAST-MODIFIED:20251024T135644Z
UID:10000709-1779303600-1779310800@www.mandarinmoose42.com
SUMMARY:Bingo is BACK!!!
DESCRIPTION:Join us for Bingo in the Hall for fun and great prizes!
URL:https://www.mandarinmoose42.com/event/bingo-5/2026-05-20/
ATTACH;FMTTYPE=image/jpeg:https://www.mandarinmoose42.com/wp-content/uploads/Bingo.jpg
END:VEVENT
BEGIN:VEVENT
DTSTART;TZID=America/New_York:20260521T190000
DTEND;TZID=America/New_York:20260521T210000
DTSTAMP:20260420T182755
CREATED:20250505T163800Z
LAST-MODIFIED:20250505T163904Z
UID:10000970-1779390000-1779397200@www.mandarinmoose42.com
SUMMARY:Trivia in the Social Quarters
DESCRIPTION:
URL:https://www.mandarinmoose42.com/event/trivia-in-the-social-quarters/2026-05-21/
ATTACH;FMTTYPE=image/jpeg:https://www.mandarinmoose42.com/wp-content/uploads/Trivia.jpg
END:VEVENT
BEGIN:VEVENT
DTSTART;TZID=America/New_York:20260522T190000
DTEND;TZID=America/New_York:20260522T230000
DTSTAMP:20260420T182755
CREATED:20260416T131940Z
LAST-MODIFIED:20260416T131940Z
UID:10005094-1779476400-1779490800@www.mandarinmoose42.com
SUMMARY:Salt Run - Band
DESCRIPTION:The Band Salt Run is a “Southern Rock- Country-Pop-Blues-Dance band that delivers a great performance.
URL:https://www.mandarinmoose42.com/event/salt-run-band-7/
CATEGORIES:Live Music
ATTACH;FMTTYPE=image/jpeg:https://www.mandarinmoose42.com/wp-content/uploads/Salt-Run.jpg
END:VEVENT
BEGIN:VEVENT
DTSTART;TZID=America/New_York:20260523T080000
DTEND;TZID=America/New_York:20260523T170000
DTSTAMP:20260420T182755
CREATED:20260416T132125Z
LAST-MODIFIED:20260417T162647Z
UID:10005100-1779523200-1779555600@www.mandarinmoose42.com
SUMMARY:Karaoke
DESCRIPTION:
URL:https://www.mandarinmoose42.com/event/karaoke/2026-05-23/1/
CATEGORIES:Live Music
ATTACH;FMTTYPE=image/jpeg:https://www.mandarinmoose42.com/wp-content/uploads/Karaoke-scaled.jpg
END:VEVENT
BEGIN:VEVENT
DTSTART;TZID=America/New_York:20260523T110000
DTEND;TZID=America/New_York:20260523T170000
DTSTAMP:20260420T182755
CREATED:20260416T125947Z
LAST-MODIFIED:20260416T125947Z
UID:10005060-1779534000-1779555600@www.mandarinmoose42.com
SUMMARY:Tiki Bar Open
DESCRIPTION:
URL:https://www.mandarinmoose42.com/event/tiki-bar-open-4/2026-05-23/
CATEGORIES:Tiki Bar
ATTACH;FMTTYPE=image/jpeg:https://www.mandarinmoose42.com/wp-content/uploads/tiki.jpg
END:VEVENT
BEGIN:VEVENT
DTSTART;TZID=America/New_York:20260523T190000
DTEND;TZID=America/New_York:20260523T230000
DTSTAMP:20260420T182755
CREATED:20260416T132125Z
LAST-MODIFIED:20260417T162647Z
UID:10005096-1779562800-1779577200@www.mandarinmoose42.com
SUMMARY:Karaoke
DESCRIPTION:
URL:https://www.mandarinmoose42.com/event/karaoke/2026-05-23/2/
CATEGORIES:Live Music
ATTACH;FMTTYPE=image/jpeg:https://www.mandarinmoose42.com/wp-content/uploads/Karaoke-scaled.jpg
END:VEVENT
BEGIN:VEVENT
DTSTART;TZID=America/New_York:20260524T110000
DTEND;TZID=America/New_York:20260524T170000
DTSTAMP:20260420T182755
CREATED:20260416T125947Z
LAST-MODIFIED:20260416T125947Z
UID:10005061-1779620400-1779642000@www.mandarinmoose42.com
SUMMARY:Tiki Bar Open
DESCRIPTION:
URL:https://www.mandarinmoose42.com/event/tiki-bar-open-4/2026-05-24/
CATEGORIES:Tiki Bar
ATTACH;FMTTYPE=image/jpeg:https://www.mandarinmoose42.com/wp-content/uploads/tiki.jpg
END:VEVENT
BEGIN:VEVENT
DTSTART;TZID=America/New_York:20260525T110000
DTEND;TZID=America/New_York:20260525T190000
DTSTAMP:20260420T182755
CREATED:20260416T131227Z
LAST-MODIFIED:20260416T131227Z
UID:10005091-1779706800-1779735600@www.mandarinmoose42.com
SUMMARY:Memorial Day Lodge Hours
DESCRIPTION:Special hours 11 am – 7 pm
URL:https://www.mandarinmoose42.com/event/memorial-day-lodge-hours/
CATEGORIES:Special Hours
END:VEVENT
BEGIN:VEVENT
DTSTART;TZID=America/New_York:20260525T120000
DTEND;TZID=America/New_York:20260525T150000
DTSTAMP:20260420T182755
CREATED:20260416T131358Z
LAST-MODIFIED:20260416T131605Z
UID:10005092-1779710400-1779721200@www.mandarinmoose42.com
SUMMARY:Big Jeff - Pool Side
DESCRIPTION:Join Big Jeff on the pool deck
URL:https://www.mandarinmoose42.com/event/bigg-jeff-pool-side/
CATEGORIES:Live Music,Tiki Bar
ATTACH;FMTTYPE=image/jpeg:https://www.mandarinmoose42.com/wp-content/uploads/Live-Music.jpg
END:VEVENT
BEGIN:VEVENT
DTSTART;TZID=America/New_York:20260525T120000
DTEND;TZID=America/New_York:20260525T160000
DTSTAMP:20260420T182755
CREATED:20260416T130922Z
LAST-MODIFIED:20260416T130922Z
UID:10005090-1779710400-1779724800@www.mandarinmoose42.com
SUMMARY:Moose Legion Annual Memorial Day BBQ and Pool Party
DESCRIPTION:Lodge hours 11am til 7pm \n 
URL:https://www.mandarinmoose42.com/event/moose-legion-annual-memorial-day-bbq-and-pool-party/
CATEGORIES:Moose Legion
END:VEVENT
BEGIN:VEVENT
DTSTART;TZID=America/New_York:20260526T190000
DTEND;TZID=America/New_York:20260526T200000
DTSTAMP:20260420T182755
CREATED:20260204T133755Z
LAST-MODIFIED:20260204T133756Z
UID:10004521-1779822000-1779825600@www.mandarinmoose42.com
SUMMARY:General Membership Meeting
DESCRIPTION:Join us on the first and third Tuesday of the month for the General Membership Meeting in the Hall.
URL:https://www.mandarinmoose42.com/event/general-membership-meeting-2-2-2-2/2026-05-26/
LOCATION:Mandarin Moose Lodge #42\, 4450 Losco Road\, Jacksonville\, FL\, 32257\, United States
CATEGORIES:Meeting
ATTACH;FMTTYPE=image/jpeg:https://www.mandarinmoose42.com/wp-content/uploads/Meeting.jpg
ORGANIZER;CN="Mandarin Moose Lodge #42":MAILTO:Lodge42@mooseunits.org
END:VEVENT
BEGIN:VEVENT
DTSTART;TZID=America/New_York:20260526T193000
DTEND;TZID=America/New_York:20260526T200000
DTSTAMP:20260420T182755
CREATED:20250610T135445Z
LAST-MODIFIED:20250610T135445Z
UID:10001700-1779823800-1779825600@www.mandarinmoose42.com
SUMMARY:Queen of Hearts Drawing
DESCRIPTION:
URL:https://www.mandarinmoose42.com/event/queen-of-hearts-drawing/2026-05-26/
CATEGORIES:Fundraiser
ATTACH;FMTTYPE=image/jpeg:https://www.mandarinmoose42.com/wp-content/uploads/Queen-of-Hearts.jpg
END:VEVENT
BEGIN:VEVENT
DTSTART;TZID=America/New_York:20260527T190000
DTEND;TZID=America/New_York:20260527T210000
DTSTAMP:20260420T182755
CREATED:20251024T135633Z
LAST-MODIFIED:20251024T135644Z
UID:10000710-1779908400-1779915600@www.mandarinmoose42.com
SUMMARY:Bingo is BACK!!!
DESCRIPTION:Join us for Bingo in the Hall for fun and great prizes!
URL:https://www.mandarinmoose42.com/event/bingo-5/2026-05-27/
ATTACH;FMTTYPE=image/jpeg:https://www.mandarinmoose42.com/wp-content/uploads/Bingo.jpg
END:VEVENT
BEGIN:VEVENT
DTSTART;TZID=America/New_York:20260528T120000
DTEND;TZID=America/New_York:20260528T150000
DTSTAMP:20260420T182755
CREATED:20260416T131708Z
LAST-MODIFIED:20260416T131745Z
UID:10005093-1779969600-1779980400@www.mandarinmoose42.com
SUMMARY:Moosehaven Lunch and Bingo
DESCRIPTION:
URL:https://www.mandarinmoose42.com/event/moosehaven-lunch-and-bingo-5/
CATEGORIES:Moosehaven
ATTACH;FMTTYPE=image/webp:https://www.mandarinmoose42.com/wp-content/uploads/moosehaven-logo.webp
END:VEVENT
BEGIN:VEVENT
DTSTART;TZID=America/New_York:20260528T190000
DTEND;TZID=America/New_York:20260528T210000
DTSTAMP:20260420T182755
CREATED:20250505T163800Z
LAST-MODIFIED:20250505T163904Z
UID:10000971-1779994800-1780002000@www.mandarinmoose42.com
SUMMARY:Trivia in the Social Quarters
DESCRIPTION:
URL:https://www.mandarinmoose42.com/event/trivia-in-the-social-quarters/2026-05-28/
ATTACH;FMTTYPE=image/jpeg:https://www.mandarinmoose42.com/wp-content/uploads/Trivia.jpg
END:VEVENT
BEGIN:VEVENT
DTSTART;TZID=America/New_York:20260529T190000
DTEND;TZID=America/New_York:20260529T230000
DTSTAMP:20260420T182755
CREATED:20260416T132438Z
LAST-MODIFIED:20260416T132438Z
UID:10005097-1780081200-1780095600@www.mandarinmoose42.com
SUMMARY:Mad Hatter Band
DESCRIPTION:Rock n’ roll cover band
URL:https://www.mandarinmoose42.com/event/mad-hatter-band/
CATEGORIES:Live Music
ATTACH;FMTTYPE=image/jpeg:https://www.mandarinmoose42.com/wp-content/uploads/Mad-Hatter.jpg
END:VEVENT
END:VCALENDAR