BEGIN:VCALENDAR
VERSION:2.0
PRODID:-//Mandarin Moose Lodge #42 - ECPv6.15.18//NONSGML v1.0//EN
CALSCALE:GREGORIAN
METHOD:PUBLISH
X-WR-CALNAME:Mandarin Moose Lodge #42
X-ORIGINAL-URL:https://www.mandarinmoose42.com
X-WR-CALDESC:Events for Mandarin Moose Lodge #42
REFRESH-INTERVAL;VALUE=DURATION:PT1H
X-Robots-Tag:noindex
X-PUBLISHED-TTL:PT1H
BEGIN:VTIMEZONE
TZID:America/New_York
BEGIN:DAYLIGHT
TZOFFSETFROM:-0500
TZOFFSETTO:-0400
TZNAME:EDT
DTSTART:20250309T070000
END:DAYLIGHT
BEGIN:STANDARD
TZOFFSETFROM:-0400
TZOFFSETTO:-0500
TZNAME:EST
DTSTART:20251102T060000
END:STANDARD
BEGIN:DAYLIGHT
TZOFFSETFROM:-0500
TZOFFSETTO:-0400
TZNAME:EDT
DTSTART:20260308T070000
END:DAYLIGHT
BEGIN:STANDARD
TZOFFSETFROM:-0400
TZOFFSETTO:-0500
TZNAME:EST
DTSTART:20261101T060000
END:STANDARD
BEGIN:DAYLIGHT
TZOFFSETFROM:-0500
TZOFFSETTO:-0400
TZNAME:EDT
DTSTART:20270314T070000
END:DAYLIGHT
BEGIN:STANDARD
TZOFFSETFROM:-0400
TZOFFSETTO:-0500
TZNAME:EST
DTSTART:20271107T060000
END:STANDARD
END:VTIMEZONE
BEGIN:VEVENT
DTSTART;TZID=America/New_York:20261112T183000
DTEND;TZID=America/New_York:20261112T193000
DTSTAMP:20260425T131456
CREATED:20260218T135121Z
LAST-MODIFIED:20260218T135121Z
UID:10004867-1794508200-1794511800@www.mandarinmoose42.com
SUMMARY:WOTM Meeting in the Hall
DESCRIPTION:
URL:https://www.mandarinmoose42.com/event/wotm-meeting-in-the-hall-3/2026-11-12/
CATEGORIES:WOTM
ATTACH;FMTTYPE=image/jpeg:https://www.mandarinmoose42.com/wp-content/uploads/WOTM-Loop-Heart-Logo.jpg
END:VEVENT
BEGIN:VEVENT
DTSTART;TZID=America/New_York:20261112T190000
DTEND;TZID=America/New_York:20261112T210000
DTSTAMP:20260425T131456
CREATED:20250505T163800Z
LAST-MODIFIED:20250505T163904Z
UID:10000995-1794510000-1794517200@www.mandarinmoose42.com
SUMMARY:Trivia in the Social Quarters
DESCRIPTION:
URL:https://www.mandarinmoose42.com/event/trivia-in-the-social-quarters/2026-11-12/
ATTACH;FMTTYPE=image/jpeg:https://www.mandarinmoose42.com/wp-content/uploads/Trivia.jpg
END:VEVENT
BEGIN:VEVENT
DTSTART;TZID=America/New_York:20261116T190000
DTEND;TZID=America/New_York:20261116T210000
DTSTAMP:20260425T131456
CREATED:20250505T151020Z
LAST-MODIFIED:20250505T151058Z
UID:10000081-1794855600-1794862800@www.mandarinmoose42.com
SUMMARY:Monday Night Pool League
DESCRIPTION:
URL:https://www.mandarinmoose42.com/event/monday-night-pool-league/2026-11-16/
LOCATION:Mandarin Moose Lodge #42\, 4450 Losco Road\, Jacksonville\, FL\, 32257\, United States
ATTACH;FMTTYPE=image/jpeg:https://www.mandarinmoose42.com/wp-content/uploads/iStock-509796074.jpg
ORGANIZER;CN="Mandarin Moose Lodge #42":MAILTO:Lodge42@mooseunits.org
END:VEVENT
BEGIN:VEVENT
DTSTART;TZID=America/New_York:20261117T193000
DTEND;TZID=America/New_York:20261117T200000
DTSTAMP:20260425T131456
CREATED:20250610T135445Z
LAST-MODIFIED:20250610T135445Z
UID:10001725-1794943800-1794945600@www.mandarinmoose42.com
SUMMARY:Queen of Hearts Drawing
DESCRIPTION:
URL:https://www.mandarinmoose42.com/event/queen-of-hearts-drawing/2026-11-17/
CATEGORIES:Fundraiser
ATTACH;FMTTYPE=image/jpeg:https://www.mandarinmoose42.com/wp-content/uploads/Queen-of-Hearts.jpg
END:VEVENT
BEGIN:VEVENT
DTSTART;TZID=America/New_York:20261118T190000
DTEND;TZID=America/New_York:20261118T210000
DTSTAMP:20260425T131456
CREATED:20251024T135633Z
LAST-MODIFIED:20251024T135644Z
UID:10000735-1795028400-1795035600@www.mandarinmoose42.com
SUMMARY:Bingo is BACK!!!
DESCRIPTION:Join us for Bingo in the Hall for fun and great prizes!
URL:https://www.mandarinmoose42.com/event/bingo-5/2026-11-18/
ATTACH;FMTTYPE=image/jpeg:https://www.mandarinmoose42.com/wp-content/uploads/Bingo.jpg
END:VEVENT
BEGIN:VEVENT
DTSTART;TZID=America/New_York:20261119T190000
DTEND;TZID=America/New_York:20261119T210000
DTSTAMP:20260425T131456
CREATED:20250505T163800Z
LAST-MODIFIED:20250505T163904Z
UID:10000996-1795114800-1795122000@www.mandarinmoose42.com
SUMMARY:Trivia in the Social Quarters
DESCRIPTION:
URL:https://www.mandarinmoose42.com/event/trivia-in-the-social-quarters/2026-11-19/
ATTACH;FMTTYPE=image/jpeg:https://www.mandarinmoose42.com/wp-content/uploads/Trivia.jpg
END:VEVENT
BEGIN:VEVENT
DTSTART;TZID=America/New_York:20261123T190000
DTEND;TZID=America/New_York:20261123T210000
DTSTAMP:20260425T131456
CREATED:20250505T151020Z
LAST-MODIFIED:20250505T151058Z
UID:10000082-1795460400-1795467600@www.mandarinmoose42.com
SUMMARY:Monday Night Pool League
DESCRIPTION:
URL:https://www.mandarinmoose42.com/event/monday-night-pool-league/2026-11-23/
LOCATION:Mandarin Moose Lodge #42\, 4450 Losco Road\, Jacksonville\, FL\, 32257\, United States
ATTACH;FMTTYPE=image/jpeg:https://www.mandarinmoose42.com/wp-content/uploads/iStock-509796074.jpg
ORGANIZER;CN="Mandarin Moose Lodge #42":MAILTO:Lodge42@mooseunits.org
END:VEVENT
BEGIN:VEVENT
DTSTART;TZID=America/New_York:20261124T190000
DTEND;TZID=America/New_York:20261124T200000
DTSTAMP:20260425T131456
CREATED:20260204T133755Z
LAST-MODIFIED:20260204T133756Z
UID:10004534-1795546800-1795550400@www.mandarinmoose42.com
SUMMARY:General Membership Meeting
DESCRIPTION:Join us on the first and third Tuesday of the month for the General Membership Meeting in the Hall.
URL:https://www.mandarinmoose42.com/event/general-membership-meeting-2-2-2-2/2026-11-24/
LOCATION:Mandarin Moose Lodge #42\, 4450 Losco Road\, Jacksonville\, FL\, 32257\, United States
CATEGORIES:Meeting
ATTACH;FMTTYPE=image/jpeg:https://www.mandarinmoose42.com/wp-content/uploads/Meeting.jpg
ORGANIZER;CN="Mandarin Moose Lodge #42":MAILTO:Lodge42@mooseunits.org
END:VEVENT
BEGIN:VEVENT
DTSTART;TZID=America/New_York:20261124T193000
DTEND;TZID=America/New_York:20261124T200000
DTSTAMP:20260425T131456
CREATED:20250610T135445Z
LAST-MODIFIED:20250610T135445Z
UID:10001726-1795548600-1795550400@www.mandarinmoose42.com
SUMMARY:Queen of Hearts Drawing
DESCRIPTION:
URL:https://www.mandarinmoose42.com/event/queen-of-hearts-drawing/2026-11-24/
CATEGORIES:Fundraiser
ATTACH;FMTTYPE=image/jpeg:https://www.mandarinmoose42.com/wp-content/uploads/Queen-of-Hearts.jpg
END:VEVENT
BEGIN:VEVENT
DTSTART;TZID=America/New_York:20261125T190000
DTEND;TZID=America/New_York:20261125T210000
DTSTAMP:20260425T131456
CREATED:20251024T135633Z
LAST-MODIFIED:20251024T135644Z
UID:10000736-1795633200-1795640400@www.mandarinmoose42.com
SUMMARY:Bingo is BACK!!!
DESCRIPTION:Join us for Bingo in the Hall for fun and great prizes!
URL:https://www.mandarinmoose42.com/event/bingo-5/2026-11-25/
ATTACH;FMTTYPE=image/jpeg:https://www.mandarinmoose42.com/wp-content/uploads/Bingo.jpg
END:VEVENT
BEGIN:VEVENT
DTSTART;TZID=America/New_York:20261126T183000
DTEND;TZID=America/New_York:20261126T193000
DTSTAMP:20260425T131456
CREATED:20260218T135230Z
LAST-MODIFIED:20260218T135230Z
UID:10004748-1795717800-1795721400@www.mandarinmoose42.com
SUMMARY:WOTM Meeting in the Hall
DESCRIPTION:
URL:https://www.mandarinmoose42.com/event/wotm-meeting-in-the-hall-4/2026-11-26/
CATEGORIES:WOTM
ATTACH;FMTTYPE=image/jpeg:https://www.mandarinmoose42.com/wp-content/uploads/WOTM-Loop-Heart-Logo.jpg
END:VEVENT
BEGIN:VEVENT
DTSTART;TZID=America/New_York:20261126T190000
DTEND;TZID=America/New_York:20261126T210000
DTSTAMP:20260425T131456
CREATED:20250505T163800Z
LAST-MODIFIED:20250505T163904Z
UID:10000997-1795719600-1795726800@www.mandarinmoose42.com
SUMMARY:Trivia in the Social Quarters
DESCRIPTION:
URL:https://www.mandarinmoose42.com/event/trivia-in-the-social-quarters/2026-11-26/
ATTACH;FMTTYPE=image/jpeg:https://www.mandarinmoose42.com/wp-content/uploads/Trivia.jpg
END:VEVENT
BEGIN:VEVENT
DTSTART;TZID=America/New_York:20261130T190000
DTEND;TZID=America/New_York:20261130T210000
DTSTAMP:20260425T131456
CREATED:20250505T151020Z
LAST-MODIFIED:20250505T151058Z
UID:10000083-1796065200-1796072400@www.mandarinmoose42.com
SUMMARY:Monday Night Pool League
DESCRIPTION:
URL:https://www.mandarinmoose42.com/event/monday-night-pool-league/2026-11-30/
LOCATION:Mandarin Moose Lodge #42\, 4450 Losco Road\, Jacksonville\, FL\, 32257\, United States
ATTACH;FMTTYPE=image/jpeg:https://www.mandarinmoose42.com/wp-content/uploads/iStock-509796074.jpg
ORGANIZER;CN="Mandarin Moose Lodge #42":MAILTO:Lodge42@mooseunits.org
END:VEVENT
BEGIN:VEVENT
DTSTART;TZID=America/New_York:20261201T193000
DTEND;TZID=America/New_York:20261201T200000
DTSTAMP:20260425T131456
CREATED:20250610T135445Z
LAST-MODIFIED:20250610T135445Z
UID:10001727-1796153400-1796155200@www.mandarinmoose42.com
SUMMARY:Queen of Hearts Drawing
DESCRIPTION:
URL:https://www.mandarinmoose42.com/event/queen-of-hearts-drawing/2026-12-01/
CATEGORIES:Fundraiser
ATTACH;FMTTYPE=image/jpeg:https://www.mandarinmoose42.com/wp-content/uploads/Queen-of-Hearts.jpg
END:VEVENT
BEGIN:VEVENT
DTSTART;TZID=America/New_York:20261202T190000
DTEND;TZID=America/New_York:20261202T210000
DTSTAMP:20260425T131456
CREATED:20251024T135633Z
LAST-MODIFIED:20251024T135644Z
UID:10000737-1796238000-1796245200@www.mandarinmoose42.com
SUMMARY:Bingo is BACK!!!
DESCRIPTION:Join us for Bingo in the Hall for fun and great prizes!
URL:https://www.mandarinmoose42.com/event/bingo-5/2026-12-02/
ATTACH;FMTTYPE=image/jpeg:https://www.mandarinmoose42.com/wp-content/uploads/Bingo.jpg
END:VEVENT
BEGIN:VEVENT
DTSTART;TZID=America/New_York:20261203T190000
DTEND;TZID=America/New_York:20261203T210000
DTSTAMP:20260425T131456
CREATED:20250505T163800Z
LAST-MODIFIED:20250505T163904Z
UID:10000998-1796324400-1796331600@www.mandarinmoose42.com
SUMMARY:Trivia in the Social Quarters
DESCRIPTION:
URL:https://www.mandarinmoose42.com/event/trivia-in-the-social-quarters/2026-12-03/
ATTACH;FMTTYPE=image/jpeg:https://www.mandarinmoose42.com/wp-content/uploads/Trivia.jpg
END:VEVENT
BEGIN:VEVENT
DTSTART;TZID=America/New_York:20261207T190000
DTEND;TZID=America/New_York:20261207T210000
DTSTAMP:20260425T131456
CREATED:20250505T151020Z
LAST-MODIFIED:20250505T151058Z
UID:10000084-1796670000-1796677200@www.mandarinmoose42.com
SUMMARY:Monday Night Pool League
DESCRIPTION:
URL:https://www.mandarinmoose42.com/event/monday-night-pool-league/2026-12-07/
LOCATION:Mandarin Moose Lodge #42\, 4450 Losco Road\, Jacksonville\, FL\, 32257\, United States
ATTACH;FMTTYPE=image/jpeg:https://www.mandarinmoose42.com/wp-content/uploads/iStock-509796074.jpg
ORGANIZER;CN="Mandarin Moose Lodge #42":MAILTO:Lodge42@mooseunits.org
END:VEVENT
BEGIN:VEVENT
DTSTART;TZID=America/New_York:20261208T190000
DTEND;TZID=America/New_York:20261208T200000
DTSTAMP:20260425T131456
CREATED:20260204T133755Z
LAST-MODIFIED:20260204T133756Z
UID:10004535-1796756400-1796760000@www.mandarinmoose42.com
SUMMARY:General Membership Meeting
DESCRIPTION:Join us on the first and third Tuesday of the month for the General Membership Meeting in the Hall.
URL:https://www.mandarinmoose42.com/event/general-membership-meeting-2-2-2-2/2026-12-08/
LOCATION:Mandarin Moose Lodge #42\, 4450 Losco Road\, Jacksonville\, FL\, 32257\, United States
CATEGORIES:Meeting
ATTACH;FMTTYPE=image/jpeg:https://www.mandarinmoose42.com/wp-content/uploads/Meeting.jpg
ORGANIZER;CN="Mandarin Moose Lodge #42":MAILTO:Lodge42@mooseunits.org
END:VEVENT
BEGIN:VEVENT
DTSTART;TZID=America/New_York:20261208T193000
DTEND;TZID=America/New_York:20261208T200000
DTSTAMP:20260425T131456
CREATED:20250610T135445Z
LAST-MODIFIED:20250610T135445Z
UID:10001728-1796758200-1796760000@www.mandarinmoose42.com
SUMMARY:Queen of Hearts Drawing
DESCRIPTION:
URL:https://www.mandarinmoose42.com/event/queen-of-hearts-drawing/2026-12-08/
CATEGORIES:Fundraiser
ATTACH;FMTTYPE=image/jpeg:https://www.mandarinmoose42.com/wp-content/uploads/Queen-of-Hearts.jpg
END:VEVENT
BEGIN:VEVENT
DTSTART;TZID=America/New_York:20261209T190000
DTEND;TZID=America/New_York:20261209T210000
DTSTAMP:20260425T131456
CREATED:20251024T135633Z
LAST-MODIFIED:20251024T135644Z
UID:10000738-1796842800-1796850000@www.mandarinmoose42.com
SUMMARY:Bingo is BACK!!!
DESCRIPTION:Join us for Bingo in the Hall for fun and great prizes!
URL:https://www.mandarinmoose42.com/event/bingo-5/2026-12-09/
ATTACH;FMTTYPE=image/jpeg:https://www.mandarinmoose42.com/wp-content/uploads/Bingo.jpg
END:VEVENT
BEGIN:VEVENT
DTSTART;TZID=America/New_York:20261210T183000
DTEND;TZID=America/New_York:20261210T193000
DTSTAMP:20260425T131456
CREATED:20260218T135121Z
LAST-MODIFIED:20260218T135121Z
UID:10004868-1796927400-1796931000@www.mandarinmoose42.com
SUMMARY:WOTM Meeting in the Hall
DESCRIPTION:
URL:https://www.mandarinmoose42.com/event/wotm-meeting-in-the-hall-3/2026-12-10/
CATEGORIES:WOTM
ATTACH;FMTTYPE=image/jpeg:https://www.mandarinmoose42.com/wp-content/uploads/WOTM-Loop-Heart-Logo.jpg
END:VEVENT
BEGIN:VEVENT
DTSTART;TZID=America/New_York:20261210T190000
DTEND;TZID=America/New_York:20261210T210000
DTSTAMP:20260425T131456
CREATED:20250505T163800Z
LAST-MODIFIED:20250505T163904Z
UID:10000999-1796929200-1796936400@www.mandarinmoose42.com
SUMMARY:Trivia in the Social Quarters
DESCRIPTION:
URL:https://www.mandarinmoose42.com/event/trivia-in-the-social-quarters/2026-12-10/
ATTACH;FMTTYPE=image/jpeg:https://www.mandarinmoose42.com/wp-content/uploads/Trivia.jpg
END:VEVENT
BEGIN:VEVENT
DTSTART;TZID=America/New_York:20261214T190000
DTEND;TZID=America/New_York:20261214T210000
DTSTAMP:20260425T131456
CREATED:20250505T151020Z
LAST-MODIFIED:20250505T151058Z
UID:10000085-1797274800-1797282000@www.mandarinmoose42.com
SUMMARY:Monday Night Pool League
DESCRIPTION:
URL:https://www.mandarinmoose42.com/event/monday-night-pool-league/2026-12-14/
LOCATION:Mandarin Moose Lodge #42\, 4450 Losco Road\, Jacksonville\, FL\, 32257\, United States
ATTACH;FMTTYPE=image/jpeg:https://www.mandarinmoose42.com/wp-content/uploads/iStock-509796074.jpg
ORGANIZER;CN="Mandarin Moose Lodge #42":MAILTO:Lodge42@mooseunits.org
END:VEVENT
BEGIN:VEVENT
DTSTART;TZID=America/New_York:20261215T193000
DTEND;TZID=America/New_York:20261215T200000
DTSTAMP:20260425T131456
CREATED:20250610T135445Z
LAST-MODIFIED:20250610T135445Z
UID:10001729-1797363000-1797364800@www.mandarinmoose42.com
SUMMARY:Queen of Hearts Drawing
DESCRIPTION:
URL:https://www.mandarinmoose42.com/event/queen-of-hearts-drawing/2026-12-15/
CATEGORIES:Fundraiser
ATTACH;FMTTYPE=image/jpeg:https://www.mandarinmoose42.com/wp-content/uploads/Queen-of-Hearts.jpg
END:VEVENT
BEGIN:VEVENT
DTSTART;TZID=America/New_York:20261216T190000
DTEND;TZID=America/New_York:20261216T210000
DTSTAMP:20260425T131456
CREATED:20251024T135633Z
LAST-MODIFIED:20251024T135644Z
UID:10000739-1797447600-1797454800@www.mandarinmoose42.com
SUMMARY:Bingo is BACK!!!
DESCRIPTION:Join us for Bingo in the Hall for fun and great prizes!
URL:https://www.mandarinmoose42.com/event/bingo-5/2026-12-16/
ATTACH;FMTTYPE=image/jpeg:https://www.mandarinmoose42.com/wp-content/uploads/Bingo.jpg
END:VEVENT
BEGIN:VEVENT
DTSTART;TZID=America/New_York:20261217T190000
DTEND;TZID=America/New_York:20261217T210000
DTSTAMP:20260425T131456
CREATED:20250505T163800Z
LAST-MODIFIED:20250505T163904Z
UID:10001000-1797534000-1797541200@www.mandarinmoose42.com
SUMMARY:Trivia in the Social Quarters
DESCRIPTION:
URL:https://www.mandarinmoose42.com/event/trivia-in-the-social-quarters/2026-12-17/
ATTACH;FMTTYPE=image/jpeg:https://www.mandarinmoose42.com/wp-content/uploads/Trivia.jpg
END:VEVENT
BEGIN:VEVENT
DTSTART;TZID=America/New_York:20261221T190000
DTEND;TZID=America/New_York:20261221T210000
DTSTAMP:20260425T131456
CREATED:20250505T151020Z
LAST-MODIFIED:20250505T151058Z
UID:10000086-1797879600-1797886800@www.mandarinmoose42.com
SUMMARY:Monday Night Pool League
DESCRIPTION:
URL:https://www.mandarinmoose42.com/event/monday-night-pool-league/2026-12-21/
LOCATION:Mandarin Moose Lodge #42\, 4450 Losco Road\, Jacksonville\, FL\, 32257\, United States
ATTACH;FMTTYPE=image/jpeg:https://www.mandarinmoose42.com/wp-content/uploads/iStock-509796074.jpg
ORGANIZER;CN="Mandarin Moose Lodge #42":MAILTO:Lodge42@mooseunits.org
END:VEVENT
BEGIN:VEVENT
DTSTART;TZID=America/New_York:20261222T190000
DTEND;TZID=America/New_York:20261222T200000
DTSTAMP:20260425T131456
CREATED:20260204T133755Z
LAST-MODIFIED:20260204T133756Z
UID:10004536-1797966000-1797969600@www.mandarinmoose42.com
SUMMARY:General Membership Meeting
DESCRIPTION:Join us on the first and third Tuesday of the month for the General Membership Meeting in the Hall.
URL:https://www.mandarinmoose42.com/event/general-membership-meeting-2-2-2-2/2026-12-22/
LOCATION:Mandarin Moose Lodge #42\, 4450 Losco Road\, Jacksonville\, FL\, 32257\, United States
CATEGORIES:Meeting
ATTACH;FMTTYPE=image/jpeg:https://www.mandarinmoose42.com/wp-content/uploads/Meeting.jpg
ORGANIZER;CN="Mandarin Moose Lodge #42":MAILTO:Lodge42@mooseunits.org
END:VEVENT
BEGIN:VEVENT
DTSTART;TZID=America/New_York:20261222T193000
DTEND;TZID=America/New_York:20261222T200000
DTSTAMP:20260425T131456
CREATED:20250610T135445Z
LAST-MODIFIED:20250610T135445Z
UID:10001730-1797967800-1797969600@www.mandarinmoose42.com
SUMMARY:Queen of Hearts Drawing
DESCRIPTION:
URL:https://www.mandarinmoose42.com/event/queen-of-hearts-drawing/2026-12-22/
CATEGORIES:Fundraiser
ATTACH;FMTTYPE=image/jpeg:https://www.mandarinmoose42.com/wp-content/uploads/Queen-of-Hearts.jpg
END:VEVENT
BEGIN:VEVENT
DTSTART;TZID=America/New_York:20261223T190000
DTEND;TZID=America/New_York:20261223T210000
DTSTAMP:20260425T131456
CREATED:20251024T135633Z
LAST-MODIFIED:20251024T135644Z
UID:10000740-1798052400-1798059600@www.mandarinmoose42.com
SUMMARY:Bingo is BACK!!!
DESCRIPTION:Join us for Bingo in the Hall for fun and great prizes!
URL:https://www.mandarinmoose42.com/event/bingo-5/2026-12-23/
ATTACH;FMTTYPE=image/jpeg:https://www.mandarinmoose42.com/wp-content/uploads/Bingo.jpg
END:VEVENT
END:VCALENDAR