BEGIN:VCALENDAR
VERSION:2.0
PRODID:-//Mandarin Moose Lodge #42 - ECPv6.15.18//NONSGML v1.0//EN
CALSCALE:GREGORIAN
METHOD:PUBLISH
X-WR-CALNAME:Mandarin Moose Lodge #42
X-ORIGINAL-URL:https://www.mandarinmoose42.com
X-WR-CALDESC:Events for Mandarin Moose Lodge #42
REFRESH-INTERVAL;VALUE=DURATION:PT1H
X-Robots-Tag:noindex
X-PUBLISHED-TTL:PT1H
BEGIN:VTIMEZONE
TZID:America/New_York
BEGIN:DAYLIGHT
TZOFFSETFROM:-0500
TZOFFSETTO:-0400
TZNAME:EDT
DTSTART:20250309T070000
END:DAYLIGHT
BEGIN:STANDARD
TZOFFSETFROM:-0400
TZOFFSETTO:-0500
TZNAME:EST
DTSTART:20251102T060000
END:STANDARD
BEGIN:DAYLIGHT
TZOFFSETFROM:-0500
TZOFFSETTO:-0400
TZNAME:EDT
DTSTART:20260308T070000
END:DAYLIGHT
BEGIN:STANDARD
TZOFFSETFROM:-0400
TZOFFSETTO:-0500
TZNAME:EST
DTSTART:20261101T060000
END:STANDARD
BEGIN:DAYLIGHT
TZOFFSETFROM:-0500
TZOFFSETTO:-0400
TZNAME:EDT
DTSTART:20270314T070000
END:DAYLIGHT
BEGIN:STANDARD
TZOFFSETFROM:-0400
TZOFFSETTO:-0500
TZNAME:EST
DTSTART:20271107T060000
END:STANDARD
END:VTIMEZONE
BEGIN:VEVENT
DTSTART;TZID=America/New_York:20260326T183000
DTEND;TZID=America/New_York:20260326T193000
DTSTAMP:20260420T170257
CREATED:20260204T140233Z
LAST-MODIFIED:20260204T140233Z
UID:10004650-1774549800-1774553400@www.mandarinmoose42.com
SUMMARY:WOTM Meeting in the Hall
DESCRIPTION:
URL:https://www.mandarinmoose42.com/event/wotm-meeting-in-the-hall-2-2-2-2-2/2026-03-26/
CATEGORIES:WOTM
ATTACH;FMTTYPE=image/jpeg:https://www.mandarinmoose42.com/wp-content/uploads/WOTM-Loop-Heart-Logo.jpg
END:VEVENT
BEGIN:VEVENT
DTSTART;TZID=America/New_York:20260326T120000
DTEND;TZID=America/New_York:20260326T150000
DTSTAMP:20260420T170257
CREATED:20260218T135402Z
LAST-MODIFIED:20260218T135402Z
UID:10004919-1774526400-1774537200@www.mandarinmoose42.com
SUMMARY:Moosehaven Lunch and Bingo
DESCRIPTION:
URL:https://www.mandarinmoose42.com/event/moosehaven-lunch-and-bingo-4/
CATEGORIES:Moosehaven
ATTACH;FMTTYPE=image/webp:https://www.mandarinmoose42.com/wp-content/uploads/moosehaven-logo.webp
END:VEVENT
BEGIN:VEVENT
DTSTART;TZID=America/New_York:20260325T190000
DTEND;TZID=America/New_York:20260325T210000
DTSTAMP:20260420T170257
CREATED:20251024T135633Z
LAST-MODIFIED:20251024T135644Z
UID:10000701-1774465200-1774472400@www.mandarinmoose42.com
SUMMARY:Bingo is BACK!!!
DESCRIPTION:Join us for Bingo in the Hall for fun and great prizes!
URL:https://www.mandarinmoose42.com/event/bingo-5/2026-03-25/
ATTACH;FMTTYPE=image/jpeg:https://www.mandarinmoose42.com/wp-content/uploads/Bingo.jpg
END:VEVENT
BEGIN:VEVENT
DTSTART;TZID=America/New_York:20260324T193000
DTEND;TZID=America/New_York:20260324T200000
DTSTAMP:20260420T170257
CREATED:20250610T135445Z
LAST-MODIFIED:20250610T135445Z
UID:10001691-1774380600-1774382400@www.mandarinmoose42.com
SUMMARY:Queen of Hearts Drawing
DESCRIPTION:
URL:https://www.mandarinmoose42.com/event/queen-of-hearts-drawing/2026-03-24/
CATEGORIES:Fundraiser
ATTACH;FMTTYPE=image/jpeg:https://www.mandarinmoose42.com/wp-content/uploads/Queen-of-Hearts.jpg
END:VEVENT
BEGIN:VEVENT
DTSTART;TZID=America/New_York:20260323T190000
DTEND;TZID=America/New_York:20260323T210000
DTSTAMP:20260420T170257
CREATED:20250505T151020Z
LAST-MODIFIED:20250505T151058Z
UID:10000047-1774292400-1774299600@www.mandarinmoose42.com
SUMMARY:Monday Night Pool League
DESCRIPTION:
URL:https://www.mandarinmoose42.com/event/monday-night-pool-league/2026-03-23/
LOCATION:Mandarin Moose Lodge #42\, 4450 Losco Road\, Jacksonville\, FL\, 32257\, United States
ATTACH;FMTTYPE=image/jpeg:https://www.mandarinmoose42.com/wp-content/uploads/iStock-509796074.jpg
ORGANIZER;CN="Mandarin Moose Lodge #42":MAILTO:Lodge42@mooseunits.org
END:VEVENT
BEGIN:VEVENT
DTSTART;TZID=America/New_York:20260322T110000
DTEND;TZID=America/New_York:20260322T150000
DTSTAMP:20260420T170257
CREATED:20260218T141728Z
LAST-MODIFIED:20260218T141728Z
UID:10004933-1774177200-1774191600@www.mandarinmoose42.com
SUMMARY:Florida Day at Moosehaven
DESCRIPTION:
URL:https://www.mandarinmoose42.com/event/florida-day-at-moosehaven/
END:VEVENT
BEGIN:VEVENT
DTSTART;TZID=America/New_York:20260321T180000
DTEND;TZID=America/New_York:20260321T220000
DTSTAMP:20260420T170257
CREATED:20260218T140311Z
LAST-MODIFIED:20260218T140311Z
UID:10004925-1774116000-1774130400@www.mandarinmoose42.com
SUMMARY:Poker Tournament
DESCRIPTION:MEMBERS ONLY \nTexas Hold-Em \n$20 buy in
URL:https://www.mandarinmoose42.com/event/poker-tournament/
END:VEVENT
BEGIN:VEVENT
DTSTART;TZID=America/New_York:20260320T190000
DTEND;TZID=America/New_York:20260320T230000
DTSTAMP:20260420T170257
CREATED:20260218T135949Z
LAST-MODIFIED:20260218T135949Z
UID:10004924-1774033200-1774047600@www.mandarinmoose42.com
SUMMARY:George Aspinall Band
DESCRIPTION:
URL:https://www.mandarinmoose42.com/event/george-aspinall-band-5/
LOCATION:Mandarin Moose Lodge #42\, 4450 Losco Road\, Jacksonville\, FL\, 32257\, United States
CATEGORIES:Live Music
ATTACH;FMTTYPE=image/jpeg:https://www.mandarinmoose42.com/wp-content/uploads/George-Aspinall.jpg
END:VEVENT
BEGIN:VEVENT
DTSTART;TZID=America/New_York:20260319T190000
DTEND;TZID=America/New_York:20260319T210000
DTSTAMP:20260420T170257
CREATED:20250505T163800Z
LAST-MODIFIED:20250505T163904Z
UID:10000961-1773946800-1773954000@www.mandarinmoose42.com
SUMMARY:Trivia in the Social Quarters
DESCRIPTION:
URL:https://www.mandarinmoose42.com/event/trivia-in-the-social-quarters/2026-03-19/
ATTACH;FMTTYPE=image/jpeg:https://www.mandarinmoose42.com/wp-content/uploads/Trivia.jpg
END:VEVENT
BEGIN:VEVENT
DTSTART;TZID=America/New_York:20260318T190000
DTEND;TZID=America/New_York:20260318T210000
DTSTAMP:20260420T170257
CREATED:20251024T135633Z
LAST-MODIFIED:20251024T135644Z
UID:10000700-1773860400-1773867600@www.mandarinmoose42.com
SUMMARY:Bingo is BACK!!!
DESCRIPTION:Join us for Bingo in the Hall for fun and great prizes!
URL:https://www.mandarinmoose42.com/event/bingo-5/2026-03-18/
ATTACH;FMTTYPE=image/jpeg:https://www.mandarinmoose42.com/wp-content/uploads/Bingo.jpg
END:VEVENT
BEGIN:VEVENT
DTSTART;TZID=America/New_York:20260317T193000
DTEND;TZID=America/New_York:20260317T200000
DTSTAMP:20260420T170257
CREATED:20250610T135445Z
LAST-MODIFIED:20250610T135445Z
UID:10001690-1773775800-1773777600@www.mandarinmoose42.com
SUMMARY:Queen of Hearts Drawing
DESCRIPTION:
URL:https://www.mandarinmoose42.com/event/queen-of-hearts-drawing/2026-03-17/
CATEGORIES:Fundraiser
ATTACH;FMTTYPE=image/jpeg:https://www.mandarinmoose42.com/wp-content/uploads/Queen-of-Hearts.jpg
END:VEVENT
BEGIN:VEVENT
DTSTART;TZID=America/New_York:20260317T190000
DTEND;TZID=America/New_York:20260317T200000
DTSTAMP:20260420T170257
CREATED:20260204T133755Z
LAST-MODIFIED:20260204T133756Z
UID:10004516-1773774000-1773777600@www.mandarinmoose42.com
SUMMARY:General Membership Meeting
DESCRIPTION:Join us on the first and third Tuesday of the month for the General Membership Meeting in the Hall.
URL:https://www.mandarinmoose42.com/event/general-membership-meeting-2-2-2-2/2026-03-17/
LOCATION:Mandarin Moose Lodge #42\, 4450 Losco Road\, Jacksonville\, FL\, 32257\, United States
CATEGORIES:Meeting
ATTACH;FMTTYPE=image/jpeg:https://www.mandarinmoose42.com/wp-content/uploads/Meeting.jpg
ORGANIZER;CN="Mandarin Moose Lodge #42":MAILTO:Lodge42@mooseunits.org
END:VEVENT
BEGIN:VEVENT
DTSTART;TZID=America/New_York:20260316T190000
DTEND;TZID=America/New_York:20260316T210000
DTSTAMP:20260420T170257
CREATED:20250505T151020Z
LAST-MODIFIED:20250505T151058Z
UID:10000046-1773687600-1773694800@www.mandarinmoose42.com
SUMMARY:Monday Night Pool League
DESCRIPTION:
URL:https://www.mandarinmoose42.com/event/monday-night-pool-league/2026-03-16/
LOCATION:Mandarin Moose Lodge #42\, 4450 Losco Road\, Jacksonville\, FL\, 32257\, United States
ATTACH;FMTTYPE=image/jpeg:https://www.mandarinmoose42.com/wp-content/uploads/iStock-509796074.jpg
ORGANIZER;CN="Mandarin Moose Lodge #42":MAILTO:Lodge42@mooseunits.org
END:VEVENT
BEGIN:VEVENT
DTSTART;TZID=America/New_York:20260315T120000
DTEND;TZID=America/New_York:20260315T140000
DTSTAMP:20260420T170257
CREATED:20260218T141638Z
LAST-MODIFIED:20260218T141638Z
UID:10004932-1773576000-1773583200@www.mandarinmoose42.com
SUMMARY:Mandarin Moose 42 Chili Cookoff
DESCRIPTION:$10 entry fee to enter your famous chili \n$5 fee per person to taste and vote
URL:https://www.mandarinmoose42.com/event/chili-cookoff/
CATEGORIES:Fundraiser
ATTACH;FMTTYPE=image/png:https://www.mandarinmoose42.com/wp-content/uploads/Chili-Cook-Off-Event-Flyer-2.png
END:VEVENT
BEGIN:VEVENT
DTSTART;TZID=America/New_York:20260314T180000
DTEND;TZID=America/New_York:20260314T210000
DTSTAMP:20260420T170257
CREATED:20260218T135859Z
LAST-MODIFIED:20260218T135859Z
UID:10004923-1773511200-1773522000@www.mandarinmoose42.com
SUMMARY:Cash Bucket Trivia
DESCRIPTION:$5 per person per hour ($10 for six games = 2 payouts) \nWinner of each round gets free drink \nWinner of each hour gets cash payout
URL:https://www.mandarinmoose42.com/event/cash-bucket-trivia-2/
CATEGORIES:Social Quarters Specials
ATTACH;FMTTYPE=image/jpeg:https://www.mandarinmoose42.com/wp-content/uploads/Trivia.jpg
END:VEVENT
BEGIN:VEVENT
DTSTART;TZID=America/New_York:20260313T180000
DTEND;TZID=America/New_York:20260313T210000
DTSTAMP:20260420T170257
CREATED:20260218T135510Z
LAST-MODIFIED:20260218T135510Z
UID:10004920-1773424800-1773435600@www.mandarinmoose42.com
SUMMARY:Moosehaven Dinner
DESCRIPTION:
URL:https://www.mandarinmoose42.com/event/moosehaven-dinner-9/
CATEGORIES:Moosehaven
ATTACH;FMTTYPE=image/webp:https://www.mandarinmoose42.com/wp-content/uploads/moosehaven-logo.webp
END:VEVENT
BEGIN:VEVENT
DTSTART;TZID=America/New_York:20260312T190000
DTEND;TZID=America/New_York:20260312T210000
DTSTAMP:20260420T170257
CREATED:20250505T163800Z
LAST-MODIFIED:20250505T163904Z
UID:10000960-1773342000-1773349200@www.mandarinmoose42.com
SUMMARY:Trivia in the Social Quarters
DESCRIPTION:
URL:https://www.mandarinmoose42.com/event/trivia-in-the-social-quarters/2026-03-12/
ATTACH;FMTTYPE=image/jpeg:https://www.mandarinmoose42.com/wp-content/uploads/Trivia.jpg
END:VEVENT
BEGIN:VEVENT
DTSTART;TZID=America/New_York:20260312T183000
DTEND;TZID=America/New_York:20260312T193000
DTSTAMP:20260420T170257
CREATED:20260218T135121Z
LAST-MODIFIED:20260218T135121Z
UID:10004859-1773340200-1773343800@www.mandarinmoose42.com
SUMMARY:WOTM Meeting in the Hall
DESCRIPTION:
URL:https://www.mandarinmoose42.com/event/wotm-meeting-in-the-hall-3/2026-03-12/
CATEGORIES:WOTM
ATTACH;FMTTYPE=image/jpeg:https://www.mandarinmoose42.com/wp-content/uploads/WOTM-Loop-Heart-Logo.jpg
END:VEVENT
BEGIN:VEVENT
DTSTART;TZID=America/New_York:20260311T190000
DTEND;TZID=America/New_York:20260311T210000
DTSTAMP:20260420T170257
CREATED:20251024T135633Z
LAST-MODIFIED:20251024T135644Z
UID:10000699-1773255600-1773262800@www.mandarinmoose42.com
SUMMARY:Bingo is BACK!!!
DESCRIPTION:Join us for Bingo in the Hall for fun and great prizes!
URL:https://www.mandarinmoose42.com/event/bingo-5/2026-03-11/
ATTACH;FMTTYPE=image/jpeg:https://www.mandarinmoose42.com/wp-content/uploads/Bingo.jpg
END:VEVENT
BEGIN:VEVENT
DTSTART;TZID=America/New_York:20260310T193000
DTEND;TZID=America/New_York:20260310T203000
DTSTAMP:20260420T170257
CREATED:20260218T141439Z
LAST-MODIFIED:20260218T141439Z
UID:10004931-1773171000-1773174600@www.mandarinmoose42.com
SUMMARY:Chili Cookoff Informational Meeting
DESCRIPTION:Attend this meeting to get more information and rules for the March 15th Chili Cookoff.
URL:https://www.mandarinmoose42.com/event/chili-cookoff-informational-meeting/
ATTACH;FMTTYPE=image/png:https://www.mandarinmoose42.com/wp-content/uploads/Chili-Cook-Off-Event-Flyer-2.png
END:VEVENT
BEGIN:VEVENT
DTSTART;TZID=America/New_York:20260310T193000
DTEND;TZID=America/New_York:20260310T200000
DTSTAMP:20260420T170257
CREATED:20250610T135445Z
LAST-MODIFIED:20250610T135445Z
UID:10001689-1773171000-1773172800@www.mandarinmoose42.com
SUMMARY:Queen of Hearts Drawing
DESCRIPTION:
URL:https://www.mandarinmoose42.com/event/queen-of-hearts-drawing/2026-03-10/
CATEGORIES:Fundraiser
ATTACH;FMTTYPE=image/jpeg:https://www.mandarinmoose42.com/wp-content/uploads/Queen-of-Hearts.jpg
END:VEVENT
BEGIN:VEVENT
DTSTART;TZID=America/New_York:20260310T183000
DTEND;TZID=America/New_York:20260310T193000
DTSTAMP:20260420T170257
CREATED:20260218T134733Z
LAST-MODIFIED:20260218T134733Z
UID:10004720-1773167400-1773171000@www.mandarinmoose42.com
SUMMARY:Moose Legion Meeting
DESCRIPTION:
URL:https://www.mandarinmoose42.com/event/moose-legion-meeting-7/
LOCATION:Mandarin Moose Lodge #42\, 4450 Losco Road\, Jacksonville\, FL\, 32257\, United States
CATEGORIES:Meeting,Moose Legion
ATTACH;FMTTYPE=image/webp:https://www.mandarinmoose42.com/wp-content/uploads/moose-legion-service-logo.webp
END:VEVENT
BEGIN:VEVENT
DTSTART;TZID=America/New_York:20260309T190000
DTEND;TZID=America/New_York:20260309T210000
DTSTAMP:20260420T170257
CREATED:20250505T151020Z
LAST-MODIFIED:20250505T151058Z
UID:10000045-1773082800-1773090000@www.mandarinmoose42.com
SUMMARY:Monday Night Pool League
DESCRIPTION:
URL:https://www.mandarinmoose42.com/event/monday-night-pool-league/2026-03-09/
LOCATION:Mandarin Moose Lodge #42\, 4450 Losco Road\, Jacksonville\, FL\, 32257\, United States
ATTACH;FMTTYPE=image/jpeg:https://www.mandarinmoose42.com/wp-content/uploads/iStock-509796074.jpg
ORGANIZER;CN="Mandarin Moose Lodge #42":MAILTO:Lodge42@mooseunits.org
END:VEVENT
BEGIN:VEVENT
DTSTART;TZID=America/New_York:20260307T190000
DTEND;TZID=America/New_York:20260307T230000
DTSTAMP:20260420T170257
CREATED:20260218T135811Z
LAST-MODIFIED:20260218T135811Z
UID:10004922-1772910000-1772924400@www.mandarinmoose42.com
SUMMARY:Mr. B Side
DESCRIPTION:Jacksonville band performing classic hit songs you know and love.Full Band: Nick(vocals/bass)\, Paul (keys)\, Bill (drums)\, Dan (guitar)\, and Greg(sax).Nick and Paul with the Guitar/Piano duo.
URL:https://www.mandarinmoose42.com/event/mr-b-side-3/
CATEGORIES:Live Music
ATTACH;FMTTYPE=image/jpeg:https://www.mandarinmoose42.com/wp-content/uploads/MrBSide.jpg
END:VEVENT
BEGIN:VEVENT
DTSTART;TZID=America/New_York:20260306T200000
DTEND;TZID=America/New_York:20260307T000000
DTSTAMP:20260420T170257
CREATED:20260218T135723Z
LAST-MODIFIED:20260218T135723Z
UID:10004921-1772827200-1772841600@www.mandarinmoose42.com
SUMMARY:Karaoke with Bobby Bubbles
DESCRIPTION:
URL:https://www.mandarinmoose42.com/event/karaoke-with-bobby-bubbles-6/
CATEGORIES:Live Music
ATTACH;FMTTYPE=image/jpeg:https://www.mandarinmoose42.com/wp-content/uploads/Karaoke-scaled.jpg
END:VEVENT
BEGIN:VEVENT
DTSTART;TZID=America/New_York:20260305T190000
DTEND;TZID=America/New_York:20260305T210000
DTSTAMP:20260420T170257
CREATED:20250505T163800Z
LAST-MODIFIED:20250505T163904Z
UID:10000959-1772737200-1772744400@www.mandarinmoose42.com
SUMMARY:Trivia in the Social Quarters
DESCRIPTION:
URL:https://www.mandarinmoose42.com/event/trivia-in-the-social-quarters/2026-03-05/
ATTACH;FMTTYPE=image/jpeg:https://www.mandarinmoose42.com/wp-content/uploads/Trivia.jpg
END:VEVENT
BEGIN:VEVENT
DTSTART;TZID=America/New_York:20260304T190000
DTEND;TZID=America/New_York:20260304T210000
DTSTAMP:20260420T170257
CREATED:20251024T135633Z
LAST-MODIFIED:20251024T135644Z
UID:10000698-1772650800-1772658000@www.mandarinmoose42.com
SUMMARY:Bingo is BACK!!!
DESCRIPTION:Join us for Bingo in the Hall for fun and great prizes!
URL:https://www.mandarinmoose42.com/event/bingo-5/2026-03-04/
ATTACH;FMTTYPE=image/jpeg:https://www.mandarinmoose42.com/wp-content/uploads/Bingo.jpg
END:VEVENT
BEGIN:VEVENT
DTSTART;TZID=America/New_York:20260303T193000
DTEND;TZID=America/New_York:20260303T200000
DTSTAMP:20260420T170257
CREATED:20250610T135445Z
LAST-MODIFIED:20250610T135445Z
UID:10001688-1772566200-1772568000@www.mandarinmoose42.com
SUMMARY:Queen of Hearts Drawing
DESCRIPTION:
URL:https://www.mandarinmoose42.com/event/queen-of-hearts-drawing/2026-03-03/
CATEGORIES:Fundraiser
ATTACH;FMTTYPE=image/jpeg:https://www.mandarinmoose42.com/wp-content/uploads/Queen-of-Hearts.jpg
END:VEVENT
BEGIN:VEVENT
DTSTART;TZID=America/New_York:20260303T190000
DTEND;TZID=America/New_York:20260303T200000
DTSTAMP:20260420T170257
CREATED:20260204T133755Z
LAST-MODIFIED:20260204T133756Z
UID:10004515-1772564400-1772568000@www.mandarinmoose42.com
SUMMARY:General Membership Meeting
DESCRIPTION:Join us on the first and third Tuesday of the month for the General Membership Meeting in the Hall.
URL:https://www.mandarinmoose42.com/event/general-membership-meeting-2-2-2-2/2026-03-03/
LOCATION:Mandarin Moose Lodge #42\, 4450 Losco Road\, Jacksonville\, FL\, 32257\, United States
CATEGORIES:Meeting
ATTACH;FMTTYPE=image/jpeg:https://www.mandarinmoose42.com/wp-content/uploads/Meeting.jpg
ORGANIZER;CN="Mandarin Moose Lodge #42":MAILTO:Lodge42@mooseunits.org
END:VEVENT
BEGIN:VEVENT
DTSTART;TZID=America/New_York:20260302T190000
DTEND;TZID=America/New_York:20260302T210000
DTSTAMP:20260420T170257
CREATED:20250505T151020Z
LAST-MODIFIED:20250505T151058Z
UID:10000044-1772478000-1772485200@www.mandarinmoose42.com
SUMMARY:Monday Night Pool League
DESCRIPTION:
URL:https://www.mandarinmoose42.com/event/monday-night-pool-league/2026-03-02/
LOCATION:Mandarin Moose Lodge #42\, 4450 Losco Road\, Jacksonville\, FL\, 32257\, United States
ATTACH;FMTTYPE=image/jpeg:https://www.mandarinmoose42.com/wp-content/uploads/iStock-509796074.jpg
ORGANIZER;CN="Mandarin Moose Lodge #42":MAILTO:Lodge42@mooseunits.org
END:VEVENT
END:VCALENDAR