BEGIN:VCALENDAR
VERSION:2.0
PRODID:-//Mandarin Moose Lodge #42 - ECPv6.15.18//NONSGML v1.0//EN
CALSCALE:GREGORIAN
METHOD:PUBLISH
X-WR-CALNAME:Mandarin Moose Lodge #42
X-ORIGINAL-URL:https://www.mandarinmoose42.com
X-WR-CALDESC:Events for Mandarin Moose Lodge #42
REFRESH-INTERVAL;VALUE=DURATION:PT1H
X-Robots-Tag:noindex
X-PUBLISHED-TTL:PT1H
BEGIN:VTIMEZONE
TZID:America/New_York
BEGIN:DAYLIGHT
TZOFFSETFROM:-0500
TZOFFSETTO:-0400
TZNAME:EDT
DTSTART:20250309T070000
END:DAYLIGHT
BEGIN:STANDARD
TZOFFSETFROM:-0400
TZOFFSETTO:-0500
TZNAME:EST
DTSTART:20251102T060000
END:STANDARD
BEGIN:DAYLIGHT
TZOFFSETFROM:-0500
TZOFFSETTO:-0400
TZNAME:EDT
DTSTART:20260308T070000
END:DAYLIGHT
BEGIN:STANDARD
TZOFFSETFROM:-0400
TZOFFSETTO:-0500
TZNAME:EST
DTSTART:20261101T060000
END:STANDARD
BEGIN:DAYLIGHT
TZOFFSETFROM:-0500
TZOFFSETTO:-0400
TZNAME:EDT
DTSTART:20270314T070000
END:DAYLIGHT
BEGIN:STANDARD
TZOFFSETFROM:-0400
TZOFFSETTO:-0500
TZNAME:EST
DTSTART:20271107T060000
END:STANDARD
END:VTIMEZONE
BEGIN:VEVENT
DTSTART;TZID=America/New_York:20260915T190000
DTEND;TZID=America/New_York:20260915T200000
DTSTAMP:20260423T134500
CREATED:20260204T133755Z
LAST-MODIFIED:20260204T133756Z
UID:10004529-1789498800-1789502400@www.mandarinmoose42.com
SUMMARY:General Membership Meeting
DESCRIPTION:Join us on the first and third Tuesday of the month for the General Membership Meeting in the Hall.
URL:https://www.mandarinmoose42.com/event/general-membership-meeting-2-2-2-2/2026-09-15/
LOCATION:Mandarin Moose Lodge #42\, 4450 Losco Road\, Jacksonville\, FL\, 32257\, United States
CATEGORIES:Meeting
ATTACH;FMTTYPE=image/jpeg:https://www.mandarinmoose42.com/wp-content/uploads/Meeting.jpg
ORGANIZER;CN="Mandarin Moose Lodge #42":MAILTO:Lodge42@mooseunits.org
END:VEVENT
BEGIN:VEVENT
DTSTART;TZID=America/New_York:20260915T193000
DTEND;TZID=America/New_York:20260915T200000
DTSTAMP:20260423T134500
CREATED:20250610T135445Z
LAST-MODIFIED:20250610T135445Z
UID:10001716-1789500600-1789502400@www.mandarinmoose42.com
SUMMARY:Queen of Hearts Drawing
DESCRIPTION:
URL:https://www.mandarinmoose42.com/event/queen-of-hearts-drawing/2026-09-15/
CATEGORIES:Fundraiser
ATTACH;FMTTYPE=image/jpeg:https://www.mandarinmoose42.com/wp-content/uploads/Queen-of-Hearts.jpg
END:VEVENT
BEGIN:VEVENT
DTSTART;TZID=America/New_York:20260916T190000
DTEND;TZID=America/New_York:20260916T210000
DTSTAMP:20260423T134500
CREATED:20251024T135633Z
LAST-MODIFIED:20251024T135644Z
UID:10000726-1789585200-1789592400@www.mandarinmoose42.com
SUMMARY:Bingo is BACK!!!
DESCRIPTION:Join us for Bingo in the Hall for fun and great prizes!
URL:https://www.mandarinmoose42.com/event/bingo-5/2026-09-16/
ATTACH;FMTTYPE=image/jpeg:https://www.mandarinmoose42.com/wp-content/uploads/Bingo.jpg
END:VEVENT
BEGIN:VEVENT
DTSTART;TZID=America/New_York:20260917T190000
DTEND;TZID=America/New_York:20260917T210000
DTSTAMP:20260423T134500
CREATED:20250505T163800Z
LAST-MODIFIED:20250505T163904Z
UID:10000987-1789671600-1789678800@www.mandarinmoose42.com
SUMMARY:Trivia in the Social Quarters
DESCRIPTION:
URL:https://www.mandarinmoose42.com/event/trivia-in-the-social-quarters/2026-09-17/
ATTACH;FMTTYPE=image/jpeg:https://www.mandarinmoose42.com/wp-content/uploads/Trivia.jpg
END:VEVENT
BEGIN:VEVENT
DTSTART;TZID=America/New_York:20260921T190000
DTEND;TZID=America/New_York:20260921T210000
DTSTAMP:20260423T134500
CREATED:20250505T151020Z
LAST-MODIFIED:20250505T151058Z
UID:10000073-1790017200-1790024400@www.mandarinmoose42.com
SUMMARY:Monday Night Pool League
DESCRIPTION:
URL:https://www.mandarinmoose42.com/event/monday-night-pool-league/2026-09-21/
LOCATION:Mandarin Moose Lodge #42\, 4450 Losco Road\, Jacksonville\, FL\, 32257\, United States
ATTACH;FMTTYPE=image/jpeg:https://www.mandarinmoose42.com/wp-content/uploads/iStock-509796074.jpg
ORGANIZER;CN="Mandarin Moose Lodge #42":MAILTO:Lodge42@mooseunits.org
END:VEVENT
BEGIN:VEVENT
DTSTART;TZID=America/New_York:20260922T193000
DTEND;TZID=America/New_York:20260922T200000
DTSTAMP:20260423T134500
CREATED:20250610T135445Z
LAST-MODIFIED:20250610T135445Z
UID:10001717-1790105400-1790107200@www.mandarinmoose42.com
SUMMARY:Queen of Hearts Drawing
DESCRIPTION:
URL:https://www.mandarinmoose42.com/event/queen-of-hearts-drawing/2026-09-22/
CATEGORIES:Fundraiser
ATTACH;FMTTYPE=image/jpeg:https://www.mandarinmoose42.com/wp-content/uploads/Queen-of-Hearts.jpg
END:VEVENT
BEGIN:VEVENT
DTSTART;TZID=America/New_York:20260923T190000
DTEND;TZID=America/New_York:20260923T210000
DTSTAMP:20260423T134500
CREATED:20251024T135633Z
LAST-MODIFIED:20251024T135644Z
UID:10000727-1790190000-1790197200@www.mandarinmoose42.com
SUMMARY:Bingo is BACK!!!
DESCRIPTION:Join us for Bingo in the Hall for fun and great prizes!
URL:https://www.mandarinmoose42.com/event/bingo-5/2026-09-23/
ATTACH;FMTTYPE=image/jpeg:https://www.mandarinmoose42.com/wp-content/uploads/Bingo.jpg
END:VEVENT
BEGIN:VEVENT
DTSTART;TZID=America/New_York:20260924T183000
DTEND;TZID=America/New_York:20260924T193000
DTSTAMP:20260423T134500
CREATED:20260218T135230Z
LAST-MODIFIED:20260218T135230Z
UID:10004746-1790274600-1790278200@www.mandarinmoose42.com
SUMMARY:WOTM Meeting in the Hall
DESCRIPTION:
URL:https://www.mandarinmoose42.com/event/wotm-meeting-in-the-hall-4/2026-09-24/
CATEGORIES:WOTM
ATTACH;FMTTYPE=image/jpeg:https://www.mandarinmoose42.com/wp-content/uploads/WOTM-Loop-Heart-Logo.jpg
END:VEVENT
BEGIN:VEVENT
DTSTART;TZID=America/New_York:20260924T190000
DTEND;TZID=America/New_York:20260924T210000
DTSTAMP:20260423T134500
CREATED:20250505T163800Z
LAST-MODIFIED:20250505T163904Z
UID:10000988-1790276400-1790283600@www.mandarinmoose42.com
SUMMARY:Trivia in the Social Quarters
DESCRIPTION:
URL:https://www.mandarinmoose42.com/event/trivia-in-the-social-quarters/2026-09-24/
ATTACH;FMTTYPE=image/jpeg:https://www.mandarinmoose42.com/wp-content/uploads/Trivia.jpg
END:VEVENT
BEGIN:VEVENT
DTSTART;TZID=America/New_York:20260928T190000
DTEND;TZID=America/New_York:20260928T210000
DTSTAMP:20260423T134500
CREATED:20250505T151020Z
LAST-MODIFIED:20250505T151058Z
UID:10000074-1790622000-1790629200@www.mandarinmoose42.com
SUMMARY:Monday Night Pool League
DESCRIPTION:
URL:https://www.mandarinmoose42.com/event/monday-night-pool-league/2026-09-28/
LOCATION:Mandarin Moose Lodge #42\, 4450 Losco Road\, Jacksonville\, FL\, 32257\, United States
ATTACH;FMTTYPE=image/jpeg:https://www.mandarinmoose42.com/wp-content/uploads/iStock-509796074.jpg
ORGANIZER;CN="Mandarin Moose Lodge #42":MAILTO:Lodge42@mooseunits.org
END:VEVENT
BEGIN:VEVENT
DTSTART;TZID=America/New_York:20260929T190000
DTEND;TZID=America/New_York:20260929T200000
DTSTAMP:20260423T134500
CREATED:20260204T133755Z
LAST-MODIFIED:20260204T133756Z
UID:10004530-1790708400-1790712000@www.mandarinmoose42.com
SUMMARY:General Membership Meeting
DESCRIPTION:Join us on the first and third Tuesday of the month for the General Membership Meeting in the Hall.
URL:https://www.mandarinmoose42.com/event/general-membership-meeting-2-2-2-2/2026-09-29/
LOCATION:Mandarin Moose Lodge #42\, 4450 Losco Road\, Jacksonville\, FL\, 32257\, United States
CATEGORIES:Meeting
ATTACH;FMTTYPE=image/jpeg:https://www.mandarinmoose42.com/wp-content/uploads/Meeting.jpg
ORGANIZER;CN="Mandarin Moose Lodge #42":MAILTO:Lodge42@mooseunits.org
END:VEVENT
BEGIN:VEVENT
DTSTART;TZID=America/New_York:20260929T193000
DTEND;TZID=America/New_York:20260929T200000
DTSTAMP:20260423T134500
CREATED:20250610T135445Z
LAST-MODIFIED:20250610T135445Z
UID:10001718-1790710200-1790712000@www.mandarinmoose42.com
SUMMARY:Queen of Hearts Drawing
DESCRIPTION:
URL:https://www.mandarinmoose42.com/event/queen-of-hearts-drawing/2026-09-29/
CATEGORIES:Fundraiser
ATTACH;FMTTYPE=image/jpeg:https://www.mandarinmoose42.com/wp-content/uploads/Queen-of-Hearts.jpg
END:VEVENT
BEGIN:VEVENT
DTSTART;TZID=America/New_York:20260930T190000
DTEND;TZID=America/New_York:20260930T210000
DTSTAMP:20260423T134500
CREATED:20251024T135633Z
LAST-MODIFIED:20251024T135644Z
UID:10000728-1790794800-1790802000@www.mandarinmoose42.com
SUMMARY:Bingo is BACK!!!
DESCRIPTION:Join us for Bingo in the Hall for fun and great prizes!
URL:https://www.mandarinmoose42.com/event/bingo-5/2026-09-30/
ATTACH;FMTTYPE=image/jpeg:https://www.mandarinmoose42.com/wp-content/uploads/Bingo.jpg
END:VEVENT
BEGIN:VEVENT
DTSTART;TZID=America/New_York:20261001T190000
DTEND;TZID=America/New_York:20261001T210000
DTSTAMP:20260423T134500
CREATED:20250505T163800Z
LAST-MODIFIED:20250505T163904Z
UID:10000989-1790881200-1790888400@www.mandarinmoose42.com
SUMMARY:Trivia in the Social Quarters
DESCRIPTION:
URL:https://www.mandarinmoose42.com/event/trivia-in-the-social-quarters/2026-10-01/
ATTACH;FMTTYPE=image/jpeg:https://www.mandarinmoose42.com/wp-content/uploads/Trivia.jpg
END:VEVENT
BEGIN:VEVENT
DTSTART;TZID=America/New_York:20261005T190000
DTEND;TZID=America/New_York:20261005T210000
DTSTAMP:20260423T134500
CREATED:20250505T151020Z
LAST-MODIFIED:20250505T151058Z
UID:10000075-1791226800-1791234000@www.mandarinmoose42.com
SUMMARY:Monday Night Pool League
DESCRIPTION:
URL:https://www.mandarinmoose42.com/event/monday-night-pool-league/2026-10-05/
LOCATION:Mandarin Moose Lodge #42\, 4450 Losco Road\, Jacksonville\, FL\, 32257\, United States
ATTACH;FMTTYPE=image/jpeg:https://www.mandarinmoose42.com/wp-content/uploads/iStock-509796074.jpg
ORGANIZER;CN="Mandarin Moose Lodge #42":MAILTO:Lodge42@mooseunits.org
END:VEVENT
BEGIN:VEVENT
DTSTART;TZID=America/New_York:20261006T193000
DTEND;TZID=America/New_York:20261006T200000
DTSTAMP:20260423T134500
CREATED:20250610T135445Z
LAST-MODIFIED:20250610T135445Z
UID:10001719-1791315000-1791316800@www.mandarinmoose42.com
SUMMARY:Queen of Hearts Drawing
DESCRIPTION:
URL:https://www.mandarinmoose42.com/event/queen-of-hearts-drawing/2026-10-06/
CATEGORIES:Fundraiser
ATTACH;FMTTYPE=image/jpeg:https://www.mandarinmoose42.com/wp-content/uploads/Queen-of-Hearts.jpg
END:VEVENT
BEGIN:VEVENT
DTSTART;TZID=America/New_York:20261007T190000
DTEND;TZID=America/New_York:20261007T210000
DTSTAMP:20260423T134500
CREATED:20251024T135633Z
LAST-MODIFIED:20251024T135644Z
UID:10000729-1791399600-1791406800@www.mandarinmoose42.com
SUMMARY:Bingo is BACK!!!
DESCRIPTION:Join us for Bingo in the Hall for fun and great prizes!
URL:https://www.mandarinmoose42.com/event/bingo-5/2026-10-07/
ATTACH;FMTTYPE=image/jpeg:https://www.mandarinmoose42.com/wp-content/uploads/Bingo.jpg
END:VEVENT
BEGIN:VEVENT
DTSTART;TZID=America/New_York:20261008T183000
DTEND;TZID=America/New_York:20261008T193000
DTSTAMP:20260423T134500
CREATED:20260218T135121Z
LAST-MODIFIED:20260218T135121Z
UID:10004866-1791484200-1791487800@www.mandarinmoose42.com
SUMMARY:WOTM Meeting in the Hall
DESCRIPTION:
URL:https://www.mandarinmoose42.com/event/wotm-meeting-in-the-hall-3/2026-10-08/
CATEGORIES:WOTM
ATTACH;FMTTYPE=image/jpeg:https://www.mandarinmoose42.com/wp-content/uploads/WOTM-Loop-Heart-Logo.jpg
END:VEVENT
BEGIN:VEVENT
DTSTART;TZID=America/New_York:20261008T190000
DTEND;TZID=America/New_York:20261008T210000
DTSTAMP:20260423T134500
CREATED:20250505T163800Z
LAST-MODIFIED:20250505T163904Z
UID:10000990-1791486000-1791493200@www.mandarinmoose42.com
SUMMARY:Trivia in the Social Quarters
DESCRIPTION:
URL:https://www.mandarinmoose42.com/event/trivia-in-the-social-quarters/2026-10-08/
ATTACH;FMTTYPE=image/jpeg:https://www.mandarinmoose42.com/wp-content/uploads/Trivia.jpg
END:VEVENT
BEGIN:VEVENT
DTSTART;TZID=America/New_York:20261012T190000
DTEND;TZID=America/New_York:20261012T210000
DTSTAMP:20260423T134500
CREATED:20250505T151020Z
LAST-MODIFIED:20250505T151058Z
UID:10000076-1791831600-1791838800@www.mandarinmoose42.com
SUMMARY:Monday Night Pool League
DESCRIPTION:
URL:https://www.mandarinmoose42.com/event/monday-night-pool-league/2026-10-12/
LOCATION:Mandarin Moose Lodge #42\, 4450 Losco Road\, Jacksonville\, FL\, 32257\, United States
ATTACH;FMTTYPE=image/jpeg:https://www.mandarinmoose42.com/wp-content/uploads/iStock-509796074.jpg
ORGANIZER;CN="Mandarin Moose Lodge #42":MAILTO:Lodge42@mooseunits.org
END:VEVENT
BEGIN:VEVENT
DTSTART;TZID=America/New_York:20261013T190000
DTEND;TZID=America/New_York:20261013T200000
DTSTAMP:20260423T134500
CREATED:20260204T133755Z
LAST-MODIFIED:20260204T133756Z
UID:10004531-1791918000-1791921600@www.mandarinmoose42.com
SUMMARY:General Membership Meeting
DESCRIPTION:Join us on the first and third Tuesday of the month for the General Membership Meeting in the Hall.
URL:https://www.mandarinmoose42.com/event/general-membership-meeting-2-2-2-2/2026-10-13/
LOCATION:Mandarin Moose Lodge #42\, 4450 Losco Road\, Jacksonville\, FL\, 32257\, United States
CATEGORIES:Meeting
ATTACH;FMTTYPE=image/jpeg:https://www.mandarinmoose42.com/wp-content/uploads/Meeting.jpg
ORGANIZER;CN="Mandarin Moose Lodge #42":MAILTO:Lodge42@mooseunits.org
END:VEVENT
BEGIN:VEVENT
DTSTART;TZID=America/New_York:20261013T193000
DTEND;TZID=America/New_York:20261013T200000
DTSTAMP:20260423T134500
CREATED:20250610T135445Z
LAST-MODIFIED:20250610T135445Z
UID:10001720-1791919800-1791921600@www.mandarinmoose42.com
SUMMARY:Queen of Hearts Drawing
DESCRIPTION:
URL:https://www.mandarinmoose42.com/event/queen-of-hearts-drawing/2026-10-13/
CATEGORIES:Fundraiser
ATTACH;FMTTYPE=image/jpeg:https://www.mandarinmoose42.com/wp-content/uploads/Queen-of-Hearts.jpg
END:VEVENT
BEGIN:VEVENT
DTSTART;TZID=America/New_York:20261014T190000
DTEND;TZID=America/New_York:20261014T210000
DTSTAMP:20260423T134500
CREATED:20251024T135633Z
LAST-MODIFIED:20251024T135644Z
UID:10000730-1792004400-1792011600@www.mandarinmoose42.com
SUMMARY:Bingo is BACK!!!
DESCRIPTION:Join us for Bingo in the Hall for fun and great prizes!
URL:https://www.mandarinmoose42.com/event/bingo-5/2026-10-14/
ATTACH;FMTTYPE=image/jpeg:https://www.mandarinmoose42.com/wp-content/uploads/Bingo.jpg
END:VEVENT
BEGIN:VEVENT
DTSTART;TZID=America/New_York:20261015T190000
DTEND;TZID=America/New_York:20261015T210000
DTSTAMP:20260423T134500
CREATED:20250505T163800Z
LAST-MODIFIED:20250505T163904Z
UID:10000991-1792090800-1792098000@www.mandarinmoose42.com
SUMMARY:Trivia in the Social Quarters
DESCRIPTION:
URL:https://www.mandarinmoose42.com/event/trivia-in-the-social-quarters/2026-10-15/
ATTACH;FMTTYPE=image/jpeg:https://www.mandarinmoose42.com/wp-content/uploads/Trivia.jpg
END:VEVENT
BEGIN:VEVENT
DTSTART;TZID=America/New_York:20261019T190000
DTEND;TZID=America/New_York:20261019T210000
DTSTAMP:20260423T134500
CREATED:20250505T151020Z
LAST-MODIFIED:20250505T151058Z
UID:10000077-1792436400-1792443600@www.mandarinmoose42.com
SUMMARY:Monday Night Pool League
DESCRIPTION:
URL:https://www.mandarinmoose42.com/event/monday-night-pool-league/2026-10-19/
LOCATION:Mandarin Moose Lodge #42\, 4450 Losco Road\, Jacksonville\, FL\, 32257\, United States
ATTACH;FMTTYPE=image/jpeg:https://www.mandarinmoose42.com/wp-content/uploads/iStock-509796074.jpg
ORGANIZER;CN="Mandarin Moose Lodge #42":MAILTO:Lodge42@mooseunits.org
END:VEVENT
BEGIN:VEVENT
DTSTART;TZID=America/New_York:20261020T193000
DTEND;TZID=America/New_York:20261020T200000
DTSTAMP:20260423T134500
CREATED:20250610T135445Z
LAST-MODIFIED:20250610T135445Z
UID:10001721-1792524600-1792526400@www.mandarinmoose42.com
SUMMARY:Queen of Hearts Drawing
DESCRIPTION:
URL:https://www.mandarinmoose42.com/event/queen-of-hearts-drawing/2026-10-20/
CATEGORIES:Fundraiser
ATTACH;FMTTYPE=image/jpeg:https://www.mandarinmoose42.com/wp-content/uploads/Queen-of-Hearts.jpg
END:VEVENT
BEGIN:VEVENT
DTSTART;TZID=America/New_York:20261021T190000
DTEND;TZID=America/New_York:20261021T210000
DTSTAMP:20260423T134500
CREATED:20251024T135633Z
LAST-MODIFIED:20251024T135644Z
UID:10000731-1792609200-1792616400@www.mandarinmoose42.com
SUMMARY:Bingo is BACK!!!
DESCRIPTION:Join us for Bingo in the Hall for fun and great prizes!
URL:https://www.mandarinmoose42.com/event/bingo-5/2026-10-21/
ATTACH;FMTTYPE=image/jpeg:https://www.mandarinmoose42.com/wp-content/uploads/Bingo.jpg
END:VEVENT
BEGIN:VEVENT
DTSTART;TZID=America/New_York:20261022T183000
DTEND;TZID=America/New_York:20261022T193000
DTSTAMP:20260423T134500
CREATED:20260218T135230Z
LAST-MODIFIED:20260218T135230Z
UID:10004747-1792693800-1792697400@www.mandarinmoose42.com
SUMMARY:WOTM Meeting in the Hall
DESCRIPTION:
URL:https://www.mandarinmoose42.com/event/wotm-meeting-in-the-hall-4/2026-10-22/
CATEGORIES:WOTM
ATTACH;FMTTYPE=image/jpeg:https://www.mandarinmoose42.com/wp-content/uploads/WOTM-Loop-Heart-Logo.jpg
END:VEVENT
BEGIN:VEVENT
DTSTART;TZID=America/New_York:20261022T190000
DTEND;TZID=America/New_York:20261022T210000
DTSTAMP:20260423T134500
CREATED:20250505T163800Z
LAST-MODIFIED:20250505T163904Z
UID:10000992-1792695600-1792702800@www.mandarinmoose42.com
SUMMARY:Trivia in the Social Quarters
DESCRIPTION:
URL:https://www.mandarinmoose42.com/event/trivia-in-the-social-quarters/2026-10-22/
ATTACH;FMTTYPE=image/jpeg:https://www.mandarinmoose42.com/wp-content/uploads/Trivia.jpg
END:VEVENT
BEGIN:VEVENT
DTSTART;TZID=America/New_York:20261026T190000
DTEND;TZID=America/New_York:20261026T210000
DTSTAMP:20260423T134500
CREATED:20250505T151020Z
LAST-MODIFIED:20250505T151058Z
UID:10000078-1793041200-1793048400@www.mandarinmoose42.com
SUMMARY:Monday Night Pool League
DESCRIPTION:
URL:https://www.mandarinmoose42.com/event/monday-night-pool-league/2026-10-26/
LOCATION:Mandarin Moose Lodge #42\, 4450 Losco Road\, Jacksonville\, FL\, 32257\, United States
ATTACH;FMTTYPE=image/jpeg:https://www.mandarinmoose42.com/wp-content/uploads/iStock-509796074.jpg
ORGANIZER;CN="Mandarin Moose Lodge #42":MAILTO:Lodge42@mooseunits.org
END:VEVENT
END:VCALENDAR