BEGIN:VCALENDAR
VERSION:2.0
PRODID:-//Mandarin Moose Lodge #42 - ECPv6.15.18//NONSGML v1.0//EN
CALSCALE:GREGORIAN
METHOD:PUBLISH
X-WR-CALNAME:Mandarin Moose Lodge #42
X-ORIGINAL-URL:https://www.mandarinmoose42.com
X-WR-CALDESC:Events for Mandarin Moose Lodge #42
REFRESH-INTERVAL;VALUE=DURATION:PT1H
X-Robots-Tag:noindex
X-PUBLISHED-TTL:PT1H
BEGIN:VTIMEZONE
TZID:America/New_York
BEGIN:DAYLIGHT
TZOFFSETFROM:-0500
TZOFFSETTO:-0400
TZNAME:EDT
DTSTART:20240310T070000
END:DAYLIGHT
BEGIN:STANDARD
TZOFFSETFROM:-0400
TZOFFSETTO:-0500
TZNAME:EST
DTSTART:20241103T060000
END:STANDARD
BEGIN:DAYLIGHT
TZOFFSETFROM:-0500
TZOFFSETTO:-0400
TZNAME:EDT
DTSTART:20250309T070000
END:DAYLIGHT
BEGIN:STANDARD
TZOFFSETFROM:-0400
TZOFFSETTO:-0500
TZNAME:EST
DTSTART:20251102T060000
END:STANDARD
BEGIN:DAYLIGHT
TZOFFSETFROM:-0500
TZOFFSETTO:-0400
TZNAME:EDT
DTSTART:20260308T070000
END:DAYLIGHT
BEGIN:STANDARD
TZOFFSETFROM:-0400
TZOFFSETTO:-0500
TZNAME:EST
DTSTART:20261101T060000
END:STANDARD
END:VTIMEZONE
BEGIN:VEVENT
DTSTART;TZID=America/New_York:20251222T190000
DTEND;TZID=America/New_York:20251222T210000
DTSTAMP:20260421T102211
CREATED:20250505T151020Z
LAST-MODIFIED:20250505T151058Z
UID:10000034-1766430000-1766437200@www.mandarinmoose42.com
SUMMARY:Monday Night Pool League
DESCRIPTION:
URL:https://www.mandarinmoose42.com/event/monday-night-pool-league/2025-12-22/
LOCATION:Mandarin Moose Lodge #42\, 4450 Losco Road\, Jacksonville\, FL\, 32257\, United States
ATTACH;FMTTYPE=image/jpeg:https://www.mandarinmoose42.com/wp-content/uploads/iStock-509796074.jpg
ORGANIZER;CN="Mandarin Moose Lodge #42":MAILTO:Lodge42@mooseunits.org
END:VEVENT
BEGIN:VEVENT
DTSTART;TZID=America/New_York:20251221T170000
DTEND;TZID=America/New_York:20251221T220000
DTSTAMP:20260421T102211
CREATED:20250610T142707Z
LAST-MODIFIED:20250610T142707Z
UID:10002073-1766336400-1766354400@www.mandarinmoose42.com
SUMMARY:Pitcher & Pizza Special
DESCRIPTION:12″ Pepperoni or Cheese Pizza \n$15 Soda \n$20 Domestic \n$30 Craft
URL:https://www.mandarinmoose42.com/event/pitcher-pizza-special/2025-12-21/
CATEGORIES:Social Quarters Specials
ATTACH;FMTTYPE=image/jpeg:https://www.mandarinmoose42.com/wp-content/uploads/Pitcher-and-Pizza.jpg
END:VEVENT
BEGIN:VEVENT
DTSTART;TZID=America/New_York:20251220T180000
DTEND;TZID=America/New_York:20251220T230000
DTSTAMP:20260421T102211
CREATED:20251210T141227Z
LAST-MODIFIED:20251210T141227Z
UID:10004336-1766253600-1766271600@www.mandarinmoose42.com
SUMMARY:Member Christmas Party - Reservations Required
DESCRIPTION:🎄✨ Mandarin Moose #42 Hosts First Annual Christmas Formal & Dinner – Join Us for a Magical Holiday Evening! ✨🎄\nGet ready for an unforgettable night of holiday elegance! Mandarin Moose Lodge #42 is thrilled to announce our First Annual Christmas Formal and Dinner\, happening December 20\, 2025 at 6:00 PM. This brand-new tradition brings our community together for an evening of celebration\, great food\, festive games\, and plenty of Christmas spirit. \n🎁 A Night of Holiday Cheer\nGuests will enjoy a Traditional Christmas Dinner\, complete with all your seasonal favorites\, plus one complimentary beverage to start the evening. After dinner\, the fun continues with Christmas Game Night\, where you’ll have the chance to compete for holiday-themed prizes and bragging rights! \nWhether you’re coming with friends\, bringing a date\, or enjoying a night out with your Moose family\, this formal celebration is the perfect way to kick off the holiday weekend. \n💃🕺 Dress to Impress\nThis is a formal event\, so dust off your finest holiday attire! Think elegant\, festive\, and full of Christmas sparkle. \n🎫 Tickets & Details\n\n\nDate: December 20\, 2025 \n\n\nTime: 6:00 PM \n\n\nPrice: \n\n\n$40 per person \n\n\n$60 per couple \n\n\n\n\nIncludes dinner\, 1 beverage\, and entry into game night \n\n\nTickets are expected to go fast—make sure to grab yours early! \n🔔 How to Purchase\nSee the SQA for tickets and additional information. If you’re a member\, volunteer\, or friend of the Lodge\, help spread the word and make this inaugural event a warm\, joyful success! \n\nBring your holiday spirit\, your best formal wear\, and your love for community. We can’t wait to celebrate the season with you at our First Annual Christmas Formal and Dinner! 🎄❤️ \n\n\n\n\n\n\n\n\n\nYou said:\n\n\n\n\n\n\n\n\n\n\n\n\n\n\nDEC Lunch menu.pdf
URL:https://www.mandarinmoose42.com/event/member-christmas-party-reservations-required/
CATEGORIES:Live Music,Social Quarters Specials
ATTACH;FMTTYPE=image/jpeg:https://www.mandarinmoose42.com/wp-content/uploads/Christmas-2.0.jpg
END:VEVENT
BEGIN:VEVENT
DTSTART;TZID=America/New_York:20251219T190000
DTEND;TZID=America/New_York:20251219T230000
DTSTAMP:20260421T102211
CREATED:20251024T192951Z
LAST-MODIFIED:20251024T192951Z
UID:10004196-1766170800-1766185200@www.mandarinmoose42.com
SUMMARY:The Road Runners Band
DESCRIPTION:Rock-Southern Rock-Modern Country-Classic Rock-Dance Music
URL:https://www.mandarinmoose42.com/event/the-road-runners-band-4/
CATEGORIES:Live Music
ATTACH;FMTTYPE=image/jpeg:https://www.mandarinmoose42.com/wp-content/uploads/Road-Runners.jpg
END:VEVENT
BEGIN:VEVENT
DTSTART;TZID=America/New_York:20251218T190000
DTEND;TZID=America/New_York:20251218T210000
DTSTAMP:20260421T102211
CREATED:20250505T163800Z
LAST-MODIFIED:20250505T163904Z
UID:10000948-1766084400-1766091600@www.mandarinmoose42.com
SUMMARY:Trivia in the Social Quarters
DESCRIPTION:
URL:https://www.mandarinmoose42.com/event/trivia-in-the-social-quarters/2025-12-18/
ATTACH;FMTTYPE=image/jpeg:https://www.mandarinmoose42.com/wp-content/uploads/Trivia.jpg
END:VEVENT
BEGIN:VEVENT
DTSTART;TZID=America/New_York:20251217T190000
DTEND;TZID=America/New_York:20251217T210000
DTSTAMP:20260421T102211
CREATED:20251024T135257Z
LAST-MODIFIED:20251024T135349Z
UID:10000687-1765998000-1766005200@www.mandarinmoose42.com
SUMMARY:Bingo CANCELLED
DESCRIPTION:Join us for Bingo in the Hall for fun and great prizes!
URL:https://www.mandarinmoose42.com/event/bingo-4/2025-12-17/
ATTACH;FMTTYPE=image/jpeg:https://www.mandarinmoose42.com/wp-content/uploads/Bingo.jpg
END:VEVENT
BEGIN:VEVENT
DTSTART;TZID=America/New_York:20251216T193000
DTEND;TZID=America/New_York:20251216T200000
DTSTAMP:20260421T102211
CREATED:20250610T135445Z
LAST-MODIFIED:20250610T135445Z
UID:10001677-1765913400-1765915200@www.mandarinmoose42.com
SUMMARY:Queen of Hearts Drawing
DESCRIPTION:
URL:https://www.mandarinmoose42.com/event/queen-of-hearts-drawing/2025-12-16/
CATEGORIES:Fundraiser
ATTACH;FMTTYPE=image/jpeg:https://www.mandarinmoose42.com/wp-content/uploads/Queen-of-Hearts.jpg
END:VEVENT
BEGIN:VEVENT
DTSTART;TZID=America/New_York:20251216T190000
DTEND;TZID=America/New_York:20251216T200000
DTSTAMP:20260421T102211
CREATED:20250904T204821Z
LAST-MODIFIED:20250904T204922Z
UID:10003727-1765911600-1765915200@www.mandarinmoose42.com
SUMMARY:General Membership Meeting
DESCRIPTION:Join us on the first and third Tuesday of the month for the General Membership Meeting in the Hall.
URL:https://www.mandarinmoose42.com/event/general-membership-meeting-2-2-2/2025-12-16/
LOCATION:Mandarin Moose Lodge #42\, 4450 Losco Road\, Jacksonville\, FL\, 32257\, United States
CATEGORIES:Meeting
ATTACH;FMTTYPE=image/jpeg:https://www.mandarinmoose42.com/wp-content/uploads/Meeting.jpg
ORGANIZER;CN="Mandarin Moose Lodge #42":MAILTO:Lodge42@mooseunits.org
END:VEVENT
BEGIN:VEVENT
DTSTART;TZID=America/New_York:20251215T190000
DTEND;TZID=America/New_York:20251215T210000
DTSTAMP:20260421T102211
CREATED:20250505T151020Z
LAST-MODIFIED:20250505T151058Z
UID:10000033-1765825200-1765832400@www.mandarinmoose42.com
SUMMARY:Monday Night Pool League
DESCRIPTION:
URL:https://www.mandarinmoose42.com/event/monday-night-pool-league/2025-12-15/
LOCATION:Mandarin Moose Lodge #42\, 4450 Losco Road\, Jacksonville\, FL\, 32257\, United States
ATTACH;FMTTYPE=image/jpeg:https://www.mandarinmoose42.com/wp-content/uploads/iStock-509796074.jpg
ORGANIZER;CN="Mandarin Moose Lodge #42":MAILTO:Lodge42@mooseunits.org
END:VEVENT
BEGIN:VEVENT
DTSTART;TZID=America/New_York:20251214T170000
DTEND;TZID=America/New_York:20251214T220000
DTSTAMP:20260421T102211
CREATED:20250610T142707Z
LAST-MODIFIED:20250610T142707Z
UID:10002072-1765731600-1765749600@www.mandarinmoose42.com
SUMMARY:Pitcher & Pizza Special
DESCRIPTION:12″ Pepperoni or Cheese Pizza \n$15 Soda \n$20 Domestic \n$30 Craft
URL:https://www.mandarinmoose42.com/event/pitcher-pizza-special/2025-12-14/
CATEGORIES:Social Quarters Specials
ATTACH;FMTTYPE=image/jpeg:https://www.mandarinmoose42.com/wp-content/uploads/Pitcher-and-Pizza.jpg
END:VEVENT
BEGIN:VEVENT
DTSTART;TZID=America/New_York:20251213T190000
DTEND;TZID=America/New_York:20251213T230000
DTSTAMP:20260421T102211
CREATED:20251210T140454Z
LAST-MODIFIED:20251210T140454Z
UID:10004199-1765652400-1765666800@www.mandarinmoose42.com
SUMMARY:The Junk Drawer Band
DESCRIPTION:Where do you go when you need that oddball missing piece? The junk drawer!Junk Drawer is a fun Country Project born of love for good music.
URL:https://www.mandarinmoose42.com/event/the-junk-drawer-band-4/
LOCATION:Mandarin Moose Lodge #42\, 4450 Losco Road\, Jacksonville\, FL\, 32257\, United States
CATEGORIES:Live Music
ATTACH;FMTTYPE=image/png:https://www.mandarinmoose42.com/wp-content/uploads/Junk-Drawer-Band.png
END:VEVENT
BEGIN:VEVENT
DTSTART;TZID=America/New_York:20251213T120000
DTEND;TZID=America/New_York:20251213T150000
DTSTAMP:20260421T102211
CREATED:20251024T184602Z
LAST-MODIFIED:20251024T184612Z
UID:10004167-1765627200-1765638000@www.mandarinmoose42.com
SUMMARY:Veterans Appreciation Day
DESCRIPTION:Mandarin Moose #42 Members Only \nFree lunch and beverage for all Mandarin Moose 42 Valued Veterans
URL:https://www.mandarinmoose42.com/event/veterans-appreciation-day-7/
LOCATION:Mandarin Moose Lodge #42\, 4450 Losco Road\, Jacksonville\, FL\, 32257\, United States
CATEGORIES:Veterans
ATTACH;FMTTYPE=image/jpeg:https://www.mandarinmoose42.com/wp-content/uploads/Veterans-appreciation.jpg
END:VEVENT
BEGIN:VEVENT
DTSTART;TZID=America/New_York:20251212T190000
DTEND;TZID=America/New_York:20251212T230000
DTSTAMP:20260421T102211
CREATED:20251024T192839Z
LAST-MODIFIED:20251024T192839Z
UID:10004194-1765566000-1765580400@www.mandarinmoose42.com
SUMMARY:Once Again Band
DESCRIPTION:A Local Power Trio performing Rock\, Country\, & More! Vic\, Duke\, & Bonn bring something for everyone!
URL:https://www.mandarinmoose42.com/event/once-again-band-3/
CATEGORIES:Live Music
ATTACH;FMTTYPE=image/jpeg:https://www.mandarinmoose42.com/wp-content/uploads/Once-Again.jpg
END:VEVENT
BEGIN:VEVENT
DTSTART;TZID=America/New_York:20251212T180000
DTEND;TZID=America/New_York:20251212T210000
DTSTAMP:20260421T102211
CREATED:20251024T192914Z
LAST-MODIFIED:20251024T192914Z
UID:10004195-1765562400-1765573200@www.mandarinmoose42.com
SUMMARY:Moosehaven Dinner
DESCRIPTION:
URL:https://www.mandarinmoose42.com/event/moosehaven-dinner-7/
CATEGORIES:Moosehaven
ATTACH;FMTTYPE=image/webp:https://www.mandarinmoose42.com/wp-content/uploads/moosehaven-logo.webp
END:VEVENT
BEGIN:VEVENT
DTSTART;TZID=America/New_York:20251211T190000
DTEND;TZID=America/New_York:20251211T210000
DTSTAMP:20260421T102211
CREATED:20250505T163800Z
LAST-MODIFIED:20250505T163904Z
UID:10000947-1765479600-1765486800@www.mandarinmoose42.com
SUMMARY:Trivia in the Social Quarters
DESCRIPTION:
URL:https://www.mandarinmoose42.com/event/trivia-in-the-social-quarters/2025-12-11/
ATTACH;FMTTYPE=image/jpeg:https://www.mandarinmoose42.com/wp-content/uploads/Trivia.jpg
END:VEVENT
BEGIN:VEVENT
DTSTART;TZID=America/New_York:20251211T183000
DTEND;TZID=America/New_York:20251211T193000
DTSTAMP:20260421T102211
CREATED:20251024T134718Z
LAST-MODIFIED:20251024T134719Z
UID:10003986-1765477800-1765481400@www.mandarinmoose42.com
SUMMARY:WOTM Meeting in the Hall
DESCRIPTION:
URL:https://www.mandarinmoose42.com/event/wotm-meeting-in-the-hall-2-2-2-2/2025-12-11/
CATEGORIES:WOTM
ATTACH;FMTTYPE=image/jpeg:https://www.mandarinmoose42.com/wp-content/uploads/WOTM-Loop-Heart-Logo.jpg
END:VEVENT
BEGIN:VEVENT
DTSTART;TZID=America/New_York:20251210T190000
DTEND;TZID=America/New_York:20251210T210000
DTSTAMP:20260421T102211
CREATED:20251024T135257Z
LAST-MODIFIED:20251024T135349Z
UID:10000686-1765393200-1765400400@www.mandarinmoose42.com
SUMMARY:Bingo CANCELLED
DESCRIPTION:Join us for Bingo in the Hall for fun and great prizes!
URL:https://www.mandarinmoose42.com/event/bingo-4/2025-12-10/
ATTACH;FMTTYPE=image/jpeg:https://www.mandarinmoose42.com/wp-content/uploads/Bingo.jpg
END:VEVENT
BEGIN:VEVENT
DTSTART;TZID=America/New_York:20251209T193000
DTEND;TZID=America/New_York:20251209T200000
DTSTAMP:20260421T102211
CREATED:20250610T135445Z
LAST-MODIFIED:20250610T135445Z
UID:10001676-1765308600-1765310400@www.mandarinmoose42.com
SUMMARY:Queen of Hearts Drawing
DESCRIPTION:
URL:https://www.mandarinmoose42.com/event/queen-of-hearts-drawing/2025-12-09/
CATEGORIES:Fundraiser
ATTACH;FMTTYPE=image/jpeg:https://www.mandarinmoose42.com/wp-content/uploads/Queen-of-Hearts.jpg
END:VEVENT
BEGIN:VEVENT
DTSTART;TZID=America/New_York:20251209T183000
DTEND;TZID=America/New_York:20251209T193000
DTSTAMP:20260421T102211
CREATED:20251024T191608Z
LAST-MODIFIED:20251024T191608Z
UID:10004170-1765305000-1765308600@www.mandarinmoose42.com
SUMMARY:Moose Legion Meeting
DESCRIPTION:
URL:https://www.mandarinmoose42.com/event/moose-legion-meeting-5/
LOCATION:Mandarin Moose Lodge #42\, 4450 Losco Road\, Jacksonville\, FL\, 32257\, United States
CATEGORIES:Meeting,Moose Legion
ATTACH;FMTTYPE=image/webp:https://www.mandarinmoose42.com/wp-content/uploads/moose-legion-service-logo.webp
END:VEVENT
BEGIN:VEVENT
DTSTART;TZID=America/New_York:20251208T190000
DTEND;TZID=America/New_York:20251208T210000
DTSTAMP:20260421T102211
CREATED:20250505T151020Z
LAST-MODIFIED:20250505T151058Z
UID:10000032-1765220400-1765227600@www.mandarinmoose42.com
SUMMARY:Monday Night Pool League
DESCRIPTION:
URL:https://www.mandarinmoose42.com/event/monday-night-pool-league/2025-12-08/
LOCATION:Mandarin Moose Lodge #42\, 4450 Losco Road\, Jacksonville\, FL\, 32257\, United States
ATTACH;FMTTYPE=image/jpeg:https://www.mandarinmoose42.com/wp-content/uploads/iStock-509796074.jpg
ORGANIZER;CN="Mandarin Moose Lodge #42":MAILTO:Lodge42@mooseunits.org
END:VEVENT
BEGIN:VEVENT
DTSTART;TZID=America/New_York:20251207T170000
DTEND;TZID=America/New_York:20251207T220000
DTSTAMP:20260421T102211
CREATED:20250610T142707Z
LAST-MODIFIED:20250610T142707Z
UID:10002071-1765126800-1765144800@www.mandarinmoose42.com
SUMMARY:Pitcher & Pizza Special
DESCRIPTION:12″ Pepperoni or Cheese Pizza \n$15 Soda \n$20 Domestic \n$30 Craft
URL:https://www.mandarinmoose42.com/event/pitcher-pizza-special/2025-12-07/
CATEGORIES:Social Quarters Specials
ATTACH;FMTTYPE=image/jpeg:https://www.mandarinmoose42.com/wp-content/uploads/Pitcher-and-Pizza.jpg
END:VEVENT
BEGIN:VEVENT
DTSTART;TZID=America/New_York:20251206T190000
DTEND;TZID=America/New_York:20251206T230000
DTSTAMP:20260421T102211
CREATED:20251024T201723Z
LAST-MODIFIED:20251024T201723Z
UID:10004198-1765047600-1765062000@www.mandarinmoose42.com
SUMMARY:Salt Run - Band
DESCRIPTION:The Band Salt Run is a “Southern Rock- Country-Pop-Blues-Dance band that delivers a great performance.
URL:https://www.mandarinmoose42.com/event/salt-run-band-4/
CATEGORIES:Live Music
ATTACH;FMTTYPE=image/jpeg:https://www.mandarinmoose42.com/wp-content/uploads/Salt-Run.jpg
END:VEVENT
BEGIN:VEVENT
DTSTART;TZID=America/New_York:20251205T200000
DTEND;TZID=America/New_York:20251206T000000
DTSTAMP:20260421T102211
CREATED:20251024T192606Z
LAST-MODIFIED:20251024T192606Z
UID:10004193-1764964800-1764979200@www.mandarinmoose42.com
SUMMARY:Karaoke with Bobby Bubbles
DESCRIPTION:
URL:https://www.mandarinmoose42.com/event/karaoke-with-bobby-bubbles-4/
CATEGORIES:Live Music
ATTACH;FMTTYPE=image/jpeg:https://www.mandarinmoose42.com/wp-content/uploads/Karaoke-scaled.jpg
END:VEVENT
BEGIN:VEVENT
DTSTART;TZID=America/New_York:20251204T190000
DTEND;TZID=America/New_York:20251204T210000
DTSTAMP:20260421T102211
CREATED:20250505T163800Z
LAST-MODIFIED:20250505T163904Z
UID:10000946-1764874800-1764882000@www.mandarinmoose42.com
SUMMARY:Trivia in the Social Quarters
DESCRIPTION:
URL:https://www.mandarinmoose42.com/event/trivia-in-the-social-quarters/2025-12-04/
ATTACH;FMTTYPE=image/jpeg:https://www.mandarinmoose42.com/wp-content/uploads/Trivia.jpg
END:VEVENT
BEGIN:VEVENT
DTSTART;TZID=America/New_York:20251203T190000
DTEND;TZID=America/New_York:20251203T210000
DTSTAMP:20260421T102211
CREATED:20251024T135257Z
LAST-MODIFIED:20251024T135349Z
UID:10000685-1764788400-1764795600@www.mandarinmoose42.com
SUMMARY:Bingo CANCELLED
DESCRIPTION:Join us for Bingo in the Hall for fun and great prizes!
URL:https://www.mandarinmoose42.com/event/bingo-4/2025-12-03/
ATTACH;FMTTYPE=image/jpeg:https://www.mandarinmoose42.com/wp-content/uploads/Bingo.jpg
END:VEVENT
BEGIN:VEVENT
DTSTART;TZID=America/New_York:20251202T193000
DTEND;TZID=America/New_York:20251202T200000
DTSTAMP:20260421T102211
CREATED:20250610T135445Z
LAST-MODIFIED:20250610T135445Z
UID:10001675-1764703800-1764705600@www.mandarinmoose42.com
SUMMARY:Queen of Hearts Drawing
DESCRIPTION:
URL:https://www.mandarinmoose42.com/event/queen-of-hearts-drawing/2025-12-02/
CATEGORIES:Fundraiser
ATTACH;FMTTYPE=image/jpeg:https://www.mandarinmoose42.com/wp-content/uploads/Queen-of-Hearts.jpg
END:VEVENT
BEGIN:VEVENT
DTSTART;TZID=America/New_York:20251202T190000
DTEND;TZID=America/New_York:20251202T200000
DTSTAMP:20260421T102211
CREATED:20250904T204821Z
LAST-MODIFIED:20250904T204922Z
UID:10003726-1764702000-1764705600@www.mandarinmoose42.com
SUMMARY:General Membership Meeting
DESCRIPTION:Join us on the first and third Tuesday of the month for the General Membership Meeting in the Hall.
URL:https://www.mandarinmoose42.com/event/general-membership-meeting-2-2-2/2025-12-02/
LOCATION:Mandarin Moose Lodge #42\, 4450 Losco Road\, Jacksonville\, FL\, 32257\, United States
CATEGORIES:Meeting
ATTACH;FMTTYPE=image/jpeg:https://www.mandarinmoose42.com/wp-content/uploads/Meeting.jpg
ORGANIZER;CN="Mandarin Moose Lodge #42":MAILTO:Lodge42@mooseunits.org
END:VEVENT
BEGIN:VEVENT
DTSTART;TZID=America/New_York:20251201T190000
DTEND;TZID=America/New_York:20251201T210000
DTSTAMP:20260421T102211
CREATED:20250505T151020Z
LAST-MODIFIED:20250505T151058Z
UID:10000031-1764615600-1764622800@www.mandarinmoose42.com
SUMMARY:Monday Night Pool League
DESCRIPTION:
URL:https://www.mandarinmoose42.com/event/monday-night-pool-league/2025-12-01/
LOCATION:Mandarin Moose Lodge #42\, 4450 Losco Road\, Jacksonville\, FL\, 32257\, United States
ATTACH;FMTTYPE=image/jpeg:https://www.mandarinmoose42.com/wp-content/uploads/iStock-509796074.jpg
ORGANIZER;CN="Mandarin Moose Lodge #42":MAILTO:Lodge42@mooseunits.org
END:VEVENT
BEGIN:VEVENT
DTSTART;TZID=America/New_York:20251130T170000
DTEND;TZID=America/New_York:20251130T220000
DTSTAMP:20260421T102211
CREATED:20250610T142707Z
LAST-MODIFIED:20250610T142707Z
UID:10002070-1764522000-1764540000@www.mandarinmoose42.com
SUMMARY:Pitcher & Pizza Special
DESCRIPTION:12″ Pepperoni or Cheese Pizza \n$15 Soda \n$20 Domestic \n$30 Craft
URL:https://www.mandarinmoose42.com/event/pitcher-pizza-special/2025-11-30/
CATEGORIES:Social Quarters Specials
ATTACH;FMTTYPE=image/jpeg:https://www.mandarinmoose42.com/wp-content/uploads/Pitcher-and-Pizza.jpg
END:VEVENT
BEGIN:VEVENT
DTSTART;TZID=America/New_York:20251129T190000
DTEND;TZID=America/New_York:20251129T230000
DTSTAMP:20260421T102211
CREATED:20251024T184250Z
LAST-MODIFIED:20251024T184250Z
UID:10004163-1764442800-1764457200@www.mandarinmoose42.com
SUMMARY:Alec Webster Trio
DESCRIPTION:
URL:https://www.mandarinmoose42.com/event/alec-webster-trio/
CATEGORIES:Live Music
ATTACH;FMTTYPE=image/jpeg:https://www.mandarinmoose42.com/wp-content/uploads/Live-Music.jpg
END:VEVENT
END:VCALENDAR