BEGIN:VCALENDAR
VERSION:2.0
PRODID:-//Mandarin Moose Lodge #42 - ECPv6.15.18//NONSGML v1.0//EN
CALSCALE:GREGORIAN
METHOD:PUBLISH
X-ORIGINAL-URL:https://www.mandarinmoose42.com
X-WR-CALDESC:Events for Mandarin Moose Lodge #42
REFRESH-INTERVAL;VALUE=DURATION:PT1H
X-Robots-Tag:noindex
X-PUBLISHED-TTL:PT1H
BEGIN:VTIMEZONE
TZID:America/New_York
BEGIN:DAYLIGHT
TZOFFSETFROM:-0500
TZOFFSETTO:-0400
TZNAME:EDT
DTSTART:20290311T070000
END:DAYLIGHT
BEGIN:STANDARD
TZOFFSETFROM:-0400
TZOFFSETTO:-0500
TZNAME:EST
DTSTART:20291104T060000
END:STANDARD
BEGIN:DAYLIGHT
TZOFFSETFROM:-0500
TZOFFSETTO:-0400
TZNAME:EDT
DTSTART:20300310T070000
END:DAYLIGHT
BEGIN:STANDARD
TZOFFSETFROM:-0400
TZOFFSETTO:-0500
TZNAME:EST
DTSTART:20301103T060000
END:STANDARD
BEGIN:DAYLIGHT
TZOFFSETFROM:-0500
TZOFFSETTO:-0400
TZNAME:EDT
DTSTART:20310309T070000
END:DAYLIGHT
BEGIN:STANDARD
TZOFFSETFROM:-0400
TZOFFSETTO:-0500
TZNAME:EST
DTSTART:20311102T060000
END:STANDARD
BEGIN:DAYLIGHT
TZOFFSETFROM:-0500
TZOFFSETTO:-0400
TZNAME:EDT
DTSTART:20320314T070000
END:DAYLIGHT
BEGIN:STANDARD
TZOFFSETFROM:-0400
TZOFFSETTO:-0500
TZNAME:EST
DTSTART:20321107T060000
END:STANDARD
END:VTIMEZONE
BEGIN:VEVENT
DTSTART;TZID=America/New_York:20300228T183000
DTEND;TZID=America/New_York:20300228T193000
DTSTAMP:20260425T192922
CREATED:20260218T135230Z
LAST-MODIFIED:20260218T135230Z
UID:10004787-1898533800-1898537400@www.mandarinmoose42.com
SUMMARY:WOTM Meeting in the Hall
DESCRIPTION:
URL:https://www.mandarinmoose42.com/event/wotm-meeting-in-the-hall-4/2030-02-28/
CATEGORIES:WOTM
ATTACH;FMTTYPE=image/jpeg:https://www.mandarinmoose42.com/wp-content/uploads/WOTM-Loop-Heart-Logo.jpg
END:VEVENT
BEGIN:VEVENT
DTSTART;TZID=America/New_York:20300314T183000
DTEND;TZID=America/New_York:20300314T193000
DTSTAMP:20260425T192922
CREATED:20260218T135121Z
LAST-MODIFIED:20260218T135121Z
UID:10004907-1899743400-1899747000@www.mandarinmoose42.com
SUMMARY:WOTM Meeting in the Hall
DESCRIPTION:
URL:https://www.mandarinmoose42.com/event/wotm-meeting-in-the-hall-3/2030-03-14/
CATEGORIES:WOTM
ATTACH;FMTTYPE=image/jpeg:https://www.mandarinmoose42.com/wp-content/uploads/WOTM-Loop-Heart-Logo.jpg
END:VEVENT
BEGIN:VEVENT
DTSTART;TZID=America/New_York:20300328T183000
DTEND;TZID=America/New_York:20300328T193000
DTSTAMP:20260425T192922
CREATED:20260218T135230Z
LAST-MODIFIED:20260218T135230Z
UID:10004788-1900953000-1900956600@www.mandarinmoose42.com
SUMMARY:WOTM Meeting in the Hall
DESCRIPTION:
URL:https://www.mandarinmoose42.com/event/wotm-meeting-in-the-hall-4/2030-03-28/
CATEGORIES:WOTM
ATTACH;FMTTYPE=image/jpeg:https://www.mandarinmoose42.com/wp-content/uploads/WOTM-Loop-Heart-Logo.jpg
END:VEVENT
BEGIN:VEVENT
DTSTART;TZID=America/New_York:20300411T183000
DTEND;TZID=America/New_York:20300411T193000
DTSTAMP:20260425T192922
CREATED:20260218T135121Z
LAST-MODIFIED:20260218T135121Z
UID:10004908-1902162600-1902166200@www.mandarinmoose42.com
SUMMARY:WOTM Meeting in the Hall
DESCRIPTION:
URL:https://www.mandarinmoose42.com/event/wotm-meeting-in-the-hall-3/2030-04-11/
CATEGORIES:WOTM
ATTACH;FMTTYPE=image/jpeg:https://www.mandarinmoose42.com/wp-content/uploads/WOTM-Loop-Heart-Logo.jpg
END:VEVENT
BEGIN:VEVENT
DTSTART;TZID=America/New_York:20300425T183000
DTEND;TZID=America/New_York:20300425T193000
DTSTAMP:20260425T192922
CREATED:20260218T135230Z
LAST-MODIFIED:20260218T135230Z
UID:10004789-1903372200-1903375800@www.mandarinmoose42.com
SUMMARY:WOTM Meeting in the Hall
DESCRIPTION:
URL:https://www.mandarinmoose42.com/event/wotm-meeting-in-the-hall-4/2030-04-25/
CATEGORIES:WOTM
ATTACH;FMTTYPE=image/jpeg:https://www.mandarinmoose42.com/wp-content/uploads/WOTM-Loop-Heart-Logo.jpg
END:VEVENT
BEGIN:VEVENT
DTSTART;TZID=America/New_York:20300509T183000
DTEND;TZID=America/New_York:20300509T193000
DTSTAMP:20260425T192922
CREATED:20260218T135121Z
LAST-MODIFIED:20260218T135121Z
UID:10004909-1904581800-1904585400@www.mandarinmoose42.com
SUMMARY:WOTM Meeting in the Hall
DESCRIPTION:
URL:https://www.mandarinmoose42.com/event/wotm-meeting-in-the-hall-3/2030-05-09/
CATEGORIES:WOTM
ATTACH;FMTTYPE=image/jpeg:https://www.mandarinmoose42.com/wp-content/uploads/WOTM-Loop-Heart-Logo.jpg
END:VEVENT
BEGIN:VEVENT
DTSTART;TZID=America/New_York:20300523T183000
DTEND;TZID=America/New_York:20300523T193000
DTSTAMP:20260425T192922
CREATED:20260218T135230Z
LAST-MODIFIED:20260218T135230Z
UID:10004790-1905791400-1905795000@www.mandarinmoose42.com
SUMMARY:WOTM Meeting in the Hall
DESCRIPTION:
URL:https://www.mandarinmoose42.com/event/wotm-meeting-in-the-hall-4/2030-05-23/
CATEGORIES:WOTM
ATTACH;FMTTYPE=image/jpeg:https://www.mandarinmoose42.com/wp-content/uploads/WOTM-Loop-Heart-Logo.jpg
END:VEVENT
BEGIN:VEVENT
DTSTART;TZID=America/New_York:20300613T183000
DTEND;TZID=America/New_York:20300613T193000
DTSTAMP:20260425T192922
CREATED:20260218T135121Z
LAST-MODIFIED:20260218T135121Z
UID:10004910-1907605800-1907609400@www.mandarinmoose42.com
SUMMARY:WOTM Meeting in the Hall
DESCRIPTION:
URL:https://www.mandarinmoose42.com/event/wotm-meeting-in-the-hall-3/2030-06-13/
CATEGORIES:WOTM
ATTACH;FMTTYPE=image/jpeg:https://www.mandarinmoose42.com/wp-content/uploads/WOTM-Loop-Heart-Logo.jpg
END:VEVENT
BEGIN:VEVENT
DTSTART;TZID=America/New_York:20300627T183000
DTEND;TZID=America/New_York:20300627T193000
DTSTAMP:20260425T192922
CREATED:20260218T135230Z
LAST-MODIFIED:20260218T135230Z
UID:10004791-1908815400-1908819000@www.mandarinmoose42.com
SUMMARY:WOTM Meeting in the Hall
DESCRIPTION:
URL:https://www.mandarinmoose42.com/event/wotm-meeting-in-the-hall-4/2030-06-27/
CATEGORIES:WOTM
ATTACH;FMTTYPE=image/jpeg:https://www.mandarinmoose42.com/wp-content/uploads/WOTM-Loop-Heart-Logo.jpg
END:VEVENT
BEGIN:VEVENT
DTSTART;TZID=America/New_York:20300711T183000
DTEND;TZID=America/New_York:20300711T193000
DTSTAMP:20260425T192922
CREATED:20260218T135121Z
LAST-MODIFIED:20260218T135121Z
UID:10004911-1910025000-1910028600@www.mandarinmoose42.com
SUMMARY:WOTM Meeting in the Hall
DESCRIPTION:
URL:https://www.mandarinmoose42.com/event/wotm-meeting-in-the-hall-3/2030-07-11/
CATEGORIES:WOTM
ATTACH;FMTTYPE=image/jpeg:https://www.mandarinmoose42.com/wp-content/uploads/WOTM-Loop-Heart-Logo.jpg
END:VEVENT
BEGIN:VEVENT
DTSTART;TZID=America/New_York:20300725T183000
DTEND;TZID=America/New_York:20300725T193000
DTSTAMP:20260425T192922
CREATED:20260218T135230Z
LAST-MODIFIED:20260218T135230Z
UID:10004792-1911234600-1911238200@www.mandarinmoose42.com
SUMMARY:WOTM Meeting in the Hall
DESCRIPTION:
URL:https://www.mandarinmoose42.com/event/wotm-meeting-in-the-hall-4/2030-07-25/
CATEGORIES:WOTM
ATTACH;FMTTYPE=image/jpeg:https://www.mandarinmoose42.com/wp-content/uploads/WOTM-Loop-Heart-Logo.jpg
END:VEVENT
BEGIN:VEVENT
DTSTART;TZID=America/New_York:20300808T183000
DTEND;TZID=America/New_York:20300808T193000
DTSTAMP:20260425T192922
CREATED:20260218T135121Z
LAST-MODIFIED:20260218T135121Z
UID:10004912-1912444200-1912447800@www.mandarinmoose42.com
SUMMARY:WOTM Meeting in the Hall
DESCRIPTION:
URL:https://www.mandarinmoose42.com/event/wotm-meeting-in-the-hall-3/2030-08-08/
CATEGORIES:WOTM
ATTACH;FMTTYPE=image/jpeg:https://www.mandarinmoose42.com/wp-content/uploads/WOTM-Loop-Heart-Logo.jpg
END:VEVENT
BEGIN:VEVENT
DTSTART;TZID=America/New_York:20300822T183000
DTEND;TZID=America/New_York:20300822T193000
DTSTAMP:20260425T192922
CREATED:20260218T135230Z
LAST-MODIFIED:20260218T135230Z
UID:10004793-1913653800-1913657400@www.mandarinmoose42.com
SUMMARY:WOTM Meeting in the Hall
DESCRIPTION:
URL:https://www.mandarinmoose42.com/event/wotm-meeting-in-the-hall-4/2030-08-22/
CATEGORIES:WOTM
ATTACH;FMTTYPE=image/jpeg:https://www.mandarinmoose42.com/wp-content/uploads/WOTM-Loop-Heart-Logo.jpg
END:VEVENT
BEGIN:VEVENT
DTSTART;TZID=America/New_York:20300912T183000
DTEND;TZID=America/New_York:20300912T193000
DTSTAMP:20260425T192922
CREATED:20260218T135121Z
LAST-MODIFIED:20260218T135121Z
UID:10004913-1915468200-1915471800@www.mandarinmoose42.com
SUMMARY:WOTM Meeting in the Hall
DESCRIPTION:
URL:https://www.mandarinmoose42.com/event/wotm-meeting-in-the-hall-3/2030-09-12/
CATEGORIES:WOTM
ATTACH;FMTTYPE=image/jpeg:https://www.mandarinmoose42.com/wp-content/uploads/WOTM-Loop-Heart-Logo.jpg
END:VEVENT
BEGIN:VEVENT
DTSTART;TZID=America/New_York:20300926T183000
DTEND;TZID=America/New_York:20300926T193000
DTSTAMP:20260425T192922
CREATED:20260218T135230Z
LAST-MODIFIED:20260218T135230Z
UID:10004794-1916677800-1916681400@www.mandarinmoose42.com
SUMMARY:WOTM Meeting in the Hall
DESCRIPTION:
URL:https://www.mandarinmoose42.com/event/wotm-meeting-in-the-hall-4/2030-09-26/
CATEGORIES:WOTM
ATTACH;FMTTYPE=image/jpeg:https://www.mandarinmoose42.com/wp-content/uploads/WOTM-Loop-Heart-Logo.jpg
END:VEVENT
BEGIN:VEVENT
DTSTART;TZID=America/New_York:20301010T183000
DTEND;TZID=America/New_York:20301010T193000
DTSTAMP:20260425T192922
CREATED:20260218T135121Z
LAST-MODIFIED:20260218T135121Z
UID:10004914-1917887400-1917891000@www.mandarinmoose42.com
SUMMARY:WOTM Meeting in the Hall
DESCRIPTION:
URL:https://www.mandarinmoose42.com/event/wotm-meeting-in-the-hall-3/2030-10-10/
CATEGORIES:WOTM
ATTACH;FMTTYPE=image/jpeg:https://www.mandarinmoose42.com/wp-content/uploads/WOTM-Loop-Heart-Logo.jpg
END:VEVENT
BEGIN:VEVENT
DTSTART;TZID=America/New_York:20301024T183000
DTEND;TZID=America/New_York:20301024T193000
DTSTAMP:20260425T192922
CREATED:20260218T135230Z
LAST-MODIFIED:20260218T135230Z
UID:10004795-1919097000-1919100600@www.mandarinmoose42.com
SUMMARY:WOTM Meeting in the Hall
DESCRIPTION:
URL:https://www.mandarinmoose42.com/event/wotm-meeting-in-the-hall-4/2030-10-24/
CATEGORIES:WOTM
ATTACH;FMTTYPE=image/jpeg:https://www.mandarinmoose42.com/wp-content/uploads/WOTM-Loop-Heart-Logo.jpg
END:VEVENT
BEGIN:VEVENT
DTSTART;TZID=America/New_York:20301114T183000
DTEND;TZID=America/New_York:20301114T193000
DTSTAMP:20260425T192922
CREATED:20260218T135121Z
LAST-MODIFIED:20260218T135121Z
UID:10004915-1920911400-1920915000@www.mandarinmoose42.com
SUMMARY:WOTM Meeting in the Hall
DESCRIPTION:
URL:https://www.mandarinmoose42.com/event/wotm-meeting-in-the-hall-3/2030-11-14/
CATEGORIES:WOTM
ATTACH;FMTTYPE=image/jpeg:https://www.mandarinmoose42.com/wp-content/uploads/WOTM-Loop-Heart-Logo.jpg
END:VEVENT
BEGIN:VEVENT
DTSTART;TZID=America/New_York:20301128T183000
DTEND;TZID=America/New_York:20301128T193000
DTSTAMP:20260425T192922
CREATED:20260218T135230Z
LAST-MODIFIED:20260218T135230Z
UID:10004796-1922121000-1922124600@www.mandarinmoose42.com
SUMMARY:WOTM Meeting in the Hall
DESCRIPTION:
URL:https://www.mandarinmoose42.com/event/wotm-meeting-in-the-hall-4/2030-11-28/
CATEGORIES:WOTM
ATTACH;FMTTYPE=image/jpeg:https://www.mandarinmoose42.com/wp-content/uploads/WOTM-Loop-Heart-Logo.jpg
END:VEVENT
BEGIN:VEVENT
DTSTART;TZID=America/New_York:20301212T183000
DTEND;TZID=America/New_York:20301212T193000
DTSTAMP:20260425T192922
CREATED:20260218T135121Z
LAST-MODIFIED:20260218T135121Z
UID:10004916-1923330600-1923334200@www.mandarinmoose42.com
SUMMARY:WOTM Meeting in the Hall
DESCRIPTION:
URL:https://www.mandarinmoose42.com/event/wotm-meeting-in-the-hall-3/2030-12-12/
CATEGORIES:WOTM
ATTACH;FMTTYPE=image/jpeg:https://www.mandarinmoose42.com/wp-content/uploads/WOTM-Loop-Heart-Logo.jpg
END:VEVENT
BEGIN:VEVENT
DTSTART;TZID=America/New_York:20301226T183000
DTEND;TZID=America/New_York:20301226T193000
DTSTAMP:20260425T192922
CREATED:20260218T135230Z
LAST-MODIFIED:20260218T135230Z
UID:10004797-1924540200-1924543800@www.mandarinmoose42.com
SUMMARY:WOTM Meeting in the Hall
DESCRIPTION:
URL:https://www.mandarinmoose42.com/event/wotm-meeting-in-the-hall-4/2030-12-26/
CATEGORIES:WOTM
ATTACH;FMTTYPE=image/jpeg:https://www.mandarinmoose42.com/wp-content/uploads/WOTM-Loop-Heart-Logo.jpg
END:VEVENT
BEGIN:VEVENT
DTSTART;TZID=America/New_York:20310109T183000
DTEND;TZID=America/New_York:20310109T193000
DTSTAMP:20260425T192922
CREATED:20260218T135121Z
LAST-MODIFIED:20260218T135121Z
UID:10004917-1925749800-1925753400@www.mandarinmoose42.com
SUMMARY:WOTM Meeting in the Hall
DESCRIPTION:
URL:https://www.mandarinmoose42.com/event/wotm-meeting-in-the-hall-3/2031-01-09/
CATEGORIES:WOTM
ATTACH;FMTTYPE=image/jpeg:https://www.mandarinmoose42.com/wp-content/uploads/WOTM-Loop-Heart-Logo.jpg
END:VEVENT
BEGIN:VEVENT
DTSTART;TZID=America/New_York:20310123T183000
DTEND;TZID=America/New_York:20310123T193000
DTSTAMP:20260425T192922
CREATED:20260218T135230Z
LAST-MODIFIED:20260218T135230Z
UID:10004798-1926959400-1926963000@www.mandarinmoose42.com
SUMMARY:WOTM Meeting in the Hall
DESCRIPTION:
URL:https://www.mandarinmoose42.com/event/wotm-meeting-in-the-hall-4/2031-01-23/
CATEGORIES:WOTM
ATTACH;FMTTYPE=image/jpeg:https://www.mandarinmoose42.com/wp-content/uploads/WOTM-Loop-Heart-Logo.jpg
END:VEVENT
BEGIN:VEVENT
DTSTART;TZID=America/New_York:20310213T183000
DTEND;TZID=America/New_York:20310213T193000
DTSTAMP:20260425T192922
CREATED:20260218T135121Z
LAST-MODIFIED:20260218T135121Z
UID:10004918-1928773800-1928777400@www.mandarinmoose42.com
SUMMARY:WOTM Meeting in the Hall
DESCRIPTION:
URL:https://www.mandarinmoose42.com/event/wotm-meeting-in-the-hall-3/2031-02-13/
CATEGORIES:WOTM
ATTACH;FMTTYPE=image/jpeg:https://www.mandarinmoose42.com/wp-content/uploads/WOTM-Loop-Heart-Logo.jpg
END:VEVENT
BEGIN:VEVENT
DTSTART;TZID=America/New_York:20310227T183000
DTEND;TZID=America/New_York:20310227T193000
DTSTAMP:20260425T192922
CREATED:20260218T135230Z
LAST-MODIFIED:20260218T135230Z
UID:10004942-1929983400-1929987000@www.mandarinmoose42.com
SUMMARY:WOTM Meeting in the Hall
DESCRIPTION:
URL:https://www.mandarinmoose42.com/event/wotm-meeting-in-the-hall-4/2031-02-27/
CATEGORIES:WOTM
ATTACH;FMTTYPE=image/jpeg:https://www.mandarinmoose42.com/wp-content/uploads/WOTM-Loop-Heart-Logo.jpg
END:VEVENT
BEGIN:VEVENT
DTSTART;TZID=America/New_York:20310327T183000
DTEND;TZID=America/New_York:20310327T193000
DTSTAMP:20260425T192922
CREATED:20260218T135230Z
LAST-MODIFIED:20260218T135230Z
UID:10004943-1932402600-1932406200@www.mandarinmoose42.com
SUMMARY:WOTM Meeting in the Hall
DESCRIPTION:
URL:https://www.mandarinmoose42.com/event/wotm-meeting-in-the-hall-4/2031-03-27/
CATEGORIES:WOTM
ATTACH;FMTTYPE=image/jpeg:https://www.mandarinmoose42.com/wp-content/uploads/WOTM-Loop-Heart-Logo.jpg
END:VEVENT
END:VCALENDAR