BEGIN:VCALENDAR
VERSION:2.0
PRODID:-//Mandarin Moose Lodge #42 - ECPv6.15.18//NONSGML v1.0//EN
CALSCALE:GREGORIAN
METHOD:PUBLISH
X-WR-CALNAME:Mandarin Moose Lodge #42
X-ORIGINAL-URL:https://www.mandarinmoose42.com
X-WR-CALDESC:Events for Mandarin Moose Lodge #42
REFRESH-INTERVAL;VALUE=DURATION:PT1H
X-Robots-Tag:noindex
X-PUBLISHED-TTL:PT1H
BEGIN:VTIMEZONE
TZID:America/New_York
BEGIN:DAYLIGHT
TZOFFSETFROM:-0500
TZOFFSETTO:-0400
TZNAME:EDT
DTSTART:20250309T070000
END:DAYLIGHT
BEGIN:STANDARD
TZOFFSETFROM:-0400
TZOFFSETTO:-0500
TZNAME:EST
DTSTART:20251102T060000
END:STANDARD
BEGIN:DAYLIGHT
TZOFFSETFROM:-0500
TZOFFSETTO:-0400
TZNAME:EDT
DTSTART:20260308T070000
END:DAYLIGHT
BEGIN:STANDARD
TZOFFSETFROM:-0400
TZOFFSETTO:-0500
TZNAME:EST
DTSTART:20261101T060000
END:STANDARD
BEGIN:DAYLIGHT
TZOFFSETFROM:-0500
TZOFFSETTO:-0400
TZNAME:EDT
DTSTART:20270314T070000
END:DAYLIGHT
BEGIN:STANDARD
TZOFFSETFROM:-0400
TZOFFSETTO:-0500
TZNAME:EST
DTSTART:20271107T060000
END:STANDARD
END:VTIMEZONE
BEGIN:VEVENT
DTSTART;TZID=America/New_York:20260312T183000
DTEND;TZID=America/New_York:20260312T193000
DTSTAMP:20260423T133018
CREATED:20260218T135121Z
LAST-MODIFIED:20260218T135121Z
UID:10004859-1773340200-1773343800@www.mandarinmoose42.com
SUMMARY:WOTM Meeting in the Hall
DESCRIPTION:
URL:https://www.mandarinmoose42.com/event/wotm-meeting-in-the-hall-3/2026-03-12/
CATEGORIES:WOTM
ATTACH;FMTTYPE=image/jpeg:https://www.mandarinmoose42.com/wp-content/uploads/WOTM-Loop-Heart-Logo.jpg
END:VEVENT
BEGIN:VEVENT
DTSTART;TZID=America/New_York:20260326T183000
DTEND;TZID=America/New_York:20260326T193000
DTSTAMP:20260423T133018
CREATED:20260204T140233Z
LAST-MODIFIED:20260204T140233Z
UID:10004650-1774549800-1774553400@www.mandarinmoose42.com
SUMMARY:WOTM Meeting in the Hall
DESCRIPTION:
URL:https://www.mandarinmoose42.com/event/wotm-meeting-in-the-hall-2-2-2-2-2/2026-03-26/
CATEGORIES:WOTM
ATTACH;FMTTYPE=image/jpeg:https://www.mandarinmoose42.com/wp-content/uploads/WOTM-Loop-Heart-Logo.jpg
END:VEVENT
BEGIN:VEVENT
DTSTART;TZID=America/New_York:20260326T183000
DTEND;TZID=America/New_York:20260326T193000
DTSTAMP:20260423T133018
CREATED:20260218T135230Z
LAST-MODIFIED:20260218T135230Z
UID:10004740-1774549800-1774553400@www.mandarinmoose42.com
SUMMARY:WOTM Meeting in the Hall
DESCRIPTION:
URL:https://www.mandarinmoose42.com/event/wotm-meeting-in-the-hall-4/2026-03-26/
CATEGORIES:WOTM
ATTACH;FMTTYPE=image/jpeg:https://www.mandarinmoose42.com/wp-content/uploads/WOTM-Loop-Heart-Logo.jpg
END:VEVENT
END:VCALENDAR