BEGIN:VCALENDAR
VERSION:2.0
PRODID:-//Mandarin Moose Lodge #42 - ECPv6.15.18//NONSGML v1.0//EN
CALSCALE:GREGORIAN
METHOD:PUBLISH
X-WR-CALNAME:Mandarin Moose Lodge #42
X-ORIGINAL-URL:https://www.mandarinmoose42.com
X-WR-CALDESC:Events for Mandarin Moose Lodge #42
REFRESH-INTERVAL;VALUE=DURATION:PT1H
X-Robots-Tag:noindex
X-PUBLISHED-TTL:PT1H
BEGIN:VTIMEZONE
TZID:America/New_York
BEGIN:DAYLIGHT
TZOFFSETFROM:-0500
TZOFFSETTO:-0400
TZNAME:EDT
DTSTART:20240310T070000
END:DAYLIGHT
BEGIN:STANDARD
TZOFFSETFROM:-0400
TZOFFSETTO:-0500
TZNAME:EST
DTSTART:20241103T060000
END:STANDARD
BEGIN:DAYLIGHT
TZOFFSETFROM:-0500
TZOFFSETTO:-0400
TZNAME:EDT
DTSTART:20250309T070000
END:DAYLIGHT
BEGIN:STANDARD
TZOFFSETFROM:-0400
TZOFFSETTO:-0500
TZNAME:EST
DTSTART:20251102T060000
END:STANDARD
BEGIN:DAYLIGHT
TZOFFSETFROM:-0500
TZOFFSETTO:-0400
TZNAME:EDT
DTSTART:20260308T070000
END:DAYLIGHT
BEGIN:STANDARD
TZOFFSETFROM:-0400
TZOFFSETTO:-0500
TZNAME:EST
DTSTART:20261101T060000
END:STANDARD
END:VTIMEZONE
BEGIN:VEVENT
DTSTART;TZID=America/New_York:20250628T120000
DTEND;TZID=America/New_York:20250628T150000
DTSTAMP:20260419T125159
CREATED:20250610T145047Z
LAST-MODIFIED:20250610T145047Z
UID:10003096-1751112000-1751122800@www.mandarinmoose42.com
SUMMARY:Had 2B There - Band Poolside
DESCRIPTION:
URL:https://www.mandarinmoose42.com/event/had-2b-there-band-poolside/
LOCATION:Mandarin Moose Lodge #42\, 4450 Losco Road\, Jacksonville\, FL\, 32257\, United States
CATEGORIES:Live Music,Tiki Bar
ATTACH;FMTTYPE=image/jpeg:https://www.mandarinmoose42.com/wp-content/uploads/Live-Music.jpg
END:VEVENT
BEGIN:VEVENT
DTSTART;TZID=America/New_York:20250628T110000
DTEND;TZID=America/New_York:20250628T160000
DTSTAMP:20260419T125159
CREATED:20250610T144035Z
LAST-MODIFIED:20250610T144035Z
UID:10002573-1751108400-1751126400@www.mandarinmoose42.com
SUMMARY:Tiki Bar Open
DESCRIPTION:Come lounge by the pool and sip some refreshing cocktails at Moose 42.
URL:https://www.mandarinmoose42.com/event/tiki-bar-open/2025-06-28/
CATEGORIES:Tiki Bar
ATTACH;FMTTYPE=image/jpeg:https://www.mandarinmoose42.com/wp-content/uploads/tiki.jpg
END:VEVENT
BEGIN:VEVENT
DTSTART;TZID=America/New_York:20250622T120000
DTEND;TZID=America/New_York:20250622T150000
DTSTAMP:20260419T125159
CREATED:20250610T144620Z
LAST-MODIFIED:20250610T144620Z
UID:10003093-1750593600-1750604400@www.mandarinmoose42.com
SUMMARY:Distorted Breath Poolside
DESCRIPTION:We’re a rock band from Jax\, FL playing original music & covers of famous rock/pop songs from various decades.
URL:https://www.mandarinmoose42.com/event/distorted-breath-poolside/
CATEGORIES:Live Music,Tiki Bar
ATTACH;FMTTYPE=image/jpeg:https://www.mandarinmoose42.com/wp-content/uploads/Distorted-Breath-1.jpg
END:VEVENT
BEGIN:VEVENT
DTSTART;TZID=America/New_York:20250622T110000
DTEND;TZID=America/New_York:20250622T160000
DTSTAMP:20260419T125159
CREATED:20250610T144035Z
LAST-MODIFIED:20250610T144035Z
UID:10002572-1750590000-1750608000@www.mandarinmoose42.com
SUMMARY:Tiki Bar Open
DESCRIPTION:Come lounge by the pool and sip some refreshing cocktails at Moose 42.
URL:https://www.mandarinmoose42.com/event/tiki-bar-open/2025-06-22/
CATEGORIES:Tiki Bar
ATTACH;FMTTYPE=image/jpeg:https://www.mandarinmoose42.com/wp-content/uploads/tiki.jpg
END:VEVENT
BEGIN:VEVENT
DTSTART;TZID=America/New_York:20250621T110000
DTEND;TZID=America/New_York:20250621T160000
DTSTAMP:20260419T125159
CREATED:20250610T144035Z
LAST-MODIFIED:20250610T144035Z
UID:10002571-1750503600-1750521600@www.mandarinmoose42.com
SUMMARY:Tiki Bar Open
DESCRIPTION:Come lounge by the pool and sip some refreshing cocktails at Moose 42.
URL:https://www.mandarinmoose42.com/event/tiki-bar-open/2025-06-21/
CATEGORIES:Tiki Bar
ATTACH;FMTTYPE=image/jpeg:https://www.mandarinmoose42.com/wp-content/uploads/tiki.jpg
END:VEVENT
BEGIN:VEVENT
DTSTART;TZID=America/New_York:20250615T110000
DTEND;TZID=America/New_York:20250615T160000
DTSTAMP:20260419T125159
CREATED:20250610T144035Z
LAST-MODIFIED:20250610T144035Z
UID:10002570-1749985200-1750003200@www.mandarinmoose42.com
SUMMARY:Tiki Bar Open
DESCRIPTION:Come lounge by the pool and sip some refreshing cocktails at Moose 42.
URL:https://www.mandarinmoose42.com/event/tiki-bar-open/2025-06-15/
CATEGORIES:Tiki Bar
ATTACH;FMTTYPE=image/jpeg:https://www.mandarinmoose42.com/wp-content/uploads/tiki.jpg
END:VEVENT
BEGIN:VEVENT
DTSTART;TZID=America/New_York:20250614T110000
DTEND;TZID=America/New_York:20250614T160000
DTSTAMP:20260419T125159
CREATED:20250610T144035Z
LAST-MODIFIED:20250610T144035Z
UID:10002569-1749898800-1749916800@www.mandarinmoose42.com
SUMMARY:Tiki Bar Open
DESCRIPTION:Come lounge by the pool and sip some refreshing cocktails at Moose 42.
URL:https://www.mandarinmoose42.com/event/tiki-bar-open/2025-06-14/
CATEGORIES:Tiki Bar
ATTACH;FMTTYPE=image/jpeg:https://www.mandarinmoose42.com/wp-content/uploads/tiki.jpg
END:VEVENT
END:VCALENDAR