BEGIN:VCALENDAR
VERSION:2.0
PRODID:-//Mandarin Moose Lodge #42 - ECPv6.15.18//NONSGML v1.0//EN
CALSCALE:GREGORIAN
METHOD:PUBLISH
X-WR-CALNAME:Mandarin Moose Lodge #42
X-ORIGINAL-URL:https://www.mandarinmoose42.com
X-WR-CALDESC:Events for Mandarin Moose Lodge #42
REFRESH-INTERVAL;VALUE=DURATION:PT1H
X-Robots-Tag:noindex
X-PUBLISHED-TTL:PT1H
BEGIN:VTIMEZONE
TZID:America/New_York
BEGIN:DAYLIGHT
TZOFFSETFROM:-0500
TZOFFSETTO:-0400
TZNAME:EDT
DTSTART:20240310T070000
END:DAYLIGHT
BEGIN:STANDARD
TZOFFSETFROM:-0400
TZOFFSETTO:-0500
TZNAME:EST
DTSTART:20241103T060000
END:STANDARD
BEGIN:DAYLIGHT
TZOFFSETFROM:-0500
TZOFFSETTO:-0400
TZNAME:EDT
DTSTART:20250309T070000
END:DAYLIGHT
BEGIN:STANDARD
TZOFFSETFROM:-0400
TZOFFSETTO:-0500
TZNAME:EST
DTSTART:20251102T060000
END:STANDARD
BEGIN:DAYLIGHT
TZOFFSETFROM:-0500
TZOFFSETTO:-0400
TZNAME:EDT
DTSTART:20260308T070000
END:DAYLIGHT
BEGIN:STANDARD
TZOFFSETFROM:-0400
TZOFFSETTO:-0500
TZNAME:EST
DTSTART:20261101T060000
END:STANDARD
END:VTIMEZONE
BEGIN:VEVENT
DTSTART;VALUE=DATE:20251225
DTEND;VALUE=DATE:20251226
DTSTAMP:20260421T073356
CREATED:20251024T192136Z
LAST-MODIFIED:20251024T192136Z
UID:10004172-1766620800-1766707199@www.mandarinmoose42.com
SUMMARY:Lodge Closed - Merry Christmas!
DESCRIPTION:
URL:https://www.mandarinmoose42.com/event/lodge-closed-merry-christmas/
CATEGORIES:Special Hours
ATTACH;FMTTYPE=image/jpeg:https://www.mandarinmoose42.com/wp-content/uploads/Closed-for-Christmas.jpg
END:VEVENT
BEGIN:VEVENT
DTSTART;TZID=America/New_York:20251224T120000
DTEND;TZID=America/New_York:20251224T170000
DTSTAMP:20260421T073356
CREATED:20251024T192057Z
LAST-MODIFIED:20251024T192105Z
UID:10004171-1766577600-1766595600@www.mandarinmoose42.com
SUMMARY:Holiday Hours Lodge Open 12pm - 5pm
DESCRIPTION:
URL:https://www.mandarinmoose42.com/event/holiday-hours-lodge-open-12pm-5pm/
CATEGORIES:Special Hours
ATTACH;FMTTYPE=image/jpeg:https://www.mandarinmoose42.com/wp-content/uploads/Holiday-Hours.jpg
END:VEVENT
BEGIN:VEVENT
DTSTART;TZID=America/New_York:20251127T170000
DTEND;TZID=America/New_York:20251127T230000
DTSTAMP:20260421T073356
CREATED:20251024T140452Z
LAST-MODIFIED:20251024T140452Z
UID:10004153-1764262800-1764284400@www.mandarinmoose42.com
SUMMARY:Thanksgiving Hours 5pm to 11pm
DESCRIPTION:HAPPY THANKSGIVING! \nThe lodge will be open from 5:00pm to 11:00pm. \nCome out and see your fellow Moose Members after you’re done with your turkey dinner. \n 
URL:https://www.mandarinmoose42.com/event/thanksgiving-hours-5pm-to-11pm/
CATEGORIES:Special Hours
ATTACH;FMTTYPE=image/jpeg:https://www.mandarinmoose42.com/wp-content/uploads/Happy-Thanksgiving.jpg
END:VEVENT
END:VCALENDAR