BEGIN:VCALENDAR
VERSION:2.0
PRODID:-//Mandarin Moose Lodge #42 - ECPv6.15.18//NONSGML v1.0//EN
CALSCALE:GREGORIAN
METHOD:PUBLISH
X-WR-CALNAME:Mandarin Moose Lodge #42
X-ORIGINAL-URL:https://www.mandarinmoose42.com
X-WR-CALDESC:Events for Mandarin Moose Lodge #42
REFRESH-INTERVAL;VALUE=DURATION:PT1H
X-Robots-Tag:noindex
X-PUBLISHED-TTL:PT1H
BEGIN:VTIMEZONE
TZID:America/New_York
BEGIN:DAYLIGHT
TZOFFSETFROM:-0500
TZOFFSETTO:-0400
TZNAME:EDT
DTSTART:20240310T070000
END:DAYLIGHT
BEGIN:STANDARD
TZOFFSETFROM:-0400
TZOFFSETTO:-0500
TZNAME:EST
DTSTART:20241103T060000
END:STANDARD
BEGIN:DAYLIGHT
TZOFFSETFROM:-0500
TZOFFSETTO:-0400
TZNAME:EDT
DTSTART:20250309T070000
END:DAYLIGHT
BEGIN:STANDARD
TZOFFSETFROM:-0400
TZOFFSETTO:-0500
TZNAME:EST
DTSTART:20251102T060000
END:STANDARD
BEGIN:DAYLIGHT
TZOFFSETFROM:-0500
TZOFFSETTO:-0400
TZNAME:EDT
DTSTART:20260308T070000
END:DAYLIGHT
BEGIN:STANDARD
TZOFFSETFROM:-0400
TZOFFSETTO:-0500
TZNAME:EST
DTSTART:20261101T060000
END:STANDARD
END:VTIMEZONE
BEGIN:VEVENT
DTSTART;TZID=America/New_York:20251109T170000
DTEND;TZID=America/New_York:20251109T220000
DTSTAMP:20260422T131811
CREATED:20250610T142707Z
LAST-MODIFIED:20250610T142707Z
UID:10002067-1762707600-1762725600@www.mandarinmoose42.com
SUMMARY:Pitcher & Pizza Special
DESCRIPTION:12″ Pepperoni or Cheese Pizza \n$15 Soda \n$20 Domestic \n$30 Craft
URL:https://www.mandarinmoose42.com/event/pitcher-pizza-special/2025-11-09/
CATEGORIES:Social Quarters Specials
ATTACH;FMTTYPE=image/jpeg:https://www.mandarinmoose42.com/wp-content/uploads/Pitcher-and-Pizza.jpg
END:VEVENT
BEGIN:VEVENT
DTSTART;TZID=America/New_York:20251102T170000
DTEND;TZID=America/New_York:20251102T220000
DTSTAMP:20260422T131811
CREATED:20250610T142707Z
LAST-MODIFIED:20250610T142707Z
UID:10002066-1762102800-1762120800@www.mandarinmoose42.com
SUMMARY:Pitcher & Pizza Special
DESCRIPTION:12″ Pepperoni or Cheese Pizza \n$15 Soda \n$20 Domestic \n$30 Craft
URL:https://www.mandarinmoose42.com/event/pitcher-pizza-special/2025-11-02/
CATEGORIES:Social Quarters Specials
ATTACH;FMTTYPE=image/jpeg:https://www.mandarinmoose42.com/wp-content/uploads/Pitcher-and-Pizza.jpg
END:VEVENT
BEGIN:VEVENT
DTSTART;TZID=America/New_York:20251031T190000
DTEND;TZID=America/New_York:20251031T230000
DTSTAMP:20260422T131811
CREATED:20251024T132058Z
LAST-MODIFIED:20251024T132058Z
UID:10003855-1761937200-1761951600@www.mandarinmoose42.com
SUMMARY:Halloween Party at Moose 42
DESCRIPTION:Come on out to Mandarin Moose 42’s Halloween Party for a spooky night of fun and entertainment. \nMake sure to wear your best costume to win incredible prizes! \nThere will be live music\, a 50/50 raffle\, and themed drinks to keep the evil spirits away! \nSee you all on Friday\, October 31\, from 7:00 to 11:00.
URL:https://www.mandarinmoose42.com/event/halloween-party-at-moose-42/
CATEGORIES:Live Music,Social Quarters Specials
ATTACH;FMTTYPE=image/png:https://www.mandarinmoose42.com/wp-content/uploads/Halloween-Flyer-FInal.png
END:VEVENT
BEGIN:VEVENT
DTSTART;TZID=America/New_York:20251026T170000
DTEND;TZID=America/New_York:20251026T220000
DTSTAMP:20260422T131811
CREATED:20250610T142707Z
LAST-MODIFIED:20250610T142707Z
UID:10002065-1761498000-1761516000@www.mandarinmoose42.com
SUMMARY:Pitcher & Pizza Special
DESCRIPTION:12″ Pepperoni or Cheese Pizza \n$15 Soda \n$20 Domestic \n$30 Craft
URL:https://www.mandarinmoose42.com/event/pitcher-pizza-special/2025-10-26/
CATEGORIES:Social Quarters Specials
ATTACH;FMTTYPE=image/jpeg:https://www.mandarinmoose42.com/wp-content/uploads/Pitcher-and-Pizza.jpg
END:VEVENT
BEGIN:VEVENT
DTSTART;TZID=America/New_York:20251025T190000
DTEND;TZID=America/New_York:20251025T220000
DTSTAMP:20260422T131811
CREATED:20250505T174237Z
LAST-MODIFIED:20250507T123351Z
UID:10001326-1761418800-1761429600@www.mandarinmoose42.com
SUMMARY:Kill the Keg Bash
DESCRIPTION:$3 Domestic Drafts til we run out!
URL:https://www.mandarinmoose42.com/event/kill-the-keg-bash/2025-10-25/
LOCATION:Mandarin Moose Lodge #42\, 4450 Losco Road\, Jacksonville\, FL\, 32257\, United States
CATEGORIES:Social Quarters Specials
ATTACH;FMTTYPE=image/jpeg:https://www.mandarinmoose42.com/wp-content/uploads/Kill-the-Keg.jpg
END:VEVENT
BEGIN:VEVENT
DTSTART;TZID=America/New_York:20251019T170000
DTEND;TZID=America/New_York:20251019T220000
DTSTAMP:20260422T131811
CREATED:20250610T142707Z
LAST-MODIFIED:20250610T142707Z
UID:10002064-1760893200-1760911200@www.mandarinmoose42.com
SUMMARY:Pitcher & Pizza Special
DESCRIPTION:12″ Pepperoni or Cheese Pizza \n$15 Soda \n$20 Domestic \n$30 Craft
URL:https://www.mandarinmoose42.com/event/pitcher-pizza-special/2025-10-19/
CATEGORIES:Social Quarters Specials
ATTACH;FMTTYPE=image/jpeg:https://www.mandarinmoose42.com/wp-content/uploads/Pitcher-and-Pizza.jpg
END:VEVENT
BEGIN:VEVENT
DTSTART;TZID=America/New_York:20251012T170000
DTEND;TZID=America/New_York:20251012T220000
DTSTAMP:20260422T131811
CREATED:20250610T142707Z
LAST-MODIFIED:20250610T142707Z
UID:10002063-1760288400-1760306400@www.mandarinmoose42.com
SUMMARY:Pitcher & Pizza Special
DESCRIPTION:12″ Pepperoni or Cheese Pizza \n$15 Soda \n$20 Domestic \n$30 Craft
URL:https://www.mandarinmoose42.com/event/pitcher-pizza-special/2025-10-12/
CATEGORIES:Social Quarters Specials
ATTACH;FMTTYPE=image/jpeg:https://www.mandarinmoose42.com/wp-content/uploads/Pitcher-and-Pizza.jpg
END:VEVENT
BEGIN:VEVENT
DTSTART;TZID=America/New_York:20251005T170000
DTEND;TZID=America/New_York:20251005T220000
DTSTAMP:20260422T131811
CREATED:20250610T142707Z
LAST-MODIFIED:20250610T142707Z
UID:10002062-1759683600-1759701600@www.mandarinmoose42.com
SUMMARY:Pitcher & Pizza Special
DESCRIPTION:12″ Pepperoni or Cheese Pizza \n$15 Soda \n$20 Domestic \n$30 Craft
URL:https://www.mandarinmoose42.com/event/pitcher-pizza-special/2025-10-05/
CATEGORIES:Social Quarters Specials
ATTACH;FMTTYPE=image/jpeg:https://www.mandarinmoose42.com/wp-content/uploads/Pitcher-and-Pizza.jpg
END:VEVENT
BEGIN:VEVENT
DTSTART;TZID=America/New_York:20250928T170000
DTEND;TZID=America/New_York:20250928T220000
DTSTAMP:20260422T131811
CREATED:20250610T142707Z
LAST-MODIFIED:20250610T142707Z
UID:10002061-1759078800-1759096800@www.mandarinmoose42.com
SUMMARY:Pitcher & Pizza Special
DESCRIPTION:12″ Pepperoni or Cheese Pizza \n$15 Soda \n$20 Domestic \n$30 Craft
URL:https://www.mandarinmoose42.com/event/pitcher-pizza-special/2025-09-28/
CATEGORIES:Social Quarters Specials
ATTACH;FMTTYPE=image/jpeg:https://www.mandarinmoose42.com/wp-content/uploads/Pitcher-and-Pizza.jpg
END:VEVENT
BEGIN:VEVENT
DTSTART;TZID=America/New_York:20250927T190000
DTEND;TZID=America/New_York:20250927T220000
DTSTAMP:20260422T131811
CREATED:20250505T174237Z
LAST-MODIFIED:20250507T123351Z
UID:10001325-1758999600-1759010400@www.mandarinmoose42.com
SUMMARY:Kill the Keg Bash
DESCRIPTION:$3 Domestic Drafts til we run out!
URL:https://www.mandarinmoose42.com/event/kill-the-keg-bash/2025-09-27/
LOCATION:Mandarin Moose Lodge #42\, 4450 Losco Road\, Jacksonville\, FL\, 32257\, United States
CATEGORIES:Social Quarters Specials
ATTACH;FMTTYPE=image/jpeg:https://www.mandarinmoose42.com/wp-content/uploads/Kill-the-Keg.jpg
END:VEVENT
BEGIN:VEVENT
DTSTART;TZID=America/New_York:20250921T170000
DTEND;TZID=America/New_York:20250921T220000
DTSTAMP:20260422T131811
CREATED:20250610T142707Z
LAST-MODIFIED:20250610T142707Z
UID:10002060-1758474000-1758492000@www.mandarinmoose42.com
SUMMARY:Pitcher & Pizza Special
DESCRIPTION:12″ Pepperoni or Cheese Pizza \n$15 Soda \n$20 Domestic \n$30 Craft
URL:https://www.mandarinmoose42.com/event/pitcher-pizza-special/2025-09-21/
CATEGORIES:Social Quarters Specials
ATTACH;FMTTYPE=image/jpeg:https://www.mandarinmoose42.com/wp-content/uploads/Pitcher-and-Pizza.jpg
END:VEVENT
BEGIN:VEVENT
DTSTART;TZID=America/New_York:20250914T170000
DTEND;TZID=America/New_York:20250914T220000
DTSTAMP:20260422T131811
CREATED:20250610T142707Z
LAST-MODIFIED:20250610T142707Z
UID:10002059-1757869200-1757887200@www.mandarinmoose42.com
SUMMARY:Pitcher & Pizza Special
DESCRIPTION:12″ Pepperoni or Cheese Pizza \n$15 Soda \n$20 Domestic \n$30 Craft
URL:https://www.mandarinmoose42.com/event/pitcher-pizza-special/2025-09-14/
CATEGORIES:Social Quarters Specials
ATTACH;FMTTYPE=image/jpeg:https://www.mandarinmoose42.com/wp-content/uploads/Pitcher-and-Pizza.jpg
END:VEVENT
BEGIN:VEVENT
DTSTART;TZID=America/New_York:20250907T170000
DTEND;TZID=America/New_York:20250907T220000
DTSTAMP:20260422T131811
CREATED:20250610T142707Z
LAST-MODIFIED:20250610T142707Z
UID:10002058-1757264400-1757282400@www.mandarinmoose42.com
SUMMARY:Pitcher & Pizza Special
DESCRIPTION:12″ Pepperoni or Cheese Pizza \n$15 Soda \n$20 Domestic \n$30 Craft
URL:https://www.mandarinmoose42.com/event/pitcher-pizza-special/2025-09-07/
CATEGORIES:Social Quarters Specials
ATTACH;FMTTYPE=image/jpeg:https://www.mandarinmoose42.com/wp-content/uploads/Pitcher-and-Pizza.jpg
END:VEVENT
BEGIN:VEVENT
DTSTART;TZID=America/New_York:20250831T170000
DTEND;TZID=America/New_York:20250831T220000
DTSTAMP:20260422T131811
CREATED:20250610T142707Z
LAST-MODIFIED:20250610T142707Z
UID:10002057-1756659600-1756677600@www.mandarinmoose42.com
SUMMARY:Pitcher & Pizza Special
DESCRIPTION:12″ Pepperoni or Cheese Pizza \n$15 Soda \n$20 Domestic \n$30 Craft
URL:https://www.mandarinmoose42.com/event/pitcher-pizza-special/2025-08-31/
CATEGORIES:Social Quarters Specials
ATTACH;FMTTYPE=image/jpeg:https://www.mandarinmoose42.com/wp-content/uploads/Pitcher-and-Pizza.jpg
END:VEVENT
BEGIN:VEVENT
DTSTART;TZID=America/New_York:20250830T190000
DTEND;TZID=America/New_York:20250830T220000
DTSTAMP:20260422T131811
CREATED:20250505T174237Z
LAST-MODIFIED:20250507T123351Z
UID:10001324-1756580400-1756591200@www.mandarinmoose42.com
SUMMARY:Kill the Keg Bash
DESCRIPTION:$3 Domestic Drafts til we run out!
URL:https://www.mandarinmoose42.com/event/kill-the-keg-bash/2025-08-30/
LOCATION:Mandarin Moose Lodge #42\, 4450 Losco Road\, Jacksonville\, FL\, 32257\, United States
CATEGORIES:Social Quarters Specials
ATTACH;FMTTYPE=image/jpeg:https://www.mandarinmoose42.com/wp-content/uploads/Kill-the-Keg.jpg
END:VEVENT
BEGIN:VEVENT
DTSTART;TZID=America/New_York:20250824T170000
DTEND;TZID=America/New_York:20250824T220000
DTSTAMP:20260422T131811
CREATED:20250610T142707Z
LAST-MODIFIED:20250610T142707Z
UID:10002056-1756054800-1756072800@www.mandarinmoose42.com
SUMMARY:Pitcher & Pizza Special
DESCRIPTION:12″ Pepperoni or Cheese Pizza \n$15 Soda \n$20 Domestic \n$30 Craft
URL:https://www.mandarinmoose42.com/event/pitcher-pizza-special/2025-08-24/
CATEGORIES:Social Quarters Specials
ATTACH;FMTTYPE=image/jpeg:https://www.mandarinmoose42.com/wp-content/uploads/Pitcher-and-Pizza.jpg
END:VEVENT
BEGIN:VEVENT
DTSTART;TZID=America/New_York:20250817T170000
DTEND;TZID=America/New_York:20250817T220000
DTSTAMP:20260422T131811
CREATED:20250610T142707Z
LAST-MODIFIED:20250610T142707Z
UID:10002055-1755450000-1755468000@www.mandarinmoose42.com
SUMMARY:Pitcher & Pizza Special
DESCRIPTION:12″ Pepperoni or Cheese Pizza \n$15 Soda \n$20 Domestic \n$30 Craft
URL:https://www.mandarinmoose42.com/event/pitcher-pizza-special/2025-08-17/
CATEGORIES:Social Quarters Specials
ATTACH;FMTTYPE=image/jpeg:https://www.mandarinmoose42.com/wp-content/uploads/Pitcher-and-Pizza.jpg
END:VEVENT
BEGIN:VEVENT
DTSTART;TZID=America/New_York:20250810T170000
DTEND;TZID=America/New_York:20250810T220000
DTSTAMP:20260422T131811
CREATED:20250610T142707Z
LAST-MODIFIED:20250610T142707Z
UID:10002054-1754845200-1754863200@www.mandarinmoose42.com
SUMMARY:Pitcher & Pizza Special
DESCRIPTION:12″ Pepperoni or Cheese Pizza \n$15 Soda \n$20 Domestic \n$30 Craft
URL:https://www.mandarinmoose42.com/event/pitcher-pizza-special/2025-08-10/
CATEGORIES:Social Quarters Specials
ATTACH;FMTTYPE=image/jpeg:https://www.mandarinmoose42.com/wp-content/uploads/Pitcher-and-Pizza.jpg
END:VEVENT
BEGIN:VEVENT
DTSTART;TZID=America/New_York:20250803T170000
DTEND;TZID=America/New_York:20250803T220000
DTSTAMP:20260422T131811
CREATED:20250610T142707Z
LAST-MODIFIED:20250610T142707Z
UID:10002053-1754240400-1754258400@www.mandarinmoose42.com
SUMMARY:Pitcher & Pizza Special
DESCRIPTION:12″ Pepperoni or Cheese Pizza \n$15 Soda \n$20 Domestic \n$30 Craft
URL:https://www.mandarinmoose42.com/event/pitcher-pizza-special/2025-08-03/
CATEGORIES:Social Quarters Specials
ATTACH;FMTTYPE=image/jpeg:https://www.mandarinmoose42.com/wp-content/uploads/Pitcher-and-Pizza.jpg
END:VEVENT
BEGIN:VEVENT
DTSTART;TZID=America/New_York:20250727T170000
DTEND;TZID=America/New_York:20250727T220000
DTSTAMP:20260422T131811
CREATED:20250610T142707Z
LAST-MODIFIED:20250610T142707Z
UID:10002052-1753635600-1753653600@www.mandarinmoose42.com
SUMMARY:Pitcher & Pizza Special
DESCRIPTION:12″ Pepperoni or Cheese Pizza \n$15 Soda \n$20 Domestic \n$30 Craft
URL:https://www.mandarinmoose42.com/event/pitcher-pizza-special/2025-07-27/
CATEGORIES:Social Quarters Specials
ATTACH;FMTTYPE=image/jpeg:https://www.mandarinmoose42.com/wp-content/uploads/Pitcher-and-Pizza.jpg
END:VEVENT
BEGIN:VEVENT
DTSTART;TZID=America/New_York:20250726T190000
DTEND;TZID=America/New_York:20250726T220000
DTSTAMP:20260422T131811
CREATED:20250505T174237Z
LAST-MODIFIED:20250507T123351Z
UID:10001323-1753556400-1753567200@www.mandarinmoose42.com
SUMMARY:Kill the Keg Bash
DESCRIPTION:$3 Domestic Drafts til we run out!
URL:https://www.mandarinmoose42.com/event/kill-the-keg-bash/2025-07-26/
LOCATION:Mandarin Moose Lodge #42\, 4450 Losco Road\, Jacksonville\, FL\, 32257\, United States
CATEGORIES:Social Quarters Specials
ATTACH;FMTTYPE=image/jpeg:https://www.mandarinmoose42.com/wp-content/uploads/Kill-the-Keg.jpg
END:VEVENT
BEGIN:VEVENT
DTSTART;TZID=America/New_York:20250720T170000
DTEND;TZID=America/New_York:20250720T220000
DTSTAMP:20260422T131811
CREATED:20250610T142707Z
LAST-MODIFIED:20250610T142707Z
UID:10002051-1753030800-1753048800@www.mandarinmoose42.com
SUMMARY:Pitcher & Pizza Special
DESCRIPTION:12″ Pepperoni or Cheese Pizza \n$15 Soda \n$20 Domestic \n$30 Craft
URL:https://www.mandarinmoose42.com/event/pitcher-pizza-special/2025-07-20/
CATEGORIES:Social Quarters Specials
ATTACH;FMTTYPE=image/jpeg:https://www.mandarinmoose42.com/wp-content/uploads/Pitcher-and-Pizza.jpg
END:VEVENT
BEGIN:VEVENT
DTSTART;TZID=America/New_York:20250713T170000
DTEND;TZID=America/New_York:20250713T220000
DTSTAMP:20260422T131811
CREATED:20250610T142707Z
LAST-MODIFIED:20250610T142707Z
UID:10002050-1752426000-1752444000@www.mandarinmoose42.com
SUMMARY:Pitcher & Pizza Special
DESCRIPTION:12″ Pepperoni or Cheese Pizza \n$15 Soda \n$20 Domestic \n$30 Craft
URL:https://www.mandarinmoose42.com/event/pitcher-pizza-special/2025-07-13/
CATEGORIES:Social Quarters Specials
ATTACH;FMTTYPE=image/jpeg:https://www.mandarinmoose42.com/wp-content/uploads/Pitcher-and-Pizza.jpg
END:VEVENT
BEGIN:VEVENT
DTSTART;TZID=America/New_York:20250708T080000
DTEND;TZID=America/New_York:20250708T170000
DTSTAMP:20260422T131811
CREATED:20250610T185928Z
LAST-MODIFIED:20250624T020139Z
UID:10003122-1751961600-1751994000@www.mandarinmoose42.com
SUMMARY:Member Appreciation Lunch
DESCRIPTION:Lunch catered by Chipotle \nFor members of Moose #42 ONLY. No guests permitted. \nThank you to our members for renewing your membership\, sponsoring new members and helping us hit our annual membership goal.
URL:https://www.mandarinmoose42.com/event/member-appreciation-lunch/
CATEGORIES:Social Quarters Specials
ATTACH;FMTTYPE=image/jpeg:https://www.mandarinmoose42.com/wp-content/uploads/Member-Appreciation.jpg
END:VEVENT
BEGIN:VEVENT
DTSTART;TZID=America/New_York:20250706T170000
DTEND;TZID=America/New_York:20250706T220000
DTSTAMP:20260422T131811
CREATED:20250610T142707Z
LAST-MODIFIED:20250610T142707Z
UID:10002049-1751821200-1751839200@www.mandarinmoose42.com
SUMMARY:Pitcher & Pizza Special
DESCRIPTION:12″ Pepperoni or Cheese Pizza \n$15 Soda \n$20 Domestic \n$30 Craft
URL:https://www.mandarinmoose42.com/event/pitcher-pizza-special/2025-07-06/
CATEGORIES:Social Quarters Specials
ATTACH;FMTTYPE=image/jpeg:https://www.mandarinmoose42.com/wp-content/uploads/Pitcher-and-Pizza.jpg
END:VEVENT
BEGIN:VEVENT
DTSTART;TZID=America/New_York:20250629T170000
DTEND;TZID=America/New_York:20250629T220000
DTSTAMP:20260422T131811
CREATED:20250610T142707Z
LAST-MODIFIED:20250610T142707Z
UID:10002048-1751216400-1751234400@www.mandarinmoose42.com
SUMMARY:Pitcher & Pizza Special
DESCRIPTION:12″ Pepperoni or Cheese Pizza \n$15 Soda \n$20 Domestic \n$30 Craft
URL:https://www.mandarinmoose42.com/event/pitcher-pizza-special/2025-06-29/
CATEGORIES:Social Quarters Specials
ATTACH;FMTTYPE=image/jpeg:https://www.mandarinmoose42.com/wp-content/uploads/Pitcher-and-Pizza.jpg
END:VEVENT
BEGIN:VEVENT
DTSTART;TZID=America/New_York:20250628T190000
DTEND;TZID=America/New_York:20250628T220000
DTSTAMP:20260422T131811
CREATED:20250505T174237Z
LAST-MODIFIED:20250507T123351Z
UID:10001322-1751137200-1751148000@www.mandarinmoose42.com
SUMMARY:Kill the Keg Bash
DESCRIPTION:$3 Domestic Drafts til we run out!
URL:https://www.mandarinmoose42.com/event/kill-the-keg-bash/2025-06-28/
LOCATION:Mandarin Moose Lodge #42\, 4450 Losco Road\, Jacksonville\, FL\, 32257\, United States
CATEGORIES:Social Quarters Specials
ATTACH;FMTTYPE=image/jpeg:https://www.mandarinmoose42.com/wp-content/uploads/Kill-the-Keg.jpg
END:VEVENT
BEGIN:VEVENT
DTSTART;TZID=America/New_York:20250622T170000
DTEND;TZID=America/New_York:20250622T220000
DTSTAMP:20260422T131811
CREATED:20250610T142707Z
LAST-MODIFIED:20250610T142707Z
UID:10002047-1750611600-1750629600@www.mandarinmoose42.com
SUMMARY:Pitcher & Pizza Special
DESCRIPTION:12″ Pepperoni or Cheese Pizza \n$15 Soda \n$20 Domestic \n$30 Craft
URL:https://www.mandarinmoose42.com/event/pitcher-pizza-special/2025-06-22/
CATEGORIES:Social Quarters Specials
ATTACH;FMTTYPE=image/jpeg:https://www.mandarinmoose42.com/wp-content/uploads/Pitcher-and-Pizza.jpg
END:VEVENT
BEGIN:VEVENT
DTSTART;TZID=America/New_York:20250615T170000
DTEND;TZID=America/New_York:20250615T220000
DTSTAMP:20260422T131811
CREATED:20250610T142707Z
LAST-MODIFIED:20250610T142707Z
UID:10002046-1750006800-1750024800@www.mandarinmoose42.com
SUMMARY:Pitcher & Pizza Special
DESCRIPTION:12″ Pepperoni or Cheese Pizza \n$15 Soda \n$20 Domestic \n$30 Craft
URL:https://www.mandarinmoose42.com/event/pitcher-pizza-special/2025-06-15/
CATEGORIES:Social Quarters Specials
ATTACH;FMTTYPE=image/jpeg:https://www.mandarinmoose42.com/wp-content/uploads/Pitcher-and-Pizza.jpg
END:VEVENT
BEGIN:VEVENT
DTSTART;TZID=America/New_York:20250531T190000
DTEND;TZID=America/New_York:20250531T220000
DTSTAMP:20260422T131811
CREATED:20250505T174237Z
LAST-MODIFIED:20250507T123351Z
UID:10001321-1748718000-1748728800@www.mandarinmoose42.com
SUMMARY:Kill the Keg Bash
DESCRIPTION:$3 Domestic Drafts til we run out!
URL:https://www.mandarinmoose42.com/event/kill-the-keg-bash/2025-05-31/
LOCATION:Mandarin Moose Lodge #42\, 4450 Losco Road\, Jacksonville\, FL\, 32257\, United States
CATEGORIES:Social Quarters Specials
ATTACH;FMTTYPE=image/jpeg:https://www.mandarinmoose42.com/wp-content/uploads/Kill-the-Keg.jpg
END:VEVENT
END:VCALENDAR