BEGIN:VCALENDAR
VERSION:2.0
PRODID:-//Mandarin Moose Lodge #42 - ECPv6.15.18//NONSGML v1.0//EN
CALSCALE:GREGORIAN
METHOD:PUBLISH
X-WR-CALNAME:Mandarin Moose Lodge #42
X-ORIGINAL-URL:https://www.mandarinmoose42.com
X-WR-CALDESC:Events for Mandarin Moose Lodge #42
REFRESH-INTERVAL;VALUE=DURATION:PT1H
X-Robots-Tag:noindex
X-PUBLISHED-TTL:PT1H
BEGIN:VTIMEZONE
TZID:America/New_York
BEGIN:DAYLIGHT
TZOFFSETFROM:-0500
TZOFFSETTO:-0400
TZNAME:EDT
DTSTART:20250309T070000
END:DAYLIGHT
BEGIN:STANDARD
TZOFFSETFROM:-0400
TZOFFSETTO:-0500
TZNAME:EST
DTSTART:20251102T060000
END:STANDARD
BEGIN:DAYLIGHT
TZOFFSETFROM:-0500
TZOFFSETTO:-0400
TZNAME:EDT
DTSTART:20260308T070000
END:DAYLIGHT
BEGIN:STANDARD
TZOFFSETFROM:-0400
TZOFFSETTO:-0500
TZNAME:EST
DTSTART:20261101T060000
END:STANDARD
BEGIN:DAYLIGHT
TZOFFSETFROM:-0500
TZOFFSETTO:-0400
TZNAME:EDT
DTSTART:20270314T070000
END:DAYLIGHT
BEGIN:STANDARD
TZOFFSETFROM:-0400
TZOFFSETTO:-0500
TZNAME:EST
DTSTART:20271107T060000
END:STANDARD
END:VTIMEZONE
BEGIN:VEVENT
DTSTART;TZID=America/New_York:20260104T170000
DTEND;TZID=America/New_York:20260104T220000
DTSTAMP:20260424T093451
CREATED:20250610T142707Z
LAST-MODIFIED:20250610T142707Z
UID:10002075-1767546000-1767564000@www.mandarinmoose42.com
SUMMARY:Pitcher & Pizza Special
DESCRIPTION:12″ Pepperoni or Cheese Pizza \n$15 Soda \n$20 Domestic \n$30 Craft
URL:https://www.mandarinmoose42.com/event/pitcher-pizza-special/2026-01-04/
CATEGORIES:Social Quarters Specials
ATTACH;FMTTYPE=image/jpeg:https://www.mandarinmoose42.com/wp-content/uploads/Pitcher-and-Pizza.jpg
END:VEVENT
BEGIN:VEVENT
DTSTART;TZID=America/New_York:20260111T170000
DTEND;TZID=America/New_York:20260111T220000
DTSTAMP:20260424T093451
CREATED:20250610T142707Z
LAST-MODIFIED:20250610T142707Z
UID:10002076-1768150800-1768168800@www.mandarinmoose42.com
SUMMARY:Pitcher & Pizza Special
DESCRIPTION:12″ Pepperoni or Cheese Pizza \n$15 Soda \n$20 Domestic \n$30 Craft
URL:https://www.mandarinmoose42.com/event/pitcher-pizza-special/2026-01-11/
CATEGORIES:Social Quarters Specials
ATTACH;FMTTYPE=image/jpeg:https://www.mandarinmoose42.com/wp-content/uploads/Pitcher-and-Pizza.jpg
END:VEVENT
BEGIN:VEVENT
DTSTART;TZID=America/New_York:20260118T170000
DTEND;TZID=America/New_York:20260118T220000
DTSTAMP:20260424T093451
CREATED:20250610T142707Z
LAST-MODIFIED:20250610T142707Z
UID:10002077-1768755600-1768773600@www.mandarinmoose42.com
SUMMARY:Pitcher & Pizza Special
DESCRIPTION:12″ Pepperoni or Cheese Pizza \n$15 Soda \n$20 Domestic \n$30 Craft
URL:https://www.mandarinmoose42.com/event/pitcher-pizza-special/2026-01-18/
CATEGORIES:Social Quarters Specials
ATTACH;FMTTYPE=image/jpeg:https://www.mandarinmoose42.com/wp-content/uploads/Pitcher-and-Pizza.jpg
END:VEVENT
BEGIN:VEVENT
DTSTART;TZID=America/New_York:20260125T170000
DTEND;TZID=America/New_York:20260125T220000
DTSTAMP:20260424T093451
CREATED:20250610T142707Z
LAST-MODIFIED:20250610T142707Z
UID:10002078-1769360400-1769378400@www.mandarinmoose42.com
SUMMARY:Pitcher & Pizza Special
DESCRIPTION:12″ Pepperoni or Cheese Pizza \n$15 Soda \n$20 Domestic \n$30 Craft
URL:https://www.mandarinmoose42.com/event/pitcher-pizza-special/2026-01-25/
CATEGORIES:Social Quarters Specials
ATTACH;FMTTYPE=image/jpeg:https://www.mandarinmoose42.com/wp-content/uploads/Pitcher-and-Pizza.jpg
END:VEVENT
BEGIN:VEVENT
DTSTART;TZID=America/New_York:20260131T190000
DTEND;TZID=America/New_York:20260131T220000
DTSTAMP:20260424T093451
CREATED:20250505T174237Z
LAST-MODIFIED:20250507T123351Z
UID:10001329-1769886000-1769896800@www.mandarinmoose42.com
SUMMARY:Kill the Keg Bash
DESCRIPTION:$3 Domestic Drafts til we run out!
URL:https://www.mandarinmoose42.com/event/kill-the-keg-bash/2026-01-31/
LOCATION:Mandarin Moose Lodge #42\, 4450 Losco Road\, Jacksonville\, FL\, 32257\, United States
CATEGORIES:Social Quarters Specials
ATTACH;FMTTYPE=image/jpeg:https://www.mandarinmoose42.com/wp-content/uploads/Kill-the-Keg.jpg
END:VEVENT
END:VCALENDAR