BEGIN:VCALENDAR
VERSION:2.0
PRODID:-//Mandarin Moose Lodge #42 - ECPv6.15.18//NONSGML v1.0//EN
CALSCALE:GREGORIAN
METHOD:PUBLISH
X-WR-CALNAME:Mandarin Moose Lodge #42
X-ORIGINAL-URL:https://www.mandarinmoose42.com
X-WR-CALDESC:Events for Mandarin Moose Lodge #42
REFRESH-INTERVAL;VALUE=DURATION:PT1H
X-Robots-Tag:noindex
X-PUBLISHED-TTL:PT1H
BEGIN:VTIMEZONE
TZID:America/New_York
BEGIN:DAYLIGHT
TZOFFSETFROM:-0500
TZOFFSETTO:-0400
TZNAME:EDT
DTSTART:20240310T070000
END:DAYLIGHT
BEGIN:STANDARD
TZOFFSETFROM:-0400
TZOFFSETTO:-0500
TZNAME:EST
DTSTART:20241103T060000
END:STANDARD
BEGIN:DAYLIGHT
TZOFFSETFROM:-0500
TZOFFSETTO:-0400
TZNAME:EDT
DTSTART:20250309T070000
END:DAYLIGHT
BEGIN:STANDARD
TZOFFSETFROM:-0400
TZOFFSETTO:-0500
TZNAME:EST
DTSTART:20251102T060000
END:STANDARD
BEGIN:DAYLIGHT
TZOFFSETFROM:-0500
TZOFFSETTO:-0400
TZNAME:EDT
DTSTART:20260308T070000
END:DAYLIGHT
BEGIN:STANDARD
TZOFFSETFROM:-0400
TZOFFSETTO:-0500
TZNAME:EST
DTSTART:20261101T060000
END:STANDARD
END:VTIMEZONE
BEGIN:VEVENT
DTSTART;TZID=America/New_York:20250704T110000
DTEND;TZID=America/New_York:20250704T170000
DTSTAMP:20260425T221705
CREATED:20250610T182854Z
LAST-MODIFIED:20250610T182854Z
UID:10003101-1751626800-1751648400@www.mandarinmoose42.com
SUMMARY:Fourth of July Pool Party & Moose Legion BBQ
DESCRIPTION:Fun\, Food\, Friends! \nCome celebrate Independence Day poolside at the Moose. \nBBQ items will be cooked and sold by our own Moose Legion. \nMore details to come!
URL:https://www.mandarinmoose42.com/event/fourth-of-july-pool-party-moose-legion-bbq/
CATEGORIES:Family Fun,Moose Legion
ATTACH;FMTTYPE=image/jpeg:https://www.mandarinmoose42.com/wp-content/uploads/4th-of-July-BBQ.jpg
END:VEVENT
BEGIN:VEVENT
DTSTART;TZID=America/New_York:20250708T183000
DTEND;TZID=America/New_York:20250708T193000
DTSTAMP:20260425T221705
CREATED:20250610T183138Z
LAST-MODIFIED:20250610T183138Z
UID:10003103-1751999400-1752003000@www.mandarinmoose42.com
SUMMARY:Moose Legion Meeting
DESCRIPTION:
URL:https://www.mandarinmoose42.com/event/moose-legion-meeting-2/
LOCATION:Mandarin Moose Lodge #42\, 4450 Losco Road\, Jacksonville\, FL\, 32257\, United States
CATEGORIES:Meeting,Moose Legion
ATTACH;FMTTYPE=image/webp:https://www.mandarinmoose42.com/wp-content/uploads/moose-legion-service-logo.webp
END:VEVENT
END:VCALENDAR