BEGIN:VCALENDAR
VERSION:2.0
PRODID:-//Mandarin Moose Lodge #42 - ECPv6.15.18//NONSGML v1.0//EN
CALSCALE:GREGORIAN
METHOD:PUBLISH
X-WR-CALNAME:Mandarin Moose Lodge #42
X-ORIGINAL-URL:https://www.mandarinmoose42.com
X-WR-CALDESC:Events for Mandarin Moose Lodge #42
REFRESH-INTERVAL;VALUE=DURATION:PT1H
X-Robots-Tag:noindex
X-PUBLISHED-TTL:PT1H
BEGIN:VTIMEZONE
TZID:America/New_York
BEGIN:DAYLIGHT
TZOFFSETFROM:-0500
TZOFFSETTO:-0400
TZNAME:EDT
DTSTART:20250309T070000
END:DAYLIGHT
BEGIN:STANDARD
TZOFFSETFROM:-0400
TZOFFSETTO:-0500
TZNAME:EST
DTSTART:20251102T060000
END:STANDARD
BEGIN:DAYLIGHT
TZOFFSETFROM:-0500
TZOFFSETTO:-0400
TZNAME:EDT
DTSTART:20260308T070000
END:DAYLIGHT
BEGIN:STANDARD
TZOFFSETFROM:-0400
TZOFFSETTO:-0500
TZNAME:EST
DTSTART:20261101T060000
END:STANDARD
BEGIN:DAYLIGHT
TZOFFSETFROM:-0500
TZOFFSETTO:-0400
TZNAME:EDT
DTSTART:20270314T070000
END:DAYLIGHT
BEGIN:STANDARD
TZOFFSETFROM:-0400
TZOFFSETTO:-0500
TZNAME:EST
DTSTART:20271107T060000
END:STANDARD
BEGIN:DAYLIGHT
TZOFFSETFROM:-0500
TZOFFSETTO:-0400
TZNAME:EDT
DTSTART:20280312T070000
END:DAYLIGHT
BEGIN:STANDARD
TZOFFSETFROM:-0400
TZOFFSETTO:-0500
TZNAME:EST
DTSTART:20281105T060000
END:STANDARD
END:VTIMEZONE
BEGIN:VEVENT
DTSTART;TZID=America/New_York:20260512T190000
DTEND;TZID=America/New_York:20260512T200000
DTSTAMP:20260422T094634
CREATED:20260204T133755Z
LAST-MODIFIED:20260204T133756Z
UID:10004520-1778612400-1778616000@www.mandarinmoose42.com
SUMMARY:General Membership Meeting
DESCRIPTION:Join us on the first and third Tuesday of the month for the General Membership Meeting in the Hall.
URL:https://www.mandarinmoose42.com/event/general-membership-meeting-2-2-2-2/2026-05-12/
LOCATION:Mandarin Moose Lodge #42\, 4450 Losco Road\, Jacksonville\, FL\, 32257\, United States
CATEGORIES:Meeting
ATTACH;FMTTYPE=image/jpeg:https://www.mandarinmoose42.com/wp-content/uploads/Meeting.jpg
ORGANIZER;CN="Mandarin Moose Lodge #42":MAILTO:Lodge42@mooseunits.org
END:VEVENT
BEGIN:VEVENT
DTSTART;TZID=America/New_York:20260526T190000
DTEND;TZID=America/New_York:20260526T200000
DTSTAMP:20260422T094634
CREATED:20260204T133755Z
LAST-MODIFIED:20260204T133756Z
UID:10004521-1779822000-1779825600@www.mandarinmoose42.com
SUMMARY:General Membership Meeting
DESCRIPTION:Join us on the first and third Tuesday of the month for the General Membership Meeting in the Hall.
URL:https://www.mandarinmoose42.com/event/general-membership-meeting-2-2-2-2/2026-05-26/
LOCATION:Mandarin Moose Lodge #42\, 4450 Losco Road\, Jacksonville\, FL\, 32257\, United States
CATEGORIES:Meeting
ATTACH;FMTTYPE=image/jpeg:https://www.mandarinmoose42.com/wp-content/uploads/Meeting.jpg
ORGANIZER;CN="Mandarin Moose Lodge #42":MAILTO:Lodge42@mooseunits.org
END:VEVENT
BEGIN:VEVENT
DTSTART;TZID=America/New_York:20260609T190000
DTEND;TZID=America/New_York:20260609T200000
DTSTAMP:20260422T094634
CREATED:20260204T133755Z
LAST-MODIFIED:20260204T133756Z
UID:10004522-1781031600-1781035200@www.mandarinmoose42.com
SUMMARY:General Membership Meeting
DESCRIPTION:Join us on the first and third Tuesday of the month for the General Membership Meeting in the Hall.
URL:https://www.mandarinmoose42.com/event/general-membership-meeting-2-2-2-2/2026-06-09/
LOCATION:Mandarin Moose Lodge #42\, 4450 Losco Road\, Jacksonville\, FL\, 32257\, United States
CATEGORIES:Meeting
ATTACH;FMTTYPE=image/jpeg:https://www.mandarinmoose42.com/wp-content/uploads/Meeting.jpg
ORGANIZER;CN="Mandarin Moose Lodge #42":MAILTO:Lodge42@mooseunits.org
END:VEVENT
BEGIN:VEVENT
DTSTART;TZID=America/New_York:20260623T190000
DTEND;TZID=America/New_York:20260623T200000
DTSTAMP:20260422T094634
CREATED:20260204T133755Z
LAST-MODIFIED:20260204T133756Z
UID:10004523-1782241200-1782244800@www.mandarinmoose42.com
SUMMARY:General Membership Meeting
DESCRIPTION:Join us on the first and third Tuesday of the month for the General Membership Meeting in the Hall.
URL:https://www.mandarinmoose42.com/event/general-membership-meeting-2-2-2-2/2026-06-23/
LOCATION:Mandarin Moose Lodge #42\, 4450 Losco Road\, Jacksonville\, FL\, 32257\, United States
CATEGORIES:Meeting
ATTACH;FMTTYPE=image/jpeg:https://www.mandarinmoose42.com/wp-content/uploads/Meeting.jpg
ORGANIZER;CN="Mandarin Moose Lodge #42":MAILTO:Lodge42@mooseunits.org
END:VEVENT
BEGIN:VEVENT
DTSTART;TZID=America/New_York:20260707T190000
DTEND;TZID=America/New_York:20260707T200000
DTSTAMP:20260422T094634
CREATED:20260204T133755Z
LAST-MODIFIED:20260204T133756Z
UID:10004524-1783450800-1783454400@www.mandarinmoose42.com
SUMMARY:General Membership Meeting
DESCRIPTION:Join us on the first and third Tuesday of the month for the General Membership Meeting in the Hall.
URL:https://www.mandarinmoose42.com/event/general-membership-meeting-2-2-2-2/2026-07-07/
LOCATION:Mandarin Moose Lodge #42\, 4450 Losco Road\, Jacksonville\, FL\, 32257\, United States
CATEGORIES:Meeting
ATTACH;FMTTYPE=image/jpeg:https://www.mandarinmoose42.com/wp-content/uploads/Meeting.jpg
ORGANIZER;CN="Mandarin Moose Lodge #42":MAILTO:Lodge42@mooseunits.org
END:VEVENT
BEGIN:VEVENT
DTSTART;TZID=America/New_York:20260721T190000
DTEND;TZID=America/New_York:20260721T200000
DTSTAMP:20260422T094634
CREATED:20260204T133755Z
LAST-MODIFIED:20260204T133756Z
UID:10004525-1784660400-1784664000@www.mandarinmoose42.com
SUMMARY:General Membership Meeting
DESCRIPTION:Join us on the first and third Tuesday of the month for the General Membership Meeting in the Hall.
URL:https://www.mandarinmoose42.com/event/general-membership-meeting-2-2-2-2/2026-07-21/
LOCATION:Mandarin Moose Lodge #42\, 4450 Losco Road\, Jacksonville\, FL\, 32257\, United States
CATEGORIES:Meeting
ATTACH;FMTTYPE=image/jpeg:https://www.mandarinmoose42.com/wp-content/uploads/Meeting.jpg
ORGANIZER;CN="Mandarin Moose Lodge #42":MAILTO:Lodge42@mooseunits.org
END:VEVENT
BEGIN:VEVENT
DTSTART;TZID=America/New_York:20260804T190000
DTEND;TZID=America/New_York:20260804T200000
DTSTAMP:20260422T094634
CREATED:20260204T133755Z
LAST-MODIFIED:20260204T133756Z
UID:10004526-1785870000-1785873600@www.mandarinmoose42.com
SUMMARY:General Membership Meeting
DESCRIPTION:Join us on the first and third Tuesday of the month for the General Membership Meeting in the Hall.
URL:https://www.mandarinmoose42.com/event/general-membership-meeting-2-2-2-2/2026-08-04/
LOCATION:Mandarin Moose Lodge #42\, 4450 Losco Road\, Jacksonville\, FL\, 32257\, United States
CATEGORIES:Meeting
ATTACH;FMTTYPE=image/jpeg:https://www.mandarinmoose42.com/wp-content/uploads/Meeting.jpg
ORGANIZER;CN="Mandarin Moose Lodge #42":MAILTO:Lodge42@mooseunits.org
END:VEVENT
BEGIN:VEVENT
DTSTART;TZID=America/New_York:20260818T190000
DTEND;TZID=America/New_York:20260818T200000
DTSTAMP:20260422T094634
CREATED:20260204T133755Z
LAST-MODIFIED:20260204T133756Z
UID:10004527-1787079600-1787083200@www.mandarinmoose42.com
SUMMARY:General Membership Meeting
DESCRIPTION:Join us on the first and third Tuesday of the month for the General Membership Meeting in the Hall.
URL:https://www.mandarinmoose42.com/event/general-membership-meeting-2-2-2-2/2026-08-18/
LOCATION:Mandarin Moose Lodge #42\, 4450 Losco Road\, Jacksonville\, FL\, 32257\, United States
CATEGORIES:Meeting
ATTACH;FMTTYPE=image/jpeg:https://www.mandarinmoose42.com/wp-content/uploads/Meeting.jpg
ORGANIZER;CN="Mandarin Moose Lodge #42":MAILTO:Lodge42@mooseunits.org
END:VEVENT
BEGIN:VEVENT
DTSTART;TZID=America/New_York:20260901T190000
DTEND;TZID=America/New_York:20260901T200000
DTSTAMP:20260422T094634
CREATED:20260204T133755Z
LAST-MODIFIED:20260204T133756Z
UID:10004528-1788289200-1788292800@www.mandarinmoose42.com
SUMMARY:General Membership Meeting
DESCRIPTION:Join us on the first and third Tuesday of the month for the General Membership Meeting in the Hall.
URL:https://www.mandarinmoose42.com/event/general-membership-meeting-2-2-2-2/2026-09-01/
LOCATION:Mandarin Moose Lodge #42\, 4450 Losco Road\, Jacksonville\, FL\, 32257\, United States
CATEGORIES:Meeting
ATTACH;FMTTYPE=image/jpeg:https://www.mandarinmoose42.com/wp-content/uploads/Meeting.jpg
ORGANIZER;CN="Mandarin Moose Lodge #42":MAILTO:Lodge42@mooseunits.org
END:VEVENT
BEGIN:VEVENT
DTSTART;TZID=America/New_York:20260915T190000
DTEND;TZID=America/New_York:20260915T200000
DTSTAMP:20260422T094634
CREATED:20260204T133755Z
LAST-MODIFIED:20260204T133756Z
UID:10004529-1789498800-1789502400@www.mandarinmoose42.com
SUMMARY:General Membership Meeting
DESCRIPTION:Join us on the first and third Tuesday of the month for the General Membership Meeting in the Hall.
URL:https://www.mandarinmoose42.com/event/general-membership-meeting-2-2-2-2/2026-09-15/
LOCATION:Mandarin Moose Lodge #42\, 4450 Losco Road\, Jacksonville\, FL\, 32257\, United States
CATEGORIES:Meeting
ATTACH;FMTTYPE=image/jpeg:https://www.mandarinmoose42.com/wp-content/uploads/Meeting.jpg
ORGANIZER;CN="Mandarin Moose Lodge #42":MAILTO:Lodge42@mooseunits.org
END:VEVENT
BEGIN:VEVENT
DTSTART;TZID=America/New_York:20260929T190000
DTEND;TZID=America/New_York:20260929T200000
DTSTAMP:20260422T094634
CREATED:20260204T133755Z
LAST-MODIFIED:20260204T133756Z
UID:10004530-1790708400-1790712000@www.mandarinmoose42.com
SUMMARY:General Membership Meeting
DESCRIPTION:Join us on the first and third Tuesday of the month for the General Membership Meeting in the Hall.
URL:https://www.mandarinmoose42.com/event/general-membership-meeting-2-2-2-2/2026-09-29/
LOCATION:Mandarin Moose Lodge #42\, 4450 Losco Road\, Jacksonville\, FL\, 32257\, United States
CATEGORIES:Meeting
ATTACH;FMTTYPE=image/jpeg:https://www.mandarinmoose42.com/wp-content/uploads/Meeting.jpg
ORGANIZER;CN="Mandarin Moose Lodge #42":MAILTO:Lodge42@mooseunits.org
END:VEVENT
BEGIN:VEVENT
DTSTART;TZID=America/New_York:20261013T190000
DTEND;TZID=America/New_York:20261013T200000
DTSTAMP:20260422T094634
CREATED:20260204T133755Z
LAST-MODIFIED:20260204T133756Z
UID:10004531-1791918000-1791921600@www.mandarinmoose42.com
SUMMARY:General Membership Meeting
DESCRIPTION:Join us on the first and third Tuesday of the month for the General Membership Meeting in the Hall.
URL:https://www.mandarinmoose42.com/event/general-membership-meeting-2-2-2-2/2026-10-13/
LOCATION:Mandarin Moose Lodge #42\, 4450 Losco Road\, Jacksonville\, FL\, 32257\, United States
CATEGORIES:Meeting
ATTACH;FMTTYPE=image/jpeg:https://www.mandarinmoose42.com/wp-content/uploads/Meeting.jpg
ORGANIZER;CN="Mandarin Moose Lodge #42":MAILTO:Lodge42@mooseunits.org
END:VEVENT
BEGIN:VEVENT
DTSTART;TZID=America/New_York:20261027T190000
DTEND;TZID=America/New_York:20261027T200000
DTSTAMP:20260422T094634
CREATED:20260204T133755Z
LAST-MODIFIED:20260204T133756Z
UID:10004532-1793127600-1793131200@www.mandarinmoose42.com
SUMMARY:General Membership Meeting
DESCRIPTION:Join us on the first and third Tuesday of the month for the General Membership Meeting in the Hall.
URL:https://www.mandarinmoose42.com/event/general-membership-meeting-2-2-2-2/2026-10-27/
LOCATION:Mandarin Moose Lodge #42\, 4450 Losco Road\, Jacksonville\, FL\, 32257\, United States
CATEGORIES:Meeting
ATTACH;FMTTYPE=image/jpeg:https://www.mandarinmoose42.com/wp-content/uploads/Meeting.jpg
ORGANIZER;CN="Mandarin Moose Lodge #42":MAILTO:Lodge42@mooseunits.org
END:VEVENT
BEGIN:VEVENT
DTSTART;TZID=America/New_York:20261110T190000
DTEND;TZID=America/New_York:20261110T200000
DTSTAMP:20260422T094634
CREATED:20260204T133755Z
LAST-MODIFIED:20260204T133756Z
UID:10004533-1794337200-1794340800@www.mandarinmoose42.com
SUMMARY:General Membership Meeting
DESCRIPTION:Join us on the first and third Tuesday of the month for the General Membership Meeting in the Hall.
URL:https://www.mandarinmoose42.com/event/general-membership-meeting-2-2-2-2/2026-11-10/
LOCATION:Mandarin Moose Lodge #42\, 4450 Losco Road\, Jacksonville\, FL\, 32257\, United States
CATEGORIES:Meeting
ATTACH;FMTTYPE=image/jpeg:https://www.mandarinmoose42.com/wp-content/uploads/Meeting.jpg
ORGANIZER;CN="Mandarin Moose Lodge #42":MAILTO:Lodge42@mooseunits.org
END:VEVENT
BEGIN:VEVENT
DTSTART;TZID=America/New_York:20261124T190000
DTEND;TZID=America/New_York:20261124T200000
DTSTAMP:20260422T094634
CREATED:20260204T133755Z
LAST-MODIFIED:20260204T133756Z
UID:10004534-1795546800-1795550400@www.mandarinmoose42.com
SUMMARY:General Membership Meeting
DESCRIPTION:Join us on the first and third Tuesday of the month for the General Membership Meeting in the Hall.
URL:https://www.mandarinmoose42.com/event/general-membership-meeting-2-2-2-2/2026-11-24/
LOCATION:Mandarin Moose Lodge #42\, 4450 Losco Road\, Jacksonville\, FL\, 32257\, United States
CATEGORIES:Meeting
ATTACH;FMTTYPE=image/jpeg:https://www.mandarinmoose42.com/wp-content/uploads/Meeting.jpg
ORGANIZER;CN="Mandarin Moose Lodge #42":MAILTO:Lodge42@mooseunits.org
END:VEVENT
BEGIN:VEVENT
DTSTART;TZID=America/New_York:20261208T190000
DTEND;TZID=America/New_York:20261208T200000
DTSTAMP:20260422T094634
CREATED:20260204T133755Z
LAST-MODIFIED:20260204T133756Z
UID:10004535-1796756400-1796760000@www.mandarinmoose42.com
SUMMARY:General Membership Meeting
DESCRIPTION:Join us on the first and third Tuesday of the month for the General Membership Meeting in the Hall.
URL:https://www.mandarinmoose42.com/event/general-membership-meeting-2-2-2-2/2026-12-08/
LOCATION:Mandarin Moose Lodge #42\, 4450 Losco Road\, Jacksonville\, FL\, 32257\, United States
CATEGORIES:Meeting
ATTACH;FMTTYPE=image/jpeg:https://www.mandarinmoose42.com/wp-content/uploads/Meeting.jpg
ORGANIZER;CN="Mandarin Moose Lodge #42":MAILTO:Lodge42@mooseunits.org
END:VEVENT
BEGIN:VEVENT
DTSTART;TZID=America/New_York:20261222T190000
DTEND;TZID=America/New_York:20261222T200000
DTSTAMP:20260422T094634
CREATED:20260204T133755Z
LAST-MODIFIED:20260204T133756Z
UID:10004536-1797966000-1797969600@www.mandarinmoose42.com
SUMMARY:General Membership Meeting
DESCRIPTION:Join us on the first and third Tuesday of the month for the General Membership Meeting in the Hall.
URL:https://www.mandarinmoose42.com/event/general-membership-meeting-2-2-2-2/2026-12-22/
LOCATION:Mandarin Moose Lodge #42\, 4450 Losco Road\, Jacksonville\, FL\, 32257\, United States
CATEGORIES:Meeting
ATTACH;FMTTYPE=image/jpeg:https://www.mandarinmoose42.com/wp-content/uploads/Meeting.jpg
ORGANIZER;CN="Mandarin Moose Lodge #42":MAILTO:Lodge42@mooseunits.org
END:VEVENT
BEGIN:VEVENT
DTSTART;TZID=America/New_York:20270105T190000
DTEND;TZID=America/New_York:20270105T200000
DTSTAMP:20260422T094634
CREATED:20260204T133755Z
LAST-MODIFIED:20260204T133756Z
UID:10004537-1799175600-1799179200@www.mandarinmoose42.com
SUMMARY:General Membership Meeting
DESCRIPTION:Join us on the first and third Tuesday of the month for the General Membership Meeting in the Hall.
URL:https://www.mandarinmoose42.com/event/general-membership-meeting-2-2-2-2/2027-01-05/
LOCATION:Mandarin Moose Lodge #42\, 4450 Losco Road\, Jacksonville\, FL\, 32257\, United States
CATEGORIES:Meeting
ATTACH;FMTTYPE=image/jpeg:https://www.mandarinmoose42.com/wp-content/uploads/Meeting.jpg
ORGANIZER;CN="Mandarin Moose Lodge #42":MAILTO:Lodge42@mooseunits.org
END:VEVENT
BEGIN:VEVENT
DTSTART;TZID=America/New_York:20270119T190000
DTEND;TZID=America/New_York:20270119T200000
DTSTAMP:20260422T094634
CREATED:20260204T133755Z
LAST-MODIFIED:20260204T133756Z
UID:10004538-1800385200-1800388800@www.mandarinmoose42.com
SUMMARY:General Membership Meeting
DESCRIPTION:Join us on the first and third Tuesday of the month for the General Membership Meeting in the Hall.
URL:https://www.mandarinmoose42.com/event/general-membership-meeting-2-2-2-2/2027-01-19/
LOCATION:Mandarin Moose Lodge #42\, 4450 Losco Road\, Jacksonville\, FL\, 32257\, United States
CATEGORIES:Meeting
ATTACH;FMTTYPE=image/jpeg:https://www.mandarinmoose42.com/wp-content/uploads/Meeting.jpg
ORGANIZER;CN="Mandarin Moose Lodge #42":MAILTO:Lodge42@mooseunits.org
END:VEVENT
BEGIN:VEVENT
DTSTART;TZID=America/New_York:20270202T190000
DTEND;TZID=America/New_York:20270202T200000
DTSTAMP:20260422T094634
CREATED:20260204T133755Z
LAST-MODIFIED:20260204T133756Z
UID:10004539-1801594800-1801598400@www.mandarinmoose42.com
SUMMARY:General Membership Meeting
DESCRIPTION:Join us on the first and third Tuesday of the month for the General Membership Meeting in the Hall.
URL:https://www.mandarinmoose42.com/event/general-membership-meeting-2-2-2-2/2027-02-02/
LOCATION:Mandarin Moose Lodge #42\, 4450 Losco Road\, Jacksonville\, FL\, 32257\, United States
CATEGORIES:Meeting
ATTACH;FMTTYPE=image/jpeg:https://www.mandarinmoose42.com/wp-content/uploads/Meeting.jpg
ORGANIZER;CN="Mandarin Moose Lodge #42":MAILTO:Lodge42@mooseunits.org
END:VEVENT
BEGIN:VEVENT
DTSTART;TZID=America/New_York:20270216T190000
DTEND;TZID=America/New_York:20270216T200000
DTSTAMP:20260422T094634
CREATED:20260204T133755Z
LAST-MODIFIED:20260204T133756Z
UID:10004540-1802804400-1802808000@www.mandarinmoose42.com
SUMMARY:General Membership Meeting
DESCRIPTION:Join us on the first and third Tuesday of the month for the General Membership Meeting in the Hall.
URL:https://www.mandarinmoose42.com/event/general-membership-meeting-2-2-2-2/2027-02-16/
LOCATION:Mandarin Moose Lodge #42\, 4450 Losco Road\, Jacksonville\, FL\, 32257\, United States
CATEGORIES:Meeting
ATTACH;FMTTYPE=image/jpeg:https://www.mandarinmoose42.com/wp-content/uploads/Meeting.jpg
ORGANIZER;CN="Mandarin Moose Lodge #42":MAILTO:Lodge42@mooseunits.org
END:VEVENT
BEGIN:VEVENT
DTSTART;TZID=America/New_York:20270302T190000
DTEND;TZID=America/New_York:20270302T200000
DTSTAMP:20260422T094634
CREATED:20260204T133755Z
LAST-MODIFIED:20260204T133756Z
UID:10004541-1804014000-1804017600@www.mandarinmoose42.com
SUMMARY:General Membership Meeting
DESCRIPTION:Join us on the first and third Tuesday of the month for the General Membership Meeting in the Hall.
URL:https://www.mandarinmoose42.com/event/general-membership-meeting-2-2-2-2/2027-03-02/
LOCATION:Mandarin Moose Lodge #42\, 4450 Losco Road\, Jacksonville\, FL\, 32257\, United States
CATEGORIES:Meeting
ATTACH;FMTTYPE=image/jpeg:https://www.mandarinmoose42.com/wp-content/uploads/Meeting.jpg
ORGANIZER;CN="Mandarin Moose Lodge #42":MAILTO:Lodge42@mooseunits.org
END:VEVENT
BEGIN:VEVENT
DTSTART;TZID=America/New_York:20270316T190000
DTEND;TZID=America/New_York:20270316T200000
DTSTAMP:20260422T094634
CREATED:20260204T133755Z
LAST-MODIFIED:20260204T133756Z
UID:10004542-1805223600-1805227200@www.mandarinmoose42.com
SUMMARY:General Membership Meeting
DESCRIPTION:Join us on the first and third Tuesday of the month for the General Membership Meeting in the Hall.
URL:https://www.mandarinmoose42.com/event/general-membership-meeting-2-2-2-2/2027-03-16/
LOCATION:Mandarin Moose Lodge #42\, 4450 Losco Road\, Jacksonville\, FL\, 32257\, United States
CATEGORIES:Meeting
ATTACH;FMTTYPE=image/jpeg:https://www.mandarinmoose42.com/wp-content/uploads/Meeting.jpg
ORGANIZER;CN="Mandarin Moose Lodge #42":MAILTO:Lodge42@mooseunits.org
END:VEVENT
BEGIN:VEVENT
DTSTART;TZID=America/New_York:20270330T190000
DTEND;TZID=America/New_York:20270330T200000
DTSTAMP:20260422T094634
CREATED:20260204T133755Z
LAST-MODIFIED:20260204T133756Z
UID:10004543-1806433200-1806436800@www.mandarinmoose42.com
SUMMARY:General Membership Meeting
DESCRIPTION:Join us on the first and third Tuesday of the month for the General Membership Meeting in the Hall.
URL:https://www.mandarinmoose42.com/event/general-membership-meeting-2-2-2-2/2027-03-30/
LOCATION:Mandarin Moose Lodge #42\, 4450 Losco Road\, Jacksonville\, FL\, 32257\, United States
CATEGORIES:Meeting
ATTACH;FMTTYPE=image/jpeg:https://www.mandarinmoose42.com/wp-content/uploads/Meeting.jpg
ORGANIZER;CN="Mandarin Moose Lodge #42":MAILTO:Lodge42@mooseunits.org
END:VEVENT
BEGIN:VEVENT
DTSTART;TZID=America/New_York:20270413T190000
DTEND;TZID=America/New_York:20270413T200000
DTSTAMP:20260422T094634
CREATED:20260204T133755Z
LAST-MODIFIED:20260204T133756Z
UID:10004544-1807642800-1807646400@www.mandarinmoose42.com
SUMMARY:General Membership Meeting
DESCRIPTION:Join us on the first and third Tuesday of the month for the General Membership Meeting in the Hall.
URL:https://www.mandarinmoose42.com/event/general-membership-meeting-2-2-2-2/2027-04-13/
LOCATION:Mandarin Moose Lodge #42\, 4450 Losco Road\, Jacksonville\, FL\, 32257\, United States
CATEGORIES:Meeting
ATTACH;FMTTYPE=image/jpeg:https://www.mandarinmoose42.com/wp-content/uploads/Meeting.jpg
ORGANIZER;CN="Mandarin Moose Lodge #42":MAILTO:Lodge42@mooseunits.org
END:VEVENT
BEGIN:VEVENT
DTSTART;TZID=America/New_York:20270427T190000
DTEND;TZID=America/New_York:20270427T200000
DTSTAMP:20260422T094634
CREATED:20260204T133755Z
LAST-MODIFIED:20260204T133756Z
UID:10004545-1808852400-1808856000@www.mandarinmoose42.com
SUMMARY:General Membership Meeting
DESCRIPTION:Join us on the first and third Tuesday of the month for the General Membership Meeting in the Hall.
URL:https://www.mandarinmoose42.com/event/general-membership-meeting-2-2-2-2/2027-04-27/
LOCATION:Mandarin Moose Lodge #42\, 4450 Losco Road\, Jacksonville\, FL\, 32257\, United States
CATEGORIES:Meeting
ATTACH;FMTTYPE=image/jpeg:https://www.mandarinmoose42.com/wp-content/uploads/Meeting.jpg
ORGANIZER;CN="Mandarin Moose Lodge #42":MAILTO:Lodge42@mooseunits.org
END:VEVENT
BEGIN:VEVENT
DTSTART;TZID=America/New_York:20270511T190000
DTEND;TZID=America/New_York:20270511T200000
DTSTAMP:20260422T094634
CREATED:20260204T133755Z
LAST-MODIFIED:20260204T133756Z
UID:10004546-1810062000-1810065600@www.mandarinmoose42.com
SUMMARY:General Membership Meeting
DESCRIPTION:Join us on the first and third Tuesday of the month for the General Membership Meeting in the Hall.
URL:https://www.mandarinmoose42.com/event/general-membership-meeting-2-2-2-2/2027-05-11/
LOCATION:Mandarin Moose Lodge #42\, 4450 Losco Road\, Jacksonville\, FL\, 32257\, United States
CATEGORIES:Meeting
ATTACH;FMTTYPE=image/jpeg:https://www.mandarinmoose42.com/wp-content/uploads/Meeting.jpg
ORGANIZER;CN="Mandarin Moose Lodge #42":MAILTO:Lodge42@mooseunits.org
END:VEVENT
BEGIN:VEVENT
DTSTART;TZID=America/New_York:20270525T190000
DTEND;TZID=America/New_York:20270525T200000
DTSTAMP:20260422T094634
CREATED:20260204T133755Z
LAST-MODIFIED:20260204T133756Z
UID:10004547-1811271600-1811275200@www.mandarinmoose42.com
SUMMARY:General Membership Meeting
DESCRIPTION:Join us on the first and third Tuesday of the month for the General Membership Meeting in the Hall.
URL:https://www.mandarinmoose42.com/event/general-membership-meeting-2-2-2-2/2027-05-25/
LOCATION:Mandarin Moose Lodge #42\, 4450 Losco Road\, Jacksonville\, FL\, 32257\, United States
CATEGORIES:Meeting
ATTACH;FMTTYPE=image/jpeg:https://www.mandarinmoose42.com/wp-content/uploads/Meeting.jpg
ORGANIZER;CN="Mandarin Moose Lodge #42":MAILTO:Lodge42@mooseunits.org
END:VEVENT
BEGIN:VEVENT
DTSTART;TZID=America/New_York:20270608T190000
DTEND;TZID=America/New_York:20270608T200000
DTSTAMP:20260422T094634
CREATED:20260204T133755Z
LAST-MODIFIED:20260204T133756Z
UID:10004548-1812481200-1812484800@www.mandarinmoose42.com
SUMMARY:General Membership Meeting
DESCRIPTION:Join us on the first and third Tuesday of the month for the General Membership Meeting in the Hall.
URL:https://www.mandarinmoose42.com/event/general-membership-meeting-2-2-2-2/2027-06-08/
LOCATION:Mandarin Moose Lodge #42\, 4450 Losco Road\, Jacksonville\, FL\, 32257\, United States
CATEGORIES:Meeting
ATTACH;FMTTYPE=image/jpeg:https://www.mandarinmoose42.com/wp-content/uploads/Meeting.jpg
ORGANIZER;CN="Mandarin Moose Lodge #42":MAILTO:Lodge42@mooseunits.org
END:VEVENT
BEGIN:VEVENT
DTSTART;TZID=America/New_York:20270622T190000
DTEND;TZID=America/New_York:20270622T200000
DTSTAMP:20260422T094634
CREATED:20260204T133755Z
LAST-MODIFIED:20260204T133756Z
UID:10004549-1813690800-1813694400@www.mandarinmoose42.com
SUMMARY:General Membership Meeting
DESCRIPTION:Join us on the first and third Tuesday of the month for the General Membership Meeting in the Hall.
URL:https://www.mandarinmoose42.com/event/general-membership-meeting-2-2-2-2/2027-06-22/
LOCATION:Mandarin Moose Lodge #42\, 4450 Losco Road\, Jacksonville\, FL\, 32257\, United States
CATEGORIES:Meeting
ATTACH;FMTTYPE=image/jpeg:https://www.mandarinmoose42.com/wp-content/uploads/Meeting.jpg
ORGANIZER;CN="Mandarin Moose Lodge #42":MAILTO:Lodge42@mooseunits.org
END:VEVENT
END:VCALENDAR