BEGIN:VCALENDAR
VERSION:2.0
PRODID:-//Mandarin Moose Lodge #42 - ECPv6.15.18//NONSGML v1.0//EN
CALSCALE:GREGORIAN
METHOD:PUBLISH
X-ORIGINAL-URL:https://www.mandarinmoose42.com
X-WR-CALDESC:Events for Mandarin Moose Lodge #42
REFRESH-INTERVAL;VALUE=DURATION:PT1H
X-Robots-Tag:noindex
X-PUBLISHED-TTL:PT1H
BEGIN:VTIMEZONE
TZID:America/New_York
BEGIN:DAYLIGHT
TZOFFSETFROM:-0500
TZOFFSETTO:-0400
TZNAME:EDT
DTSTART:20270314T070000
END:DAYLIGHT
BEGIN:STANDARD
TZOFFSETFROM:-0400
TZOFFSETTO:-0500
TZNAME:EST
DTSTART:20271107T060000
END:STANDARD
BEGIN:DAYLIGHT
TZOFFSETFROM:-0500
TZOFFSETTO:-0400
TZNAME:EDT
DTSTART:20280312T070000
END:DAYLIGHT
BEGIN:STANDARD
TZOFFSETFROM:-0400
TZOFFSETTO:-0500
TZNAME:EST
DTSTART:20281105T060000
END:STANDARD
BEGIN:DAYLIGHT
TZOFFSETFROM:-0500
TZOFFSETTO:-0400
TZNAME:EDT
DTSTART:20290311T070000
END:DAYLIGHT
BEGIN:STANDARD
TZOFFSETFROM:-0400
TZOFFSETTO:-0500
TZNAME:EST
DTSTART:20291104T060000
END:STANDARD
END:VTIMEZONE
BEGIN:VEVENT
DTSTART;TZID=America/New_York:20280606T193000
DTEND;TZID=America/New_York:20280606T200000
DTSTAMP:20260425T073130
CREATED:20250610T135445Z
LAST-MODIFIED:20250610T135445Z
UID:10001806-1843932600-1843934400@www.mandarinmoose42.com
SUMMARY:Queen of Hearts Drawing
DESCRIPTION:
URL:https://www.mandarinmoose42.com/event/queen-of-hearts-drawing/2028-06-06/
CATEGORIES:Fundraiser
ATTACH;FMTTYPE=image/jpeg:https://www.mandarinmoose42.com/wp-content/uploads/Queen-of-Hearts.jpg
END:VEVENT
BEGIN:VEVENT
DTSTART;TZID=America/New_York:20280613T193000
DTEND;TZID=America/New_York:20280613T200000
DTSTAMP:20260425T073130
CREATED:20250610T135445Z
LAST-MODIFIED:20250610T135445Z
UID:10001807-1844537400-1844539200@www.mandarinmoose42.com
SUMMARY:Queen of Hearts Drawing
DESCRIPTION:
URL:https://www.mandarinmoose42.com/event/queen-of-hearts-drawing/2028-06-13/
CATEGORIES:Fundraiser
ATTACH;FMTTYPE=image/jpeg:https://www.mandarinmoose42.com/wp-content/uploads/Queen-of-Hearts.jpg
END:VEVENT
BEGIN:VEVENT
DTSTART;TZID=America/New_York:20280620T193000
DTEND;TZID=America/New_York:20280620T200000
DTSTAMP:20260425T073130
CREATED:20250610T135445Z
LAST-MODIFIED:20250610T135445Z
UID:10001808-1845142200-1845144000@www.mandarinmoose42.com
SUMMARY:Queen of Hearts Drawing
DESCRIPTION:
URL:https://www.mandarinmoose42.com/event/queen-of-hearts-drawing/2028-06-20/
CATEGORIES:Fundraiser
ATTACH;FMTTYPE=image/jpeg:https://www.mandarinmoose42.com/wp-content/uploads/Queen-of-Hearts.jpg
END:VEVENT
BEGIN:VEVENT
DTSTART;TZID=America/New_York:20280627T193000
DTEND;TZID=America/New_York:20280627T200000
DTSTAMP:20260425T073130
CREATED:20250610T135445Z
LAST-MODIFIED:20250610T135445Z
UID:10001809-1845747000-1845748800@www.mandarinmoose42.com
SUMMARY:Queen of Hearts Drawing
DESCRIPTION:
URL:https://www.mandarinmoose42.com/event/queen-of-hearts-drawing/2028-06-27/
CATEGORIES:Fundraiser
ATTACH;FMTTYPE=image/jpeg:https://www.mandarinmoose42.com/wp-content/uploads/Queen-of-Hearts.jpg
END:VEVENT
BEGIN:VEVENT
DTSTART;TZID=America/New_York:20280704T193000
DTEND;TZID=America/New_York:20280704T200000
DTSTAMP:20260425T073130
CREATED:20250610T135445Z
LAST-MODIFIED:20250610T135445Z
UID:10001810-1846351800-1846353600@www.mandarinmoose42.com
SUMMARY:Queen of Hearts Drawing
DESCRIPTION:
URL:https://www.mandarinmoose42.com/event/queen-of-hearts-drawing/2028-07-04/
CATEGORIES:Fundraiser
ATTACH;FMTTYPE=image/jpeg:https://www.mandarinmoose42.com/wp-content/uploads/Queen-of-Hearts.jpg
END:VEVENT
BEGIN:VEVENT
DTSTART;TZID=America/New_York:20280711T193000
DTEND;TZID=America/New_York:20280711T200000
DTSTAMP:20260425T073130
CREATED:20250610T135445Z
LAST-MODIFIED:20250610T135445Z
UID:10001811-1846956600-1846958400@www.mandarinmoose42.com
SUMMARY:Queen of Hearts Drawing
DESCRIPTION:
URL:https://www.mandarinmoose42.com/event/queen-of-hearts-drawing/2028-07-11/
CATEGORIES:Fundraiser
ATTACH;FMTTYPE=image/jpeg:https://www.mandarinmoose42.com/wp-content/uploads/Queen-of-Hearts.jpg
END:VEVENT
BEGIN:VEVENT
DTSTART;TZID=America/New_York:20280718T193000
DTEND;TZID=America/New_York:20280718T200000
DTSTAMP:20260425T073130
CREATED:20250610T135445Z
LAST-MODIFIED:20250610T135445Z
UID:10001812-1847561400-1847563200@www.mandarinmoose42.com
SUMMARY:Queen of Hearts Drawing
DESCRIPTION:
URL:https://www.mandarinmoose42.com/event/queen-of-hearts-drawing/2028-07-18/
CATEGORIES:Fundraiser
ATTACH;FMTTYPE=image/jpeg:https://www.mandarinmoose42.com/wp-content/uploads/Queen-of-Hearts.jpg
END:VEVENT
BEGIN:VEVENT
DTSTART;TZID=America/New_York:20280725T193000
DTEND;TZID=America/New_York:20280725T200000
DTSTAMP:20260425T073130
CREATED:20250610T135445Z
LAST-MODIFIED:20250610T135445Z
UID:10001813-1848166200-1848168000@www.mandarinmoose42.com
SUMMARY:Queen of Hearts Drawing
DESCRIPTION:
URL:https://www.mandarinmoose42.com/event/queen-of-hearts-drawing/2028-07-25/
CATEGORIES:Fundraiser
ATTACH;FMTTYPE=image/jpeg:https://www.mandarinmoose42.com/wp-content/uploads/Queen-of-Hearts.jpg
END:VEVENT
BEGIN:VEVENT
DTSTART;TZID=America/New_York:20280801T193000
DTEND;TZID=America/New_York:20280801T200000
DTSTAMP:20260425T073130
CREATED:20250610T135445Z
LAST-MODIFIED:20250610T135445Z
UID:10001814-1848771000-1848772800@www.mandarinmoose42.com
SUMMARY:Queen of Hearts Drawing
DESCRIPTION:
URL:https://www.mandarinmoose42.com/event/queen-of-hearts-drawing/2028-08-01/
CATEGORIES:Fundraiser
ATTACH;FMTTYPE=image/jpeg:https://www.mandarinmoose42.com/wp-content/uploads/Queen-of-Hearts.jpg
END:VEVENT
BEGIN:VEVENT
DTSTART;TZID=America/New_York:20280808T193000
DTEND;TZID=America/New_York:20280808T200000
DTSTAMP:20260425T073130
CREATED:20250610T135445Z
LAST-MODIFIED:20250610T135445Z
UID:10001815-1849375800-1849377600@www.mandarinmoose42.com
SUMMARY:Queen of Hearts Drawing
DESCRIPTION:
URL:https://www.mandarinmoose42.com/event/queen-of-hearts-drawing/2028-08-08/
CATEGORIES:Fundraiser
ATTACH;FMTTYPE=image/jpeg:https://www.mandarinmoose42.com/wp-content/uploads/Queen-of-Hearts.jpg
END:VEVENT
BEGIN:VEVENT
DTSTART;TZID=America/New_York:20280815T193000
DTEND;TZID=America/New_York:20280815T200000
DTSTAMP:20260425T073130
CREATED:20250610T135445Z
LAST-MODIFIED:20250610T135445Z
UID:10001816-1849980600-1849982400@www.mandarinmoose42.com
SUMMARY:Queen of Hearts Drawing
DESCRIPTION:
URL:https://www.mandarinmoose42.com/event/queen-of-hearts-drawing/2028-08-15/
CATEGORIES:Fundraiser
ATTACH;FMTTYPE=image/jpeg:https://www.mandarinmoose42.com/wp-content/uploads/Queen-of-Hearts.jpg
END:VEVENT
BEGIN:VEVENT
DTSTART;TZID=America/New_York:20280822T193000
DTEND;TZID=America/New_York:20280822T200000
DTSTAMP:20260425T073130
CREATED:20250610T135445Z
LAST-MODIFIED:20250610T135445Z
UID:10001817-1850585400-1850587200@www.mandarinmoose42.com
SUMMARY:Queen of Hearts Drawing
DESCRIPTION:
URL:https://www.mandarinmoose42.com/event/queen-of-hearts-drawing/2028-08-22/
CATEGORIES:Fundraiser
ATTACH;FMTTYPE=image/jpeg:https://www.mandarinmoose42.com/wp-content/uploads/Queen-of-Hearts.jpg
END:VEVENT
BEGIN:VEVENT
DTSTART;TZID=America/New_York:20280829T193000
DTEND;TZID=America/New_York:20280829T200000
DTSTAMP:20260425T073130
CREATED:20250610T135445Z
LAST-MODIFIED:20250610T135445Z
UID:10001818-1851190200-1851192000@www.mandarinmoose42.com
SUMMARY:Queen of Hearts Drawing
DESCRIPTION:
URL:https://www.mandarinmoose42.com/event/queen-of-hearts-drawing/2028-08-29/
CATEGORIES:Fundraiser
ATTACH;FMTTYPE=image/jpeg:https://www.mandarinmoose42.com/wp-content/uploads/Queen-of-Hearts.jpg
END:VEVENT
BEGIN:VEVENT
DTSTART;TZID=America/New_York:20280905T193000
DTEND;TZID=America/New_York:20280905T200000
DTSTAMP:20260425T073130
CREATED:20250610T135445Z
LAST-MODIFIED:20250610T135445Z
UID:10001819-1851795000-1851796800@www.mandarinmoose42.com
SUMMARY:Queen of Hearts Drawing
DESCRIPTION:
URL:https://www.mandarinmoose42.com/event/queen-of-hearts-drawing/2028-09-05/
CATEGORIES:Fundraiser
ATTACH;FMTTYPE=image/jpeg:https://www.mandarinmoose42.com/wp-content/uploads/Queen-of-Hearts.jpg
END:VEVENT
BEGIN:VEVENT
DTSTART;TZID=America/New_York:20280912T193000
DTEND;TZID=America/New_York:20280912T200000
DTSTAMP:20260425T073130
CREATED:20250610T135445Z
LAST-MODIFIED:20250610T135445Z
UID:10001820-1852399800-1852401600@www.mandarinmoose42.com
SUMMARY:Queen of Hearts Drawing
DESCRIPTION:
URL:https://www.mandarinmoose42.com/event/queen-of-hearts-drawing/2028-09-12/
CATEGORIES:Fundraiser
ATTACH;FMTTYPE=image/jpeg:https://www.mandarinmoose42.com/wp-content/uploads/Queen-of-Hearts.jpg
END:VEVENT
BEGIN:VEVENT
DTSTART;TZID=America/New_York:20280919T193000
DTEND;TZID=America/New_York:20280919T200000
DTSTAMP:20260425T073130
CREATED:20250610T135445Z
LAST-MODIFIED:20250610T135445Z
UID:10001821-1853004600-1853006400@www.mandarinmoose42.com
SUMMARY:Queen of Hearts Drawing
DESCRIPTION:
URL:https://www.mandarinmoose42.com/event/queen-of-hearts-drawing/2028-09-19/
CATEGORIES:Fundraiser
ATTACH;FMTTYPE=image/jpeg:https://www.mandarinmoose42.com/wp-content/uploads/Queen-of-Hearts.jpg
END:VEVENT
BEGIN:VEVENT
DTSTART;TZID=America/New_York:20280926T193000
DTEND;TZID=America/New_York:20280926T200000
DTSTAMP:20260425T073130
CREATED:20250610T135445Z
LAST-MODIFIED:20250610T135445Z
UID:10001822-1853609400-1853611200@www.mandarinmoose42.com
SUMMARY:Queen of Hearts Drawing
DESCRIPTION:
URL:https://www.mandarinmoose42.com/event/queen-of-hearts-drawing/2028-09-26/
CATEGORIES:Fundraiser
ATTACH;FMTTYPE=image/jpeg:https://www.mandarinmoose42.com/wp-content/uploads/Queen-of-Hearts.jpg
END:VEVENT
BEGIN:VEVENT
DTSTART;TZID=America/New_York:20281003T193000
DTEND;TZID=America/New_York:20281003T200000
DTSTAMP:20260425T073130
CREATED:20250610T135445Z
LAST-MODIFIED:20250610T135445Z
UID:10001823-1854214200-1854216000@www.mandarinmoose42.com
SUMMARY:Queen of Hearts Drawing
DESCRIPTION:
URL:https://www.mandarinmoose42.com/event/queen-of-hearts-drawing/2028-10-03/
CATEGORIES:Fundraiser
ATTACH;FMTTYPE=image/jpeg:https://www.mandarinmoose42.com/wp-content/uploads/Queen-of-Hearts.jpg
END:VEVENT
BEGIN:VEVENT
DTSTART;TZID=America/New_York:20281010T193000
DTEND;TZID=America/New_York:20281010T200000
DTSTAMP:20260425T073130
CREATED:20250610T135445Z
LAST-MODIFIED:20250610T135445Z
UID:10001824-1854819000-1854820800@www.mandarinmoose42.com
SUMMARY:Queen of Hearts Drawing
DESCRIPTION:
URL:https://www.mandarinmoose42.com/event/queen-of-hearts-drawing/2028-10-10/
CATEGORIES:Fundraiser
ATTACH;FMTTYPE=image/jpeg:https://www.mandarinmoose42.com/wp-content/uploads/Queen-of-Hearts.jpg
END:VEVENT
BEGIN:VEVENT
DTSTART;TZID=America/New_York:20281017T193000
DTEND;TZID=America/New_York:20281017T200000
DTSTAMP:20260425T073130
CREATED:20250610T135445Z
LAST-MODIFIED:20250610T135445Z
UID:10001825-1855423800-1855425600@www.mandarinmoose42.com
SUMMARY:Queen of Hearts Drawing
DESCRIPTION:
URL:https://www.mandarinmoose42.com/event/queen-of-hearts-drawing/2028-10-17/
CATEGORIES:Fundraiser
ATTACH;FMTTYPE=image/jpeg:https://www.mandarinmoose42.com/wp-content/uploads/Queen-of-Hearts.jpg
END:VEVENT
BEGIN:VEVENT
DTSTART;TZID=America/New_York:20281024T193000
DTEND;TZID=America/New_York:20281024T200000
DTSTAMP:20260425T073130
CREATED:20250610T135445Z
LAST-MODIFIED:20250610T135445Z
UID:10001826-1856028600-1856030400@www.mandarinmoose42.com
SUMMARY:Queen of Hearts Drawing
DESCRIPTION:
URL:https://www.mandarinmoose42.com/event/queen-of-hearts-drawing/2028-10-24/
CATEGORIES:Fundraiser
ATTACH;FMTTYPE=image/jpeg:https://www.mandarinmoose42.com/wp-content/uploads/Queen-of-Hearts.jpg
END:VEVENT
BEGIN:VEVENT
DTSTART;TZID=America/New_York:20281031T193000
DTEND;TZID=America/New_York:20281031T200000
DTSTAMP:20260425T073130
CREATED:20250610T135445Z
LAST-MODIFIED:20250610T135445Z
UID:10001827-1856633400-1856635200@www.mandarinmoose42.com
SUMMARY:Queen of Hearts Drawing
DESCRIPTION:
URL:https://www.mandarinmoose42.com/event/queen-of-hearts-drawing/2028-10-31/
CATEGORIES:Fundraiser
ATTACH;FMTTYPE=image/jpeg:https://www.mandarinmoose42.com/wp-content/uploads/Queen-of-Hearts.jpg
END:VEVENT
BEGIN:VEVENT
DTSTART;TZID=America/New_York:20281107T193000
DTEND;TZID=America/New_York:20281107T200000
DTSTAMP:20260425T073130
CREATED:20250610T135445Z
LAST-MODIFIED:20250610T135445Z
UID:10001828-1857238200-1857240000@www.mandarinmoose42.com
SUMMARY:Queen of Hearts Drawing
DESCRIPTION:
URL:https://www.mandarinmoose42.com/event/queen-of-hearts-drawing/2028-11-07/
CATEGORIES:Fundraiser
ATTACH;FMTTYPE=image/jpeg:https://www.mandarinmoose42.com/wp-content/uploads/Queen-of-Hearts.jpg
END:VEVENT
BEGIN:VEVENT
DTSTART;TZID=America/New_York:20281114T193000
DTEND;TZID=America/New_York:20281114T200000
DTSTAMP:20260425T073130
CREATED:20250610T135445Z
LAST-MODIFIED:20250610T135445Z
UID:10001829-1857843000-1857844800@www.mandarinmoose42.com
SUMMARY:Queen of Hearts Drawing
DESCRIPTION:
URL:https://www.mandarinmoose42.com/event/queen-of-hearts-drawing/2028-11-14/
CATEGORIES:Fundraiser
ATTACH;FMTTYPE=image/jpeg:https://www.mandarinmoose42.com/wp-content/uploads/Queen-of-Hearts.jpg
END:VEVENT
BEGIN:VEVENT
DTSTART;TZID=America/New_York:20281121T193000
DTEND;TZID=America/New_York:20281121T200000
DTSTAMP:20260425T073130
CREATED:20250610T135445Z
LAST-MODIFIED:20250610T135445Z
UID:10001830-1858447800-1858449600@www.mandarinmoose42.com
SUMMARY:Queen of Hearts Drawing
DESCRIPTION:
URL:https://www.mandarinmoose42.com/event/queen-of-hearts-drawing/2028-11-21/
CATEGORIES:Fundraiser
ATTACH;FMTTYPE=image/jpeg:https://www.mandarinmoose42.com/wp-content/uploads/Queen-of-Hearts.jpg
END:VEVENT
BEGIN:VEVENT
DTSTART;TZID=America/New_York:20281128T193000
DTEND;TZID=America/New_York:20281128T200000
DTSTAMP:20260425T073130
CREATED:20250610T135445Z
LAST-MODIFIED:20250610T135445Z
UID:10001831-1859052600-1859054400@www.mandarinmoose42.com
SUMMARY:Queen of Hearts Drawing
DESCRIPTION:
URL:https://www.mandarinmoose42.com/event/queen-of-hearts-drawing/2028-11-28/
CATEGORIES:Fundraiser
ATTACH;FMTTYPE=image/jpeg:https://www.mandarinmoose42.com/wp-content/uploads/Queen-of-Hearts.jpg
END:VEVENT
BEGIN:VEVENT
DTSTART;TZID=America/New_York:20281205T193000
DTEND;TZID=America/New_York:20281205T200000
DTSTAMP:20260425T073130
CREATED:20250610T135445Z
LAST-MODIFIED:20250610T135445Z
UID:10001832-1859657400-1859659200@www.mandarinmoose42.com
SUMMARY:Queen of Hearts Drawing
DESCRIPTION:
URL:https://www.mandarinmoose42.com/event/queen-of-hearts-drawing/2028-12-05/
CATEGORIES:Fundraiser
ATTACH;FMTTYPE=image/jpeg:https://www.mandarinmoose42.com/wp-content/uploads/Queen-of-Hearts.jpg
END:VEVENT
BEGIN:VEVENT
DTSTART;TZID=America/New_York:20281212T193000
DTEND;TZID=America/New_York:20281212T200000
DTSTAMP:20260425T073130
CREATED:20250610T135445Z
LAST-MODIFIED:20250610T135445Z
UID:10001833-1860262200-1860264000@www.mandarinmoose42.com
SUMMARY:Queen of Hearts Drawing
DESCRIPTION:
URL:https://www.mandarinmoose42.com/event/queen-of-hearts-drawing/2028-12-12/
CATEGORIES:Fundraiser
ATTACH;FMTTYPE=image/jpeg:https://www.mandarinmoose42.com/wp-content/uploads/Queen-of-Hearts.jpg
END:VEVENT
BEGIN:VEVENT
DTSTART;TZID=America/New_York:20281219T193000
DTEND;TZID=America/New_York:20281219T200000
DTSTAMP:20260425T073130
CREATED:20250610T135445Z
LAST-MODIFIED:20250610T135445Z
UID:10001834-1860867000-1860868800@www.mandarinmoose42.com
SUMMARY:Queen of Hearts Drawing
DESCRIPTION:
URL:https://www.mandarinmoose42.com/event/queen-of-hearts-drawing/2028-12-19/
CATEGORIES:Fundraiser
ATTACH;FMTTYPE=image/jpeg:https://www.mandarinmoose42.com/wp-content/uploads/Queen-of-Hearts.jpg
END:VEVENT
BEGIN:VEVENT
DTSTART;TZID=America/New_York:20281226T193000
DTEND;TZID=America/New_York:20281226T200000
DTSTAMP:20260425T073130
CREATED:20250610T135445Z
LAST-MODIFIED:20250610T135445Z
UID:10001835-1861471800-1861473600@www.mandarinmoose42.com
SUMMARY:Queen of Hearts Drawing
DESCRIPTION:
URL:https://www.mandarinmoose42.com/event/queen-of-hearts-drawing/2028-12-26/
CATEGORIES:Fundraiser
ATTACH;FMTTYPE=image/jpeg:https://www.mandarinmoose42.com/wp-content/uploads/Queen-of-Hearts.jpg
END:VEVENT
END:VCALENDAR