BEGIN:VCALENDAR
VERSION:2.0
PRODID:-//Mandarin Moose Lodge #42 - ECPv6.15.18//NONSGML v1.0//EN
CALSCALE:GREGORIAN
METHOD:PUBLISH
X-ORIGINAL-URL:https://www.mandarinmoose42.com
X-WR-CALDESC:Events for Mandarin Moose Lodge #42
REFRESH-INTERVAL;VALUE=DURATION:PT1H
X-Robots-Tag:noindex
X-PUBLISHED-TTL:PT1H
BEGIN:VTIMEZONE
TZID:America/New_York
BEGIN:DAYLIGHT
TZOFFSETFROM:-0500
TZOFFSETTO:-0400
TZNAME:EDT
DTSTART:20240310T070000
END:DAYLIGHT
BEGIN:STANDARD
TZOFFSETFROM:-0400
TZOFFSETTO:-0500
TZNAME:EST
DTSTART:20241103T060000
END:STANDARD
BEGIN:DAYLIGHT
TZOFFSETFROM:-0500
TZOFFSETTO:-0400
TZNAME:EDT
DTSTART:20250309T070000
END:DAYLIGHT
BEGIN:STANDARD
TZOFFSETFROM:-0400
TZOFFSETTO:-0500
TZNAME:EST
DTSTART:20251102T060000
END:STANDARD
BEGIN:DAYLIGHT
TZOFFSETFROM:-0500
TZOFFSETTO:-0400
TZNAME:EDT
DTSTART:20260308T070000
END:DAYLIGHT
BEGIN:STANDARD
TZOFFSETFROM:-0400
TZOFFSETTO:-0500
TZNAME:EST
DTSTART:20261101T060000
END:STANDARD
END:VTIMEZONE
BEGIN:VEVENT
DTSTART;TZID=America/New_York:20251005T120000
DTEND;TZID=America/New_York:20251005T200000
DTSTAMP:20260425T144012
CREATED:20250610T143254Z
LAST-MODIFIED:20250610T143254Z
UID:10002324-1759665600-1759694400@www.mandarinmoose42.com
SUMMARY:Family Game Day
DESCRIPTION:
URL:https://www.mandarinmoose42.com/event/family-game-day/2025-10-05/
CATEGORIES:Family Fun
ATTACH;FMTTYPE=image/jpeg:https://www.mandarinmoose42.com/wp-content/uploads/Game-Day.jpg
END:VEVENT
BEGIN:VEVENT
DTSTART;TZID=America/New_York:20251012T120000
DTEND;TZID=America/New_York:20251012T200000
DTSTAMP:20260425T144012
CREATED:20250610T143254Z
LAST-MODIFIED:20250610T143254Z
UID:10002325-1760270400-1760299200@www.mandarinmoose42.com
SUMMARY:Family Game Day
DESCRIPTION:
URL:https://www.mandarinmoose42.com/event/family-game-day/2025-10-12/
CATEGORIES:Family Fun
ATTACH;FMTTYPE=image/jpeg:https://www.mandarinmoose42.com/wp-content/uploads/Game-Day.jpg
END:VEVENT
BEGIN:VEVENT
DTSTART;TZID=America/New_York:20251019T120000
DTEND;TZID=America/New_York:20251019T200000
DTSTAMP:20260425T144012
CREATED:20250610T143254Z
LAST-MODIFIED:20250610T143254Z
UID:10002326-1760875200-1760904000@www.mandarinmoose42.com
SUMMARY:Family Game Day
DESCRIPTION:
URL:https://www.mandarinmoose42.com/event/family-game-day/2025-10-19/
CATEGORIES:Family Fun
ATTACH;FMTTYPE=image/jpeg:https://www.mandarinmoose42.com/wp-content/uploads/Game-Day.jpg
END:VEVENT
BEGIN:VEVENT
DTSTART;TZID=America/New_York:20251026T120000
DTEND;TZID=America/New_York:20251026T200000
DTSTAMP:20260425T144012
CREATED:20250610T143254Z
LAST-MODIFIED:20250610T143254Z
UID:10002327-1761480000-1761508800@www.mandarinmoose42.com
SUMMARY:Family Game Day
DESCRIPTION:
URL:https://www.mandarinmoose42.com/event/family-game-day/2025-10-26/
CATEGORIES:Family Fun
ATTACH;FMTTYPE=image/jpeg:https://www.mandarinmoose42.com/wp-content/uploads/Game-Day.jpg
END:VEVENT
END:VCALENDAR